{"text_format":"1","workbook":"xlsx","n_sheets":26,"sheets":["MAIN","LOGIN","LEAGUE RULES","COURSE & LEAGUE DETAILS","LEAGUE MEMBERSHIP","TEAM ROSTERS & SUB LIST","SCORECARD","SCHEDULE","SCHEDULE (2)","ARCHIVED HCPS","STANDINGS - 2017","POINTS - 2017","MATCH RESULTS - 2017","STANDINGS - 2016","POINTS - 2016","MATCH RESULTS - 2016","INDIVIDUAL SCORES","INDIVIDUAL SCORES DATA","SCORE ENTRY WORKSHEET","SCORES LOAD STATUS","MATCH HISTORY 1","MATCH HISTORY 2","SUB LIST","LOW SCORES TABLE","Sheet1","Sheet2"],"not_rendered":{"charts":2,"images":7,"macros":1,"external_links":0,"defined_names":22,"comments":0,"pivot_tables":0},"unopened":[],"bounds":{"document_bytes":16777216,"sheet_cells":100000,"rows_first":2000,"rows_last":500,"rows_between":2000,"halvings":0,"cell_chars":16384,"cell_head_chars":4096},"cells_cut":0,"cells_raw":0,"read":"whole","date_system":"1900"}

{"sheet":"MAIN","index":0,"n_rows":102,"n_cols":28,"rows_kept":102,"cut":false,"hidden":false,"merged":[[27,13,27,17],[31,5,31,11],[21,13,21,17],[7,13,7,17],[8,13,8,17],[7,5,7,11],[9,6,9,10],[20,13,20,17],[7,19,7,27],[9,20,9,21],[9,25,9,26],[10,20,10,21],[30,20,30,21],[28,20,28,21],[27,20,27,21],[26,20,26,21],[25,20,25,21],[24,20,24,21],[23,20,23,21],[22,20,22,21],[21,20,21,21],[20,20,20,21],[19,20,19,21],[18,20,18,21],[17,20,17,21],[16,20,16,21],[15,20,15,21],[14,20,14,21],[13,20,13,21],[12,20,12,21],[11,20,11,21],[45,20,45,21],[44,20,44,21],[43,20,43,21],[42,20,42,21],[41,20,41,21],[40,20,40,21],[39,20,39,21],[38,20,38,21],[37,20,37,21],[36,20,36,21],[35,20,35,21],[34,20,34,21],[33,20,33,21],[32,20,32,21],[27,25,27,26],[26,25,26,26],[25,25,25,26],[31,20,31,21],[39,25,39,26],[38,25,38,26],[37,25,37,26],[36,25,36,26],[35,25,35,26],[34,25,34,26],[33,25,33,26],[32,25,32,26],[31,25,31,26],[30,25,30,26],[28,25,28,26],[24,25,24,26],[23,25,23,26],[22,25,22,26],[21,25,21,26],[20,25,20,26],[19,25,19,26],[18,25,18,26],[17,25,17,26],[16,25,16,26],[15,25,15,26],[14,25,14,26],[13,25,13,26],[12,25,12,26],[11,25,11,26],[10,25,10,26],[40,25,40,26],[45,25,45,26],[44,25,44,26],[43,25,43,26],[42,25,42,26],[41,25,41,26]]}
[]
[]
[]
[]
[]
[]
[]
[null,null,null,null,null,{"$f":"IF(COUNTIF('SCORES LOAD STATUS'!$A:$A,$A$42)>0,\"Standings After Week of \"&TEXT(A41,\"mm/dd/yy\"),\"Final Standings\")","v":"Standings After Week of 08/23/17"},null,null,null,null,null,null,null,{"$f":"\"Match Results - Week of \"&TEXT(A41,\"mm/dd/yy\")","v":"Match Results - Week of 08/23/17"},null,null,null,null,null,{"$f":"\"Current Handicaps After Week of \"& TEXT(A41, \"mm/dd/yy\")","v":"Current Handicaps After Week of 08/23/17"}]
[]
[null,null,null,null,null,"Rank","Team",null,null,null,null,"Points",null,{"$f":"IF(HLOOKUP($A$41,'MATCH RESULTS - 2017'!$C$10:$AZ$28,2,FALSE)=\"\",\"\",HLOOKUP($A$41,'MATCH RESULTS - 2017'!$C$10:$AZ$28,2,FALSE))","v":"Gamache/Bouvier d. Pavone/Beliveau, 6.0 - 3.0"},null,null,null,null,null,"1A",{"$f":"IFERROR(VLOOKUP(T10,'LEAGUE MEMBERSHIP'!$B:$F,5,FALSE),\"\")","v":"John Normandin"},null,{"$f":"IFERROR(VLOOKUP(T10,'LEAGUE MEMBERSHIP'!$B:$G,6,FALSE),\"\")","v":18},null,"1B",{"$f":"IFERROR(VLOOKUP(Y10,'LEAGUE MEMBERSHIP'!$B:$F,5,FALSE),\"\")","v":"Pete Normandin"},null,{"$f":"IFERROR(VLOOKUP(Y10,'LEAGUE MEMBERSHIP'!$B:$G,6,FALSE),\"\")","v":17}]
[null,null,null,null,null,{"$f":"IF(SUM('POINTS - 2017'!$D$11:$D$50)>0,'STANDINGS - 2017'!D50,'STANDINGS - 2017'!D11)","v":1},{"$f":"IF(SUM('POINTS - 2017'!$D$11:$D$50)>0,'STANDINGS - 2017'!E50,'STANDINGS - 2017'!E11)","v":"Team 10"},{"$f":"IF(SUM('POINTS - 2017'!$D$11:$D$50)>0,'STANDINGS - 2017'!F50,'STANDINGS - 2017'!F11)","v":"- Ron Ekstrom / Beth Romano"},null,null,null,{"$f":"IF(SUM('POINTS - 2017'!$D$11:$D$50)>0,'STANDINGS - 2017'!J50,'STANDINGS - 2017'!J11)","v":44},null,{"$f":"IF(HLOOKUP($A$41,'MATCH RESULTS - 2017'!$C$10:$AZ$28,3,FALSE)=\"\",\"\",HLOOKUP($A$41,'MATCH RESULTS - 2017'!$C$10:$AZ$28,3,FALSE))","v":"Haskins/Conte d. Normandin/Normandin, 6.0 - 3.0"},null,null,null,null,null,"2A",{"$f":"IFERROR(VLOOKUP(T11,'LEAGUE MEMBERSHIP'!$B:$F,5,FALSE),\"\")","v":"Jono Normandin"},null,{"$f":"IFERROR(VLOOKUP(T11,'LEAGUE MEMBERSHIP'!$B:$G,6,FALSE),\"\")","v":7},null,"2B",{"$f":"IFERROR(VLOOKUP(Y11,'LEAGUE MEMBERSHIP'!$B:$F,5,FALSE),\"\")","v":"Nathan Wallace"},null,{"$f":"IFERROR(VLOOKUP(Y11,'LEAGUE MEMBERSHIP'!$B:$G,6,FALSE),\"\")","v":11}]
[null,null,null,null,null,{"$f":"IF(SUM('POINTS - 2017'!$D$11:$D$50)>0,'STANDINGS - 2017'!D51,'STANDINGS - 2017'!D12)","v":"2T"},{"$f":"IF(SUM('POINTS - 2017'!$D$11:$D$50)>0,'STANDINGS - 2017'!E51,'STANDINGS - 2017'!E12)","v":"Team 11"},{"$f":"IF(SUM('POINTS - 2017'!$D$11:$D$50)>0,'STANDINGS - 2017'!F51,'STANDINGS - 2017'!F12)","v":"- Jim Haskins / Anthony Conte"},null,null,null,{"$f":"IF(SUM('POINTS - 2017'!$D$11:$D$50)>0,'STANDINGS - 2017'!J51,'STANDINGS - 2017'!J12)","v":37},null,{"$f":"IF(HLOOKUP($A$41,'MATCH RESULTS - 2017'!$C$10:$AZ$28,4,FALSE)=\"\",\"\",HLOOKUP($A$41,'MATCH RESULTS - 2017'!$C$10:$AZ$28,4,FALSE))","v":"Fontaine/Romano III d. Lawrence/Benson, 7.5 - 1.5"},null,null,null,null,null,"3A",{"$f":"IFERROR(VLOOKUP(T12,'LEAGUE MEMBERSHIP'!$B:$F,5,FALSE),\"\")","v":"Pete Romano"},null,{"$f":"IFERROR(VLOOKUP(T12,'LEAGUE MEMBERSHIP'!$B:$G,6,FALSE),\"\")","v":17},null,"3B",{"$f":"IFERROR(VLOOKUP(Y12,'LEAGUE MEMBERSHIP'!$B:$F,5,FALSE),\"\")","v":"Don Frigoletto"},null,{"$f":"IFERROR(VLOOKUP(Y12,'LEAGUE MEMBERSHIP'!$B:$G,6,FALSE),\"\")","v":14}]
[null,null,null,null,null,{"$f":"IF(SUM('POINTS - 2017'!$D$11:$D$50)>0,'STANDINGS - 2017'!D52,'STANDINGS - 2017'!D13)","v":"2T"},{"$f":"IF(SUM('POINTS - 2017'!$D$11:$D$50)>0,'STANDINGS - 2017'!E52,'STANDINGS - 2017'!E13)","v":"Team 14"},{"$f":"IF(SUM('POINTS - 2017'!$D$11:$D$50)>0,'STANDINGS - 2017'!F52,'STANDINGS - 2017'!F13)","v":"- Paul Fontaine / Ralph Romano III"},null,null,null,{"$f":"IF(SUM('POINTS - 2017'!$D$11:$D$50)>0,'STANDINGS - 2017'!J52,'STANDINGS - 2017'!J13)","v":37},null,{"$f":"IF(HLOOKUP($A$41,'MATCH RESULTS - 2017'!$C$10:$AZ$28,5,FALSE)=\"\",\"\",HLOOKUP($A$41,'MATCH RESULTS - 2017'!$C$10:$AZ$28,5,FALSE))","v":"Leavenworth/Leavenworth d. Doane/Cassin, 7.5 - 1.5"},null,null,null,null,null,"4A",{"$f":"IFERROR(VLOOKUP(T13,'LEAGUE MEMBERSHIP'!$B:$F,5,FALSE),\"\")","v":"Peg Romano"},null,{"$f":"IFERROR(VLOOKUP(T13,'LEAGUE MEMBERSHIP'!$B:$G,6,FALSE),\"\")","v":13},null,"4B",{"$f":"IFERROR(VLOOKUP(Y13,'LEAGUE MEMBERSHIP'!$B:$F,5,FALSE),\"\")","v":"Lynn Laroche"},null,{"$f":"IFERROR(VLOOKUP(Y13,'LEAGUE MEMBERSHIP'!$B:$G,6,FALSE),\"\")","v":18}]
[null,null,null,null,null,{"$f":"IF(SUM('POINTS - 2017'!$D$11:$D$50)>0,'STANDINGS - 2017'!D53,'STANDINGS - 2017'!D14)","v":"4T"},{"$f":"IF(SUM('POINTS - 2017'!$D$11:$D$50)>0,'STANDINGS - 2017'!E53,'STANDINGS - 2017'!E14)","v":"Team 07"},{"$f":"IF(SUM('POINTS - 2017'!$D$11:$D$50)>0,'STANDINGS - 2017'!F53,'STANDINGS - 2017'!F14)","v":"- John Fairbanks / Debbie Fairbanks"},null,null,null,{"$f":"IF(SUM('POINTS - 2017'!$D$11:$D$50)>0,'STANDINGS - 2017'!J53,'STANDINGS - 2017'!J14)","v":36.5},null,{"$f":"IF(HLOOKUP($A$41,'MATCH RESULTS - 2017'!$C$10:$AZ$28,6,FALSE)=\"\",\"\",HLOOKUP($A$41,'MATCH RESULTS - 2017'!$C$10:$AZ$28,6,FALSE))","v":"Ekstrom/Romano d. O'Loughlin/Romano, 7.5 - 1.5"},null,null,null,null,null,"5A",{"$f":"IFERROR(VLOOKUP(T14,'LEAGUE MEMBERSHIP'!$B:$F,5,FALSE),\"\")","v":"Dennis Normandin"},null,{"$f":"IFERROR(VLOOKUP(T14,'LEAGUE MEMBERSHIP'!$B:$G,6,FALSE),\"\")","v":10},null,"5B",{"$f":"IFERROR(VLOOKUP(Y14,'LEAGUE MEMBERSHIP'!$B:$F,5,FALSE),\"\")","v":"Mark Normandin"},null,{"$f":"IFERROR(VLOOKUP(Y14,'LEAGUE MEMBERSHIP'!$B:$G,6,FALSE),\"\")","v":6}]
[null,null,null,null,null,{"$f":"IF(SUM('POINTS - 2017'!$D$11:$D$50)>0,'STANDINGS - 2017'!D54,'STANDINGS - 2017'!D15)","v":"4T"},{"$f":"IF(SUM('POINTS - 2017'!$D$11:$D$50)>0,'STANDINGS - 2017'!E54,'STANDINGS - 2017'!E15)","v":"Team 15"},{"$f":"IF(SUM('POINTS - 2017'!$D$11:$D$50)>0,'STANDINGS - 2017'!F54,'STANDINGS - 2017'!F15)","v":"- Gary Leavenworth / Patty Leavenworth"},null,null,null,{"$f":"IF(SUM('POINTS - 2017'!$D$11:$D$50)>0,'STANDINGS - 2017'!J54,'STANDINGS - 2017'!J15)","v":36.5},null,{"$f":"IF(HLOOKUP($A$41,'MATCH RESULTS - 2017'!$C$10:$AZ$28,7,FALSE)=\"\",\"\",HLOOKUP($A$41,'MATCH RESULTS - 2017'!$C$10:$AZ$28,7,FALSE))","v":"Normandin/Wallace d. Romano/Laroche, 6.0 - 3.0"},null,null,null,null,null,"6A",{"$f":"IFERROR(VLOOKUP(T15,'LEAGUE MEMBERSHIP'!$B:$F,5,FALSE),\"\")","v":"Vance Butterfield"},null,{"$f":"IFERROR(VLOOKUP(T15,'LEAGUE MEMBERSHIP'!$B:$G,6,FALSE),\"\")","v":6},null,"6B",{"$f":"IFERROR(VLOOKUP(Y15,'LEAGUE MEMBERSHIP'!$B:$F,5,FALSE),\"\")","v":"Bob Schleyer"},null,{"$f":"IFERROR(VLOOKUP(Y15,'LEAGUE MEMBERSHIP'!$B:$G,6,FALSE),\"\")","v":8}]
[null,null,null,null,null,{"$f":"IF(SUM('POINTS - 2017'!$D$11:$D$50)>0,'STANDINGS - 2017'!D55,'STANDINGS - 2017'!D16)","v":"6T"},{"$f":"IF(SUM('POINTS - 2017'!$D$11:$D$50)>0,'STANDINGS - 2017'!E55,'STANDINGS - 2017'!E16)","v":"Team 08"},{"$f":"IF(SUM('POINTS - 2017'!$D$11:$D$50)>0,'STANDINGS - 2017'!F55,'STANDINGS - 2017'!F16)","v":"- Steve Lawrence / Mike Benson"},null,null,null,{"$f":"IF(SUM('POINTS - 2017'!$D$11:$D$50)>0,'STANDINGS - 2017'!J55,'STANDINGS - 2017'!J16)","v":32},null,{"$f":"IF(HLOOKUP($A$41,'MATCH RESULTS - 2017'!$C$10:$AZ$28,8,FALSE)=\"\",\"\",HLOOKUP($A$41,'MATCH RESULTS - 2017'!$C$10:$AZ$28,8,FALSE))","v":"Fairbanks/Fairbanks d. Hurley/Drake, 6.5 - 2.5"},null,null,null,null,null,"7A",{"$f":"IFERROR(VLOOKUP(T16,'LEAGUE MEMBERSHIP'!$B:$F,5,FALSE),\"\")","v":"John Fairbanks"},null,{"$f":"IFERROR(VLOOKUP(T16,'LEAGUE MEMBERSHIP'!$B:$G,6,FALSE),\"\")","v":8},null,"7B",{"$f":"IFERROR(VLOOKUP(Y16,'LEAGUE MEMBERSHIP'!$B:$F,5,FALSE),\"\")","v":"Debbie Fairbanks"},null,{"$f":"IFERROR(VLOOKUP(Y16,'LEAGUE MEMBERSHIP'!$B:$G,6,FALSE),\"\")","v":14}]
[null,null,null,null,null,{"$f":"IF(SUM('POINTS - 2017'!$D$11:$D$50)>0,'STANDINGS - 2017'!D56,'STANDINGS - 2017'!D17)","v":"6T"},{"$f":"IF(SUM('POINTS - 2017'!$D$11:$D$50)>0,'STANDINGS - 2017'!E56,'STANDINGS - 2017'!E17)","v":"Team 13"},{"$f":"IF(SUM('POINTS - 2017'!$D$11:$D$50)>0,'STANDINGS - 2017'!F56,'STANDINGS - 2017'!F17)","v":"- Tim Hurley / Walter Drake"},null,null,null,{"$f":"IF(SUM('POINTS - 2017'!$D$11:$D$50)>0,'STANDINGS - 2017'!J56,'STANDINGS - 2017'!J17)","v":32},null,{"$f":"IF(HLOOKUP($A$41,'MATCH RESULTS - 2017'!$C$10:$AZ$28,9,FALSE)=\"\",\"\",HLOOKUP($A$41,'MATCH RESULTS - 2017'!$C$10:$AZ$28,9,FALSE))","v":"Normandin/Normandin d. Romano/Frigoletto, 5.5 - 3.5"},null,null,null,null,null,"8A",{"$f":"IFERROR(VLOOKUP(T17,'LEAGUE MEMBERSHIP'!$B:$F,5,FALSE),\"\")","v":"Steve Lawrence"},null,{"$f":"IFERROR(VLOOKUP(T17,'LEAGUE MEMBERSHIP'!$B:$G,6,FALSE),\"\")","v":5},null,"8B",{"$f":"IFERROR(VLOOKUP(Y17,'LEAGUE MEMBERSHIP'!$B:$F,5,FALSE),\"\")","v":"Mike Benson"},null,{"$f":"IFERROR(VLOOKUP(Y17,'LEAGUE MEMBERSHIP'!$B:$G,6,FALSE),\"\")","v":17}]
[null,null,null,null,null,{"$f":"IF(SUM('POINTS - 2017'!$D$11:$D$50)>0,'STANDINGS - 2017'!D57,'STANDINGS - 2017'!D18)","v":"6T"},{"$f":"IF(SUM('POINTS - 2017'!$D$11:$D$50)>0,'STANDINGS - 2017'!E57,'STANDINGS - 2017'!E18)","v":"Team 20"},{"$f":"IF(SUM('POINTS - 2017'!$D$11:$D$50)>0,'STANDINGS - 2017'!F57,'STANDINGS - 2017'!F18)","v":"- Sheila Sundstrom / Ray Hoy"},null,null,null,{"$f":"IF(SUM('POINTS - 2017'!$D$11:$D$50)>0,'STANDINGS - 2017'!J57,'STANDINGS - 2017'!J18)","v":32},null,{"$f":"IF(HLOOKUP($A$41,'MATCH RESULTS - 2017'!$C$10:$AZ$28,10,FALSE)=\"\",\"\",HLOOKUP($A$41,'MATCH RESULTS - 2017'!$C$10:$AZ$28,10,FALSE))","v":"Sundstrom/Hoy d. Ekstrom/Dauphinais, 5.5 - 3.5"},null,null,null,null,null,"9A",{"$f":"IFERROR(VLOOKUP(T18,'LEAGUE MEMBERSHIP'!$B:$F,5,FALSE),\"\")","v":"Mike Doane"},null,{"$f":"IFERROR(VLOOKUP(T18,'LEAGUE MEMBERSHIP'!$B:$G,6,FALSE),\"\")","v":16},null,"9B",{"$f":"IFERROR(VLOOKUP(Y18,'LEAGUE MEMBERSHIP'!$B:$F,5,FALSE),\"\")","v":"John Cassin"},null,{"$f":"IFERROR(VLOOKUP(Y18,'LEAGUE MEMBERSHIP'!$B:$G,6,FALSE),\"\")","v":10}]
[null,null,null,null,null,{"$f":"IF(SUM('POINTS - 2017'!$D$11:$D$50)>0,'STANDINGS - 2017'!D58,'STANDINGS - 2017'!D19)","v":9},{"$f":"IF(SUM('POINTS - 2017'!$D$11:$D$50)>0,'STANDINGS - 2017'!E58,'STANDINGS - 2017'!E19)","v":"Team 06"},{"$f":"IF(SUM('POINTS - 2017'!$D$11:$D$50)>0,'STANDINGS - 2017'!F58,'STANDINGS - 2017'!F19)","v":"- Vance Butterfield / Bob Schleyer"},null,null,null,{"$f":"IF(SUM('POINTS - 2017'!$D$11:$D$50)>0,'STANDINGS - 2017'!J58,'STANDINGS - 2017'!J19)","v":31.5},null,{"$f":"IF(HLOOKUP($A$41,'MATCH RESULTS - 2017'!$C$10:$AZ$28,11,FALSE)=\"\",\"\",HLOOKUP($A$41,'MATCH RESULTS - 2017'!$C$10:$AZ$28,11,FALSE))","v":"Butterfield/Schleyer d. Ciufetti/Nivala, 5.0 - 0.0"},null,null,null,null,null,"10A",{"$f":"IFERROR(VLOOKUP(T19,'LEAGUE MEMBERSHIP'!$B:$F,5,FALSE),\"\")","v":"Ron Ekstrom"},null,{"$f":"IFERROR(VLOOKUP(T19,'LEAGUE MEMBERSHIP'!$B:$G,6,FALSE),\"\")","v":1},null,"10B",{"$f":"IFERROR(VLOOKUP(Y19,'LEAGUE MEMBERSHIP'!$B:$F,5,FALSE),\"\")","v":"Beth Romano"},null,{"$f":"IFERROR(VLOOKUP(Y19,'LEAGUE MEMBERSHIP'!$B:$G,6,FALSE),\"\")","v":10}]
[null,null,null,null,null,{"$f":"IF(SUM('POINTS - 2017'!$D$11:$D$50)>0,'STANDINGS - 2017'!D59,'STANDINGS - 2017'!D20)","v":"10T"},{"$f":"IF(SUM('POINTS - 2017'!$D$11:$D$50)>0,'STANDINGS - 2017'!E59,'STANDINGS - 2017'!E20)","v":"Team 03"},{"$f":"IF(SUM('POINTS - 2017'!$D$11:$D$50)>0,'STANDINGS - 2017'!F59,'STANDINGS - 2017'!F20)","v":"- Pete Romano / Don Frigoletto"},null,null,null,{"$f":"IF(SUM('POINTS - 2017'!$D$11:$D$50)>0,'STANDINGS - 2017'!J59,'STANDINGS - 2017'!J20)","v":31},null,null,null,null,null,null,null,"11A",{"$f":"IFERROR(VLOOKUP(T20,'LEAGUE MEMBERSHIP'!$B:$F,5,FALSE),\"\")","v":"Jim Haskins"},null,{"$f":"IFERROR(VLOOKUP(T20,'LEAGUE MEMBERSHIP'!$B:$G,6,FALSE),\"\")","v":9},null,"11B",{"$f":"IFERROR(VLOOKUP(Y20,'LEAGUE MEMBERSHIP'!$B:$F,5,FALSE),\"\")","v":"Anthony Conte"},null,{"$f":"IFERROR(VLOOKUP(Y20,'LEAGUE MEMBERSHIP'!$B:$G,6,FALSE),\"\")","v":13}]
[null,null,null,null,null,{"$f":"IF(SUM('POINTS - 2017'!$D$11:$D$50)>0,'STANDINGS - 2017'!D60,'STANDINGS - 2017'!D21)","v":"10T"},{"$f":"IF(SUM('POINTS - 2017'!$D$11:$D$50)>0,'STANDINGS - 2017'!E60,'STANDINGS - 2017'!E21)","v":"Team 05"},{"$f":"IF(SUM('POINTS - 2017'!$D$11:$D$50)>0,'STANDINGS - 2017'!F60,'STANDINGS - 2017'!F21)","v":"- Dennis Normandin / Mark Normandin"},null,null,null,{"$f":"IF(SUM('POINTS - 2017'!$D$11:$D$50)>0,'STANDINGS - 2017'!J60,'STANDINGS - 2017'!J21)","v":31},null,{"$f":"\"Five Lowest Rounds - Week of \"&TEXT(A41,\"mm/dd/yy\")","v":"Five Lowest Rounds - Week of 08/23/17"},null,null,null,null,null,"12A",{"$f":"IFERROR(VLOOKUP(T21,'LEAGUE MEMBERSHIP'!$B:$F,5,FALSE),\"\")","v":"Sal Ciufetti"},null,{"$f":"IFERROR(VLOOKUP(T21,'LEAGUE MEMBERSHIP'!$B:$G,6,FALSE),\"\")","v":12},null,"12B",{"$f":"IFERROR(VLOOKUP(Y21,'LEAGUE MEMBERSHIP'!$B:$F,5,FALSE),\"\")","v":"Kevin Nivala"},null,{"$f":"IFERROR(VLOOKUP(Y21,'LEAGUE MEMBERSHIP'!$B:$G,6,FALSE),\"\")","v":10}]
[null,null,null,null,null,{"$f":"IF(SUM('POINTS - 2017'!$D$11:$D$50)>0,'STANDINGS - 2017'!D61,'STANDINGS - 2017'!D22)","v":12},{"$f":"IF(SUM('POINTS - 2017'!$D$11:$D$50)>0,'STANDINGS - 2017'!E61,'STANDINGS - 2017'!E22)","v":"Team 17"},{"$f":"IF(SUM('POINTS - 2017'!$D$11:$D$50)>0,'STANDINGS - 2017'!F61,'STANDINGS - 2017'!F22)","v":"- Carol Ekstrom / Mike Dauphinais"},null,null,null,{"$f":"IF(SUM('POINTS - 2017'!$D$11:$D$50)>0,'STANDINGS - 2017'!J61,'STANDINGS - 2017'!J22)","v":28.5},null,"      Women",null,null,null,null,null,"13A",{"$f":"IFERROR(VLOOKUP(T22,'LEAGUE MEMBERSHIP'!$B:$F,5,FALSE),\"\")","v":"Tim Hurley"},null,{"$f":"IFERROR(VLOOKUP(T22,'LEAGUE MEMBERSHIP'!$B:$G,6,FALSE),\"\")","v":8},null,"13B",{"$f":"IFERROR(VLOOKUP(Y22,'LEAGUE MEMBERSHIP'!$B:$F,5,FALSE),\"\")","v":"Walter Drake"},null,{"$f":"IFERROR(VLOOKUP(Y22,'LEAGUE MEMBERSHIP'!$B:$G,6,FALSE),\"\")","v":15}]
[null,null,null,null,null,{"$f":"IF(SUM('POINTS - 2017'!$D$11:$D$50)>0,'STANDINGS - 2017'!D62,'STANDINGS - 2017'!D23)","v":13},{"$f":"IF(SUM('POINTS - 2017'!$D$11:$D$50)>0,'STANDINGS - 2017'!E62,'STANDINGS - 2017'!E23)","v":"Team 02"},{"$f":"IF(SUM('POINTS - 2017'!$D$11:$D$50)>0,'STANDINGS - 2017'!F62,'STANDINGS - 2017'!F23)","v":"- Jono Normandin / Nathan Wallace"},null,null,null,{"$f":"IF(SUM('POINTS - 2017'!$D$11:$D$50)>0,'STANDINGS - 2017'!J62,'STANDINGS - 2017'!J23)","v":28},null,"Patty Leavenworth - 42",null,null,null,null,null,"14A",{"$f":"IFERROR(VLOOKUP(T23,'LEAGUE MEMBERSHIP'!$B:$F,5,FALSE),\"\")","v":"Paul Fontaine"},null,{"$f":"IFERROR(VLOOKUP(T23,'LEAGUE MEMBERSHIP'!$B:$G,6,FALSE),\"\")","v":3},null,"14B",{"$f":"IFERROR(VLOOKUP(Y23,'LEAGUE MEMBERSHIP'!$B:$F,5,FALSE),\"\")","v":"Ralph Romano III"},null,{"$f":"IFERROR(VLOOKUP(Y23,'LEAGUE MEMBERSHIP'!$B:$G,6,FALSE),\"\")","v":8}]
[null,null,null,null,null,{"$f":"IF(SUM('POINTS - 2017'!$D$11:$D$50)>0,'STANDINGS - 2017'!D63,'STANDINGS - 2017'!D24)","v":"14T"},{"$f":"IF(SUM('POINTS - 2017'!$D$11:$D$50)>0,'STANDINGS - 2017'!E63,'STANDINGS - 2017'!E24)","v":"Team 01"},{"$f":"IF(SUM('POINTS - 2017'!$D$11:$D$50)>0,'STANDINGS - 2017'!F63,'STANDINGS - 2017'!F24)","v":"- John Normandin / Pete Normandin"},null,null,null,{"$f":"IF(SUM('POINTS - 2017'!$D$11:$D$50)>0,'STANDINGS - 2017'!J63,'STANDINGS - 2017'!J24)","v":27.5},null,"Beth Romano - 46",null,null,null,null,null,"15A",{"$f":"IFERROR(VLOOKUP(T24,'LEAGUE MEMBERSHIP'!$B:$F,5,FALSE),\"\")","v":"Gary Leavenworth"},null,{"$f":"IFERROR(VLOOKUP(T24,'LEAGUE MEMBERSHIP'!$B:$G,6,FALSE),\"\")","v":5},null,"15B",{"$f":"IFERROR(VLOOKUP(Y24,'LEAGUE MEMBERSHIP'!$B:$F,5,FALSE),\"\")","v":"Patty Leavenworth"},null,{"$f":"IFERROR(VLOOKUP(Y24,'LEAGUE MEMBERSHIP'!$B:$G,6,FALSE),\"\")","v":8}]
[null,null,null,null,null,{"$f":"IF(SUM('POINTS - 2017'!$D$11:$D$50)>0,'STANDINGS - 2017'!D64,'STANDINGS - 2017'!D25)","v":"14T"},{"$f":"IF(SUM('POINTS - 2017'!$D$11:$D$50)>0,'STANDINGS - 2017'!E64,'STANDINGS - 2017'!E25)","v":"Team 16"},{"$f":"IF(SUM('POINTS - 2017'!$D$11:$D$50)>0,'STANDINGS - 2017'!F64,'STANDINGS - 2017'!F25)","v":"- Kevin O'Loughlin / Mike Romano"},null,null,null,{"$f":"IF(SUM('POINTS - 2017'!$D$11:$D$50)>0,'STANDINGS - 2017'!J64,'STANDINGS - 2017'!J25)","v":27.5},null,"Sheila Sundstrom - 48",null,null,null,null,null,"16A",{"$f":"IFERROR(VLOOKUP(T25,'LEAGUE MEMBERSHIP'!$B:$F,5,FALSE),\"\")","v":"Kevin O'Loughlin"},null,{"$f":"IFERROR(VLOOKUP(T25,'LEAGUE MEMBERSHIP'!$B:$G,6,FALSE),\"\")","v":18},null,"16B",{"$f":"IFERROR(VLOOKUP(Y25,'LEAGUE MEMBERSHIP'!$B:$F,5,FALSE),\"\")","v":"Mike Romano"},null,{"$f":"IFERROR(VLOOKUP(Y25,'LEAGUE MEMBERSHIP'!$B:$G,6,FALSE),\"\")","v":13}]
[null,null,null,null,null,{"$f":"IF(SUM('POINTS - 2017'!$D$11:$D$50)>0,'STANDINGS - 2017'!D65,'STANDINGS - 2017'!D26)","v":"16T"},{"$f":"IF(SUM('POINTS - 2017'!$D$11:$D$50)>0,'STANDINGS - 2017'!E65,'STANDINGS - 2017'!E26)","v":"Team 09"},{"$f":"IF(SUM('POINTS - 2017'!$D$11:$D$50)>0,'STANDINGS - 2017'!F65,'STANDINGS - 2017'!F26)","v":"- Mike Doane / John Cassin"},null,null,null,{"$f":"IF(SUM('POINTS - 2017'!$D$11:$D$50)>0,'STANDINGS - 2017'!J65,'STANDINGS - 2017'!J26)","v":26.5},null,"Debbie Fairbanks - 50",null,null,null,null,null,"17A",{"$f":"IFERROR(VLOOKUP(T26,'LEAGUE MEMBERSHIP'!$B:$F,5,FALSE),\"\")","v":"Carol Ekstrom"},null,{"$f":"IFERROR(VLOOKUP(T26,'LEAGUE MEMBERSHIP'!$B:$G,6,FALSE),\"\")","v":14},null,"17B",{"$f":"IFERROR(VLOOKUP(Y26,'LEAGUE MEMBERSHIP'!$B:$F,5,FALSE),\"\")","v":"Mike Dauphinais"},null,{"$f":"IFERROR(VLOOKUP(Y26,'LEAGUE MEMBERSHIP'!$B:$G,6,FALSE),\"\")","v":9}]
[null,null,null,null,null,{"$f":"IF(SUM('POINTS - 2017'!$D$11:$D$50)>0,'STANDINGS - 2017'!D66,'STANDINGS - 2017'!D27)","v":"16T"},{"$f":"IF(SUM('POINTS - 2017'!$D$11:$D$50)>0,'STANDINGS - 2017'!E66,'STANDINGS - 2017'!E27)","v":"Team 19"},{"$f":"IF(SUM('POINTS - 2017'!$D$11:$D$50)>0,'STANDINGS - 2017'!F66,'STANDINGS - 2017'!F27)","v":"- John Pavone / Ernie Beliveau"},null,null,null,{"$f":"IF(SUM('POINTS - 2017'!$D$11:$D$50)>0,'STANDINGS - 2017'!J66,'STANDINGS - 2017'!J27)","v":26.5},null,"Peg Romano - 53",null,null,null,null,null,"18A",{"$f":"IFERROR(VLOOKUP(T27,'LEAGUE MEMBERSHIP'!$B:$F,5,FALSE),\"\")","v":"Norm Gamache"},null,{"$f":"IFERROR(VLOOKUP(T27,'LEAGUE MEMBERSHIP'!$B:$G,6,FALSE),\"\")","v":11},null,"18B",{"$f":"IFERROR(VLOOKUP(Y27,'LEAGUE MEMBERSHIP'!$B:$F,5,FALSE),\"\")","v":"Michelle Bouvier"},null,{"$f":"IFERROR(VLOOKUP(Y27,'LEAGUE MEMBERSHIP'!$B:$G,6,FALSE),\"\")","v":23}]
[null,null,null,null,null,{"$f":"IF(SUM('POINTS - 2017'!$D$11:$D$50)>0,'STANDINGS - 2017'!D67,'STANDINGS - 2017'!D28)","v":18},{"$f":"IF(SUM('POINTS - 2017'!$D$11:$D$50)>0,'STANDINGS - 2017'!E67,'STANDINGS - 2017'!E28)","v":"Team 04"},{"$f":"IF(SUM('POINTS - 2017'!$D$11:$D$50)>0,'STANDINGS - 2017'!F67,'STANDINGS - 2017'!F28)","v":"- Peg Romano / Lynn Laroche"},null,null,null,{"$f":"IF(SUM('POINTS - 2017'!$D$11:$D$50)>0,'STANDINGS - 2017'!J67,'STANDINGS - 2017'!J28)","v":26},null,"    Men",null,null,null,null,null,"19A",{"$f":"IFERROR(VLOOKUP(T28,'LEAGUE MEMBERSHIP'!$B:$F,5,FALSE),\"\")","v":"John Pavone"},null,{"$f":"IFERROR(VLOOKUP(T28,'LEAGUE MEMBERSHIP'!$B:$G,6,FALSE),\"\")","v":15},null,"19B",{"$f":"IFERROR(VLOOKUP(Y28,'LEAGUE MEMBERSHIP'!$B:$F,5,FALSE),\"\")","v":"Ernie Beliveau"},null,{"$f":"IFERROR(VLOOKUP(Y28,'LEAGUE MEMBERSHIP'!$B:$G,6,FALSE),\"\")","v":18}]
[null,null,null,null,null,{"$f":"IF(SUM('POINTS - 2017'!$D$11:$D$50)>0,'STANDINGS - 2017'!D68,'STANDINGS - 2017'!D29)","v":19},{"$f":"IF(SUM('POINTS - 2017'!$D$11:$D$50)>0,'STANDINGS - 2017'!E68,'STANDINGS - 2017'!E29)","v":"Team 18"},{"$f":"IF(SUM('POINTS - 2017'!$D$11:$D$50)>0,'STANDINGS - 2017'!F68,'STANDINGS - 2017'!F29)","v":"- Norm Gamache / Michelle Bouvier"},null,null,null,{"$f":"IF(SUM('POINTS - 2017'!$D$11:$D$50)>0,'STANDINGS - 2017'!J68,'STANDINGS - 2017'!J29)","v":24.5},null,"Paul Fontaine - 35",null,null,null,null,null,"20A",{"$f":"IFERROR(VLOOKUP(T29,'LEAGUE MEMBERSHIP'!$B:$F,5,FALSE),\"\")","v":"Sheila Sundstrom"},null,{"$f":"IFERROR(VLOOKUP(T29,'LEAGUE MEMBERSHIP'!$B:$G,6,FALSE),\"\")","v":13},null,"20B",{"$f":"IFERROR(VLOOKUP(Y29,'LEAGUE MEMBERSHIP'!$B:$F,5,FALSE),\"\")","v":"Ray Hoy"},null,{"$f":"IFERROR(VLOOKUP(Y29,'LEAGUE MEMBERSHIP'!$B:$G,6,FALSE),\"\")","v":10}]
[null,null,null,null,null,{"$f":"IF(SUM('POINTS - 2017'!$D$11:$D$50)>0,'STANDINGS - 2017'!D69,'STANDINGS - 2017'!D30)","v":20},{"$f":"IF(SUM('POINTS - 2017'!$D$11:$D$50)>0,'STANDINGS - 2017'!E69,'STANDINGS - 2017'!E30)","v":"Team 12"},{"$f":"IF(SUM('POINTS - 2017'!$D$11:$D$50)>0,'STANDINGS - 2017'!F69,'STANDINGS - 2017'!F30)","v":"- Sal Ciufetti / Kevin Nivala"},null,null,null,{"$f":"IF(SUM('POINTS - 2017'!$D$11:$D$50)>0,'STANDINGS - 2017'!J69,'STANDINGS - 2017'!J30)","v":13},null,"Gary Leavenworth - 39",null,null,null,null,null,null,null,null,null,null,null,null,null,{"$f":"IFERROR(VLOOKUP(Y30,'LEAGUE MEMBERSHIP'!$B:$G,6,FALSE),\"\")","v":""}]
[null,null,null,null,null,null,null,null,null,null,null,null,null,"Ron Ekstrom - 41",null,null,null,null,null,null,{"$f":"IFERROR(VLOOKUP(T31,'LEAGUE MEMBERSHIP'!$B:$F,5,FALSE),\"\")","v":""},null,{"$f":"IFERROR(VLOOKUP(T31,'LEAGUE MEMBERSHIP'!$B:$G,6,FALSE),\"\")","v":""},null,null,{"$f":"IFERROR(VLOOKUP(Y31,'LEAGUE MEMBERSHIP'!$B:$F,5,FALSE),\"\")","v":""},null,{"$f":"IFERROR(VLOOKUP(Y31,'LEAGUE MEMBERSHIP'!$B:$G,6,FALSE),\"\")","v":""}]
[null,null,null,null,null,{"$f":"\"Closest to the Pin - Week of \"&TEXT(A41,\"mm/dd/yy\")","v":"Closest to the Pin - Week of 08/23/17"},null,null,null,null,null,null,null,"Jono Normandin - 43",null,null,null,null,null,"Sub1",{"$f":"IFERROR(VLOOKUP(T32,'LEAGUE MEMBERSHIP'!$B:$F,5,FALSE),\"\")","v":"P.J. Romano"},null,{"$f":"IFERROR(VLOOKUP(T32,'LEAGUE MEMBERSHIP'!$B:$G,6,FALSE),\"\")","v":12},null,"Sub16",{"$f":"IFERROR(VLOOKUP(Y32,'LEAGUE MEMBERSHIP'!$B:$F,5,FALSE),\"\")","v":"Becky Bartkus"},null,{"$f":"IFERROR(VLOOKUP(Y32,'LEAGUE MEMBERSHIP'!$B:$G,6,FALSE),\"\")","v":9}]
[null,null,null,null,null,"Sub17 - Dave Cormier   -   22' 1-3/4\"",null,null,null,null,null,null,null,"Bob Schleyer - 43",null,null,null,null,null,"Sub2",{"$f":"IFERROR(VLOOKUP(T33,'LEAGUE MEMBERSHIP'!$B:$F,5,FALSE),\"\")","v":"PJ Fontaine"},null,{"$f":"IFERROR(VLOOKUP(T33,'LEAGUE MEMBERSHIP'!$B:$G,6,FALSE),\"\")","v":1},null,"Sub17",{"$f":"IFERROR(VLOOKUP(Y33,'LEAGUE MEMBERSHIP'!$B:$F,5,FALSE),\"\")","v":"Dave Cormier"},null,{"$f":"IFERROR(VLOOKUP(Y33,'LEAGUE MEMBERSHIP'!$B:$G,6,FALSE),\"\")","v":7}]
[null,null,null,null,null,null,null,null,null,null,null,null,null,null,null,null,null,null,null,"Sub3",{"$f":"IFERROR(VLOOKUP(T34,'LEAGUE MEMBERSHIP'!$B:$F,5,FALSE),\"\")","v":"Jim Hedlund"},null,{"$f":"IFERROR(VLOOKUP(T34,'LEAGUE MEMBERSHIP'!$B:$G,6,FALSE),\"\")","v":16},null,"Sub18",{"$f":"IFERROR(VLOOKUP(Y34,'LEAGUE MEMBERSHIP'!$B:$F,5,FALSE),\"\")","v":"Doug Cormier"},null,{"$f":"IFERROR(VLOOKUP(Y34,'LEAGUE MEMBERSHIP'!$B:$G,6,FALSE),\"\")","v":8}]
[null,null,null,null,null,null,null,null,null,null,null,{"$f":"IF(COUNTIF('SCORES LOAD STATUS'!$A:$A,$A$42)>0,\"    Schedule - Week of \" & TEXT($A$42, \"mm/dd/yy\"),\"Season's Over\")","v":"    Schedule - Week of 08/30/17"},null,null,null,null,null,null,null,"Sub4",{"$f":"IFERROR(VLOOKUP(T35,'LEAGUE MEMBERSHIP'!$B:$F,5,FALSE),\"\")","v":"Don Shank"},null,{"$f":"IFERROR(VLOOKUP(T35,'LEAGUE MEMBERSHIP'!$B:$G,6,FALSE),\"\")","v":4},null,"Sub19",{"$f":"IFERROR(VLOOKUP(Y35,'LEAGUE MEMBERSHIP'!$B:$F,5,FALSE),\"\")","v":"Ed Robbins"},null,{"$f":"IFERROR(VLOOKUP(Y35,'LEAGUE MEMBERSHIP'!$B:$G,6,FALSE),\"\")","v":1}]
[null,null,null,null,null,"Tee Time",null,null,null,null,null,"Teams",null,null,null,null,null,null,null,"Sub5",{"$f":"IFERROR(VLOOKUP(T36,'LEAGUE MEMBERSHIP'!$B:$F,5,FALSE),\"\")","v":"Tom Farias"},null,{"$f":"IFERROR(VLOOKUP(T36,'LEAGUE MEMBERSHIP'!$B:$G,6,FALSE),\"\")","v":6},null,"Sub20",{"$f":"IFERROR(VLOOKUP(Y36,'LEAGUE MEMBERSHIP'!$B:$F,5,FALSE),\"\")","v":"Mark Louney"},null,{"$f":"IFERROR(VLOOKUP(Y36,'LEAGUE MEMBERSHIP'!$B:$G,6,FALSE),\"\")","v":10}]
[null,{"$f":"IFERROR(IF(HLOOKUP($A$42,'SCORES LOAD STATUS'!$A$1:$AK$21,4,FALSE)=\"\",\"\",HLOOKUP($A$42,'SCORES LOAD STATUS'!$A$1:$AK$21,4,FALSE)),\"\")","v":"17 v 4"},{"$f":"IFERROR(IF(FIND(\" v \",$B37)=3,LEFT($B37,2),LEFT($B37,1)),\"\")","v":"17"},{"$f":"IFERROR(IF(LEFT(RIGHT($B37,2),1)<>\" \",RIGHT($B37,2),RIGHT($B37,1)),\"\")","v":"4"},{"$f":"IFERROR(IF(LEN(RIGHT(C37,LEN(C37)-FIND(\"v \",C37)-1))=1,\"0\"&RIGHT(C37,LEN(C37)-FIND(\"v \",C37)-1),RIGHT(C37,LEN(C37)-FIND(\"v \",C37)-1)),\"\")","v":""},{"$f":"'SCORES LOAD STATUS'!$A4","v":"4:00 PM"},{"$f":"IF(C37<>\"\",\"Team \"&C37,\"\")","v":"Team 17"},{"$f":"IFERROR(\"- \"&VLOOKUP(C37&\"A\",'LEAGUE MEMBERSHIP'!B:G,5,FALSE)&\" (\"&VLOOKUP(C37&\"A\",'LEAGUE MEMBERSHIP'!B:G,6,FALSE)&\") / \"&VLOOKUP(C37&\"B\",'LEAGUE MEMBERSHIP'!B:G,5,FALSE)&\" (\"&VLOOKUP(C37&\"B\",'LEAGUE MEMBERSHIP'!B:G,6,FALSE)&\")\",\"\")","v":"- Carol Ekstrom (14) / Mike Dauphinais (9)"},null,null,null,{"$f":"\"vs.\"","v":"vs."},{"$f":"IFERROR(\"Team \"&D37&IF(LEN(D37) = 1,\"   - \",\"  - \")&VLOOKUP(D37&\"A\",'LEAGUE MEMBERSHIP'!B:G,5,FALSE)&\" (\"&VLOOKUP(D37&\"A\",'LEAGUE MEMBERSHIP'!B:G,6,FALSE)&\") / \"&VLOOKUP(D37&\"B\",'LEAGUE MEMBERSHIP'!B:G,5,FALSE)&\" (\"&VLOOKUP(D37&\"B\",'LEAGUE MEMBERSHIP'!B:G,6,FALSE)&\")\",\"\")","v":"Team 4   - Peg Romano (13) / Lynn Laroche (18)"},null,null,null,null,null,null,"Sub6",{"$f":"IFERROR(VLOOKUP(T37,'LEAGUE MEMBERSHIP'!$B:$F,5,FALSE),\"\")","v":"Joe Pearson"},null,{"$f":"IFERROR(VLOOKUP(T37,'LEAGUE MEMBERSHIP'!$B:$G,6,FALSE),\"\")","v":12},null,"Sub21",{"$f":"IFERROR(VLOOKUP(Y37,'LEAGUE MEMBERSHIP'!$B:$F,5,FALSE),\"\")","v":"Paul Stedman"},null,{"$f":"IFERROR(VLOOKUP(Y37,'LEAGUE MEMBERSHIP'!$B:$G,6,FALSE),\"\")","v":4}]
[null,{"$f":"IFERROR(IF(HLOOKUP($A$42,'SCORES LOAD STATUS'!$A$1:$AK$21,5,FALSE)=\"\",\"\",HLOOKUP($A$42,'SCORES LOAD STATUS'!$A$1:$AK$21,5,FALSE)),\"\")","v":"1 v 9"},"1",{"$f":"IFERROR(IF(LEFT(RIGHT($B38,2),1)<>\" \",RIGHT($B38,2),RIGHT($B38,1)),\"\")","v":"9"},null,{"$f":"'SCORES LOAD STATUS'!$A5","v":"4:08 PM"},{"$f":"IF(C38<>\"\",\"Team \"&C38,\"\")","v":"Team 1"},{"$f":"IFERROR(\"- \"&VLOOKUP(C38&\"A\",'LEAGUE MEMBERSHIP'!B:G,5,FALSE)&\" (\"&VLOOKUP(C38&\"A\",'LEAGUE MEMBERSHIP'!B:G,6,FALSE)&\") / \"&VLOOKUP(C38&\"B\",'LEAGUE MEMBERSHIP'!B:G,5,FALSE)&\" (\"&VLOOKUP(C38&\"B\",'LEAGUE MEMBERSHIP'!B:G,6,FALSE)&\")\",\"\")","v":"- John Normandin (18) / Pete Normandin (17)"},null,null,null,{"$f":"\"vs.\"","v":"vs."},{"$f":"IFERROR(\"Team \"&D38&IF(LEN(D38) = 1,\"    - \",\"  - \")&VLOOKUP(D38&\"A\",'LEAGUE MEMBERSHIP'!B:G,5,FALSE)&\" (\"&VLOOKUP(D38&\"A\",'LEAGUE MEMBERSHIP'!B:G,6,FALSE)&\") / \"&VLOOKUP(D38&\"B\",'LEAGUE MEMBERSHIP'!B:G,5,FALSE)&\" (\"&VLOOKUP(D38&\"B\",'LEAGUE MEMBERSHIP'!B:G,6,FALSE)&\")\",\"\")","v":"Team 9    - Mike Doane (16) / John Cassin (10)"},null,null,null,null,null,null,"Sub7",{"$f":"IFERROR(VLOOKUP(T38,'LEAGUE MEMBERSHIP'!$B:$F,5,FALSE),\"\")","v":"Dennis St. Jean"},null,{"$f":"IFERROR(VLOOKUP(T38,'LEAGUE MEMBERSHIP'!$B:$G,6,FALSE),\"\")","v":7},null,"Sub22",{"$f":"IFERROR(VLOOKUP(Y38,'LEAGUE MEMBERSHIP'!$B:$F,5,FALSE),\"\")","v":"Jan Hedlund"},null,{"$f":"IFERROR(VLOOKUP(Y38,'LEAGUE MEMBERSHIP'!$B:$G,6,FALSE),\"\")","v":15}]
[null,{"$f":"IFERROR(IF(HLOOKUP($A$42,'SCORES LOAD STATUS'!$A$1:$AK$21,6,FALSE)=\"\",\"\",HLOOKUP($A$42,'SCORES LOAD STATUS'!$A$1:$AK$21,6,FALSE)),\"\")","v":"19 v 6"},"19",{"$f":"IFERROR(IF(LEFT(RIGHT($B39,2),1)<>\" \",RIGHT($B39,2),RIGHT($B39,1)),\"\")","v":"6"},{"$f":"IFERROR(IF(LEN(RIGHT(C39,LEN(C39)-FIND(\"v \",C39)-1))=1,\"0\"&RIGHT(C39,LEN(C39)-FIND(\"v \",C39)-1),RIGHT(C39,LEN(C39)-FIND(\"v \",C39)-1)),\"\")","v":""},{"$f":"'SCORES LOAD STATUS'!$A6","v":"4:16 PM"},"Team 19",{"$f":"IFERROR(\"- \"&VLOOKUP(C39&\"A\",'LEAGUE MEMBERSHIP'!B:G,5,FALSE)&\" (\"&VLOOKUP(C39&\"A\",'LEAGUE MEMBERSHIP'!B:G,6,FALSE)&\") / \"&VLOOKUP(C39&\"B\",'LEAGUE MEMBERSHIP'!B:G,5,FALSE)&\" (\"&VLOOKUP(C39&\"B\",'LEAGUE MEMBERSHIP'!B:G,6,FALSE)&\")\",\"\")","v":"- John Pavone (15) / Ernie Beliveau (18)"},null,null,null,"vs.",{"$f":"IFERROR(\"Team \"&D39&IF(LEN(D39) = 1,\"    - \",\"  - \")&VLOOKUP(D39&\"A\",'LEAGUE MEMBERSHIP'!B:G,5,FALSE)&\" (\"&VLOOKUP(D39&\"A\",'LEAGUE MEMBERSHIP'!B:G,6,FALSE)&\") / \"&VLOOKUP(D39&\"B\",'LEAGUE MEMBERSHIP'!B:G,5,FALSE)&\" (\"&VLOOKUP(D39&\"B\",'LEAGUE MEMBERSHIP'!B:G,6,FALSE)&\")\",\"\")","v":"Team 6    - Vance Butterfield (6) / Bob Schleyer (8)"},null,null,null,null,null,null,"Sub8",{"$f":"IFERROR(VLOOKUP(T39,'LEAGUE MEMBERSHIP'!$B:$F,5,FALSE),\"\")","v":"Joe Fratticelli"},null,{"$f":"IFERROR(VLOOKUP(T39,'LEAGUE MEMBERSHIP'!$B:$G,6,FALSE),\"\")","v":15},null,"Sub23",{"$f":"IFERROR(VLOOKUP(Y39,'LEAGUE MEMBERSHIP'!$B:$F,5,FALSE),\"\")","v":"Brenda Louney"},null,{"$f":"IFERROR(VLOOKUP(Y39,'LEAGUE MEMBERSHIP'!$B:$G,6,FALSE),\"\")","v":13}]
["Week 8",{"$f":"IFERROR(IF(HLOOKUP($A$42,'SCORES LOAD STATUS'!$A$1:$AK$21,7,FALSE)=\"\",\"\",HLOOKUP($A$42,'SCORES LOAD STATUS'!$A$1:$AK$21,7,FALSE)),\"\")","v":"18 v 5"},"18","5","",{"$f":"'SCORES LOAD STATUS'!$A7","v":"4:24 PM"},"Team 18",{"$f":"IFERROR(\"- \"&VLOOKUP(C40&\"A\",'LEAGUE MEMBERSHIP'!B:G,5,FALSE)&\" (\"&VLOOKUP(C40&\"A\",'LEAGUE MEMBERSHIP'!B:G,6,FALSE)&\") / \"&VLOOKUP(C40&\"B\",'LEAGUE MEMBERSHIP'!B:G,5,FALSE)&\" (\"&VLOOKUP(C40&\"B\",'LEAGUE MEMBERSHIP'!B:G,6,FALSE)&\")\",\"\")","v":"- Norm Gamache (11) / Michelle Bouvier (23)"},null,null,null,"vs.",{"$f":"IFERROR(\"Team \"&D40&IF(LEN(D40) = 1,\"    - \",\"  - \")&VLOOKUP(D40&\"A\",'LEAGUE MEMBERSHIP'!B:G,5,FALSE)&\" (\"&VLOOKUP(D40&\"A\",'LEAGUE MEMBERSHIP'!B:G,6,FALSE)&\") / \"&VLOOKUP(D40&\"B\",'LEAGUE MEMBERSHIP'!B:G,5,FALSE)&\" (\"&VLOOKUP(D40&\"B\",'LEAGUE MEMBERSHIP'!B:G,6,FALSE)&\")\",\"\")","v":"Team 5    - Dennis Normandin (10) / Mark Normandin (6)"},null,null,null,null,null,null,"Sub9",{"$f":"IFERROR(VLOOKUP(T40,'LEAGUE MEMBERSHIP'!$B:$F,5,FALSE),\"\")","v":"Pete Collette"},null,{"$f":"IFERROR(VLOOKUP(T40,'LEAGUE MEMBERSHIP'!$B:$G,6,FALSE),\"\")","v":6},null,"Sub24",{"$f":"IFERROR(VLOOKUP(Y40,'LEAGUE MEMBERSHIP'!$B:$F,5,FALSE),\"\")","v":"Kyle Butterfield"},null,{"$f":"IFERROR(VLOOKUP(Y40,'LEAGUE MEMBERSHIP'!$B:$G,6,FALSE),\"\")","v":13}]
["08/23/17",{"$f":"IFERROR(IF(HLOOKUP($A$42,'SCORES LOAD STATUS'!$A$1:$AK$21,8,FALSE)=\"\",\"\",HLOOKUP($A$42,'SCORES LOAD STATUS'!$A$1:$AK$21,8,FALSE)),\"\")","v":"15 v 2"},"15","2","",{"$f":"'SCORES LOAD STATUS'!$A8","v":"4:32 PM"},"Team 15",{"$f":"IFERROR(\"- \"&VLOOKUP(C41&\"A\",'LEAGUE MEMBERSHIP'!B:G,5,FALSE)&\" (\"&VLOOKUP(C41&\"A\",'LEAGUE MEMBERSHIP'!B:G,6,FALSE)&\") / \"&VLOOKUP(C41&\"B\",'LEAGUE MEMBERSHIP'!B:G,5,FALSE)&\" (\"&VLOOKUP(C41&\"B\",'LEAGUE MEMBERSHIP'!B:G,6,FALSE)&\")\",\"\")","v":"- Gary Leavenworth (5) / Patty Leavenworth (8)"},null,null,null,"vs.",{"$f":"IFERROR(\"Team \"&D41&IF(LEN(D41) = 1,\"    - \",\"  - \")&VLOOKUP(D41&\"A\",'LEAGUE MEMBERSHIP'!B:G,5,FALSE)&\" (\"&VLOOKUP(D41&\"A\",'LEAGUE MEMBERSHIP'!B:G,6,FALSE)&\") / \"&VLOOKUP(D41&\"B\",'LEAGUE MEMBERSHIP'!B:G,5,FALSE)&\" (\"&VLOOKUP(D41&\"B\",'LEAGUE MEMBERSHIP'!B:G,6,FALSE)&\")\",\"\")","v":"Team 2    - Jono Normandin (7) / Nathan Wallace (11)"},null,null,null,null,null,null,"Sub10",{"$f":"IFERROR(VLOOKUP(T41,'LEAGUE MEMBERSHIP'!$B:$F,5,FALSE),\"\")","v":"Ray Henderson"},null,{"$f":"IFERROR(VLOOKUP(T41,'LEAGUE MEMBERSHIP'!$B:$G,6,FALSE),\"\")","v":5},null,"Sub25",{"$f":"IFERROR(VLOOKUP(Y41,'LEAGUE MEMBERSHIP'!$B:$F,5,FALSE),\"\")","v":"Dave Flood"},null,{"$f":"IFERROR(VLOOKUP(Y41,'LEAGUE MEMBERSHIP'!$B:$G,6,FALSE),\"\")","v":8}]
[{"$f":"IF(A40<> \"Week 1\",TEXT(A41 + 7, \"mm/dd/yy\"),TEXT(A41, \"mm/dd/yy\"))","v":"08/30/17"},{"$f":"IFERROR(IF(HLOOKUP($A$42,'SCORES LOAD STATUS'!$A$1:$AK$21,9,FALSE)=\"\",\"\",HLOOKUP($A$42,'SCORES LOAD STATUS'!$A$1:$AK$21,9,FALSE)),\"\")","v":"14 v 11"},"14","11","",{"$f":"'SCORES LOAD STATUS'!$A9","v":"4:40 PM"},"Team 14",{"$f":"IFERROR(\"- \"&VLOOKUP(C42&\"A\",'LEAGUE MEMBERSHIP'!B:G,5,FALSE)&\" (\"&VLOOKUP(C42&\"A\",'LEAGUE MEMBERSHIP'!B:G,6,FALSE)&\") / \"&VLOOKUP(C42&\"B\",'LEAGUE MEMBERSHIP'!B:G,5,FALSE)&\" (\"&VLOOKUP(C42&\"B\",'LEAGUE MEMBERSHIP'!B:G,6,FALSE)&\")\",\"\")","v":"- Paul Fontaine (3) / Ralph Romano III (8)"},null,null,null,"vs.",{"$f":"IFERROR(\"Team \"&D42&IF(LEN(D42) = 1,\"    - \",\"  - \")&VLOOKUP(D42&\"A\",'LEAGUE MEMBERSHIP'!B:G,5,FALSE)&\" (\"&VLOOKUP(D42&\"A\",'LEAGUE MEMBERSHIP'!B:G,6,FALSE)&\") / \"&VLOOKUP(D42&\"B\",'LEAGUE MEMBERSHIP'!B:G,5,FALSE)&\" (\"&VLOOKUP(D42&\"B\",'LEAGUE MEMBERSHIP'!B:G,6,FALSE)&\")\",\"\")","v":"Team 11  - Jim Haskins (9) / Anthony Conte (13)"},null,null,null,null,null,null,"Sub11",{"$f":"IFERROR(VLOOKUP(T42,'LEAGUE MEMBERSHIP'!$B:$F,5,FALSE),\"\")","v":"Pete K Normandin"},null,{"$f":"IFERROR(VLOOKUP(T42,'LEAGUE MEMBERSHIP'!$B:$G,6,FALSE),\"\")","v":0},null,"Sub26",{"$f":"IFERROR(VLOOKUP(Y42,'LEAGUE MEMBERSHIP'!$B:$F,5,FALSE),\"\")","v":"Ann Goodwin"},null,{"$f":"IFERROR(VLOOKUP(Y42,'LEAGUE MEMBERSHIP'!$B:$G,6,FALSE),\"\")","v":15}]
[{"$f":"TEXT(A41, \"mm/dd/yy\")","v":"08/23/17"},{"$f":"IFERROR(IF(HLOOKUP($A$42,'SCORES LOAD STATUS'!$A$1:$AK$21,10,FALSE)=\"\",\"\",HLOOKUP($A$42,'SCORES LOAD STATUS'!$A$1:$AK$21,10,FALSE)),\"\")","v":"16 v 3"},"16","3","",{"$f":"'SCORES LOAD STATUS'!$A10","v":"4:48 PM"},"Team 16",{"$f":"IFERROR(\"- \"&VLOOKUP(C43&\"A\",'LEAGUE MEMBERSHIP'!B:G,5,FALSE)&\" (\"&VLOOKUP(C43&\"A\",'LEAGUE MEMBERSHIP'!B:G,6,FALSE)&\") / \"&VLOOKUP(C43&\"B\",'LEAGUE MEMBERSHIP'!B:G,5,FALSE)&\" (\"&VLOOKUP(C43&\"B\",'LEAGUE MEMBERSHIP'!B:G,6,FALSE)&\")\",\"\")","v":"- Kevin O'Loughlin (18) / Mike Romano (13)"},null,null,null,"vs.",{"$f":"IFERROR(\"Team \"&D43&IF(LEN(D43) = 1,\"    - \",\"  - \")&VLOOKUP(D43&\"A\",'LEAGUE MEMBERSHIP'!B:G,5,FALSE)&\" (\"&VLOOKUP(D43&\"A\",'LEAGUE MEMBERSHIP'!B:G,6,FALSE)&\") / \"&VLOOKUP(D43&\"B\",'LEAGUE MEMBERSHIP'!B:G,5,FALSE)&\" (\"&VLOOKUP(D43&\"B\",'LEAGUE MEMBERSHIP'!B:G,6,FALSE)&\")\",\"\")","v":"Team 3    - Pete Romano (17) / Don Frigoletto (14)"},null,null,null,null,null,null,"Sub12",{"$f":"IFERROR(VLOOKUP(T43,'LEAGUE MEMBERSHIP'!$B:$F,5,FALSE),\"\")","v":"Ron Brassard"},null,{"$f":"IFERROR(VLOOKUP(T43,'LEAGUE MEMBERSHIP'!$B:$G,6,FALSE),\"\")","v":7},null,"Sub27",{"$f":"IFERROR(VLOOKUP(Y43,'LEAGUE MEMBERSHIP'!$B:$F,5,FALSE),\"\")","v":"Gary Bittner"},null,{"$f":"IFERROR(VLOOKUP(Y43,'LEAGUE MEMBERSHIP'!$B:$G,6,FALSE),\"\")","v":12}]
[null,{"$f":"IFERROR(IF(HLOOKUP($A$42,'SCORES LOAD STATUS'!$A$1:$AK$21,11,FALSE)=\"\",\"\",HLOOKUP($A$42,'SCORES LOAD STATUS'!$A$1:$AK$21,11,FALSE)),\"\")","v":"13 v 12"},"13","12","",{"$f":"'SCORES LOAD STATUS'!$A11","v":"4:56 PM"},"Team 13",{"$f":"IFERROR(\"- \"&VLOOKUP(C44&\"A\",'LEAGUE MEMBERSHIP'!B:G,5,FALSE)&\" (\"&VLOOKUP(C44&\"A\",'LEAGUE MEMBERSHIP'!B:G,6,FALSE)&\") / \"&VLOOKUP(C44&\"B\",'LEAGUE MEMBERSHIP'!B:G,5,FALSE)&\" (\"&VLOOKUP(C44&\"B\",'LEAGUE MEMBERSHIP'!B:G,6,FALSE)&\")\",\"\")","v":"- Tim Hurley (8) / Walter Drake (15)"},null,null,null,"vs.",{"$f":"IFERROR(\"Team \"&D44&IF(LEN(D44) = 1,\"    - \",\"  - \")&VLOOKUP(D44&\"A\",'LEAGUE MEMBERSHIP'!B:G,5,FALSE)&\" (\"&VLOOKUP(D44&\"A\",'LEAGUE MEMBERSHIP'!B:G,6,FALSE)&\") / \"&VLOOKUP(D44&\"B\",'LEAGUE MEMBERSHIP'!B:G,5,FALSE)&\" (\"&VLOOKUP(D44&\"B\",'LEAGUE MEMBERSHIP'!B:G,6,FALSE)&\")\",\"\")","v":"Team 12  - Sal Ciufetti (12) / Kevin Nivala (10)"},null,null,null,null,null,null,"Sub13",{"$f":"IFERROR(VLOOKUP(T44,'LEAGUE MEMBERSHIP'!$B:$F,5,FALSE),\"\")","v":"Genie Ray Richard"},null,{"$f":"IFERROR(VLOOKUP(T44,'LEAGUE MEMBERSHIP'!$B:$G,6,FALSE),\"\")","v":4},null,"Sub28",{"$f":"IFERROR(VLOOKUP(Y44,'LEAGUE MEMBERSHIP'!$B:$F,5,FALSE),\"\")","v":"Scott Leavenworth"},null,{"$f":"IFERROR(VLOOKUP(Y44,'LEAGUE MEMBERSHIP'!$B:$G,6,FALSE),\"\")","v":18}]
[null,{"$f":"IFERROR(IF(HLOOKUP($A$42,'SCORES LOAD STATUS'!$A$1:$AK$21,12,FALSE)=\"\",\"\",HLOOKUP($A$42,'SCORES LOAD STATUS'!$A$1:$AK$21,12,FALSE)),\"\")","v":"20 v 7"},"20","7","",{"$f":"'SCORES LOAD STATUS'!$A12","v":"5:04 PM"},"Team 20",{"$f":"IFERROR(\"- \"&VLOOKUP(C45&\"A\",'LEAGUE MEMBERSHIP'!B:G,5,FALSE)&\" (\"&VLOOKUP(C45&\"A\",'LEAGUE MEMBERSHIP'!B:G,6,FALSE)&\") / \"&VLOOKUP(C45&\"B\",'LEAGUE MEMBERSHIP'!B:G,5,FALSE)&\" (\"&VLOOKUP(C45&\"B\",'LEAGUE MEMBERSHIP'!B:G,6,FALSE)&\")\",\"\")","v":"- Sheila Sundstrom (13) / Ray Hoy (10)"},null,null,null,"vs.",{"$f":"IFERROR(\"Team \"&D45&IF(LEN(D45) = 1,\"    - \",\"  - \")&VLOOKUP(D45&\"A\",'LEAGUE MEMBERSHIP'!B:G,5,FALSE)&\" (\"&VLOOKUP(D45&\"A\",'LEAGUE MEMBERSHIP'!B:G,6,FALSE)&\") / \"&VLOOKUP(D45&\"B\",'LEAGUE MEMBERSHIP'!B:G,5,FALSE)&\" (\"&VLOOKUP(D45&\"B\",'LEAGUE MEMBERSHIP'!B:G,6,FALSE)&\")\",\"\")","v":"Team 7    - John Fairbanks (8) / Debbie Fairbanks (14)"},null,null,null,null,null,null,"Sub14",{"$f":"IFERROR(VLOOKUP(T45,'LEAGUE MEMBERSHIP'!$B:$F,5,FALSE),\"\")","v":"John MacDonald"},null,{"$f":"IFERROR(VLOOKUP(T45,'LEAGUE MEMBERSHIP'!$B:$G,6,FALSE),\"\")","v":10},null,"Sub29",{"$f":"IFERROR(VLOOKUP(Y45,'LEAGUE MEMBERSHIP'!$B:$F,5,FALSE),\"\")","v":"Dave DiGiovanni"},null,{"$f":"IFERROR(VLOOKUP(Y45,'LEAGUE MEMBERSHIP'!$B:$G,6,FALSE),\"\")","v":5}]
[null,{"$f":"IFERROR(IF(HLOOKUP($A$42,'SCORES LOAD STATUS'!$A$1:$AK$21,13,FALSE)=\"\",\"\",HLOOKUP($A$42,'SCORES LOAD STATUS'!$A$1:$AK$21,13,FALSE)),\"\")","v":"10 v 8"},"10",{"$f":"IFERROR(IF(LEFT(RIGHT($B46,2),1)<>\" \",RIGHT($B46,2),RIGHT($B46,1)),\"\")","v":"8"},"",{"$f":"'SCORES LOAD STATUS'!$A13","v":"5:12 PM"},"Team 10",{"$f":"IFERROR(\"- \"&VLOOKUP(C46&\"A\",'LEAGUE MEMBERSHIP'!B:G,5,FALSE)&\" (\"&VLOOKUP(C46&\"A\",'LEAGUE MEMBERSHIP'!B:G,6,FALSE)&\") / \"&VLOOKUP(C46&\"B\",'LEAGUE MEMBERSHIP'!B:G,5,FALSE)&\" (\"&VLOOKUP(C46&\"B\",'LEAGUE MEMBERSHIP'!B:G,6,FALSE)&\")\",\"\")","v":"- Ron Ekstrom (1) / Beth Romano (10)"},null,null,null,"vs.",{"$f":"IFERROR(\"Team \"&D46&IF(LEN(D46) = 1,\"    - \",\"  - \")&VLOOKUP(D46&\"A\",'LEAGUE MEMBERSHIP'!B:G,5,FALSE)&\" (\"&VLOOKUP(D46&\"A\",'LEAGUE MEMBERSHIP'!B:G,6,FALSE)&\") / \"&VLOOKUP(D46&\"B\",'LEAGUE MEMBERSHIP'!B:G,5,FALSE)&\" (\"&VLOOKUP(D46&\"B\",'LEAGUE MEMBERSHIP'!B:G,6,FALSE)&\")\",\"\")","v":"Team 8    - Steve Lawrence (5) / Mike Benson (17)"},null,null,null,null,null,null,"Sub15",{"$f":"IFERROR(VLOOKUP(T46,'LEAGUE MEMBERSHIP'!$B:$F,5,FALSE),\"\")","v":"Darryl Gagne"},null,{"$f":"IFERROR(VLOOKUP(T46,'LEAGUE MEMBERSHIP'!$B:$G,6,FALSE),\"\")","v":8},null,"Sub30",{"$f":"IFERROR(VLOOKUP(Y46,'LEAGUE MEMBERSHIP'!$B:$F,5,FALSE),\"\")","v":"Alessandro Conte"},null,{"$f":"IFERROR(VLOOKUP(Y46,'LEAGUE MEMBERSHIP'!$B:$G,6,FALSE),\"\")","v":6}]
[]
[]
[null,"Messages: Another gorgeous day for golf, although I did not do well."]
[]
[]
[]
[]
[]
[]
[]
[]
[]
[]
[]
[]
[]
[]
[]
[]
[]
[]
[]
[]
[]
[]
[]
[]
[]
[]
[]
[]
[]
[]
[]
[]
[]
[]
[]
[]
[]
[]
[]
[]
[]
[]
[]
[]
[]
[]
[]
[]
[]
[]
["STANDINGS - 2016"]
["POINTS - 2016"]
["MATCH RESULTS - 2016"]

{"sheet":"LOGIN","index":1,"n_rows":7,"n_cols":1,"rows_kept":7,"cut":false,"hidden":true,"merged":[]}
["UserName/Password"]
[]
["Pete Romano"]
["Gary Bittner"]
[]
["Pete Romano/PRSquare23"]
["Gary Bittner/123"]

{"sheet":"LEAGUE RULES","index":2,"n_rows":30,"n_cols":13,"rows_kept":30,"cut":false,"hidden":false,"merged":[]}
[]
[]
[]
[]
[]
[]
[null,null,null,null,null,null,null,null,null,null,null,null,"SPECIFIC HOLE RULES"]
[null,null,null,{"$f":"'COURSE & LEAGUE DETAILS'!$A$23","v":" 1.  USGA and local rules apply."},null,null,null,null,null,null,{"$f":"'COURSE & LEAGUE DETAILS'!$A57","v":" SPECIFIC HOLE RULES"}]
[null,null,null,{"$f":"'COURSE & LEAGUE DETAILS'!$A$24","v":" 2.  Teams are responsible for being prompt.  Matches should"},null,null,null,null,null,null,{"$f":"'COURSE & LEAGUE DETAILS'!$A58","v":" 1. No free drop"}]
[null,null,null,{"$f":"'COURSE & LEAGUE DETAILS'!$A$25","v":"      begin at their specified time.  If the second match following"},null,null,null,null,null,null,{"$f":"'COURSE & LEAGUE DETAILS'!$A59","v":" 2. No free drop"}]
[null,null,null,{"$f":"'COURSE & LEAGUE DETAILS'!$A$26","v":"      yours tees off, the team that is missing shall forfeit unless"},null,null,null,null,null,null,{"$f":"'COURSE & LEAGUE DETAILS'!$A60","v":" 3. No free drop. (new change)"}]
[null,null,null,{"$f":"'COURSE & LEAGUE DETAILS'!$A$27","v":"      prior arrangements have been made. (see rule 3)"},null,null,null,null,null,null,{"$f":"'COURSE & LEAGUE DETAILS'!$A61","v":" 4. Free drop if ball lands in ditch on left of fairway."}]
[null,null,null,{"$f":"'COURSE & LEAGUE DETAILS'!$A$28","v":" 3.  If a team cannot make a match, it is their responsibility to"},null,null,null,null,null,null,{"$f":"'COURSE & LEAGUE DETAILS'!$A62","v":" 5. No free drop"}]
[null,null,null,{"$f":"'COURSE & LEAGUE DETAILS'!$A$29","v":"      make other arrangements with approval of their opponents"},null,null,null,null,null,null,{"$f":"'COURSE & LEAGUE DETAILS'!$A63","v":" 6. No free drop"}]
[null,null,null,{"$f":"'COURSE & LEAGUE DETAILS'!$A$30","v":" 4.  One member of the team must be present for the match. "},null,null,null,null,null,null,{"$f":"'COURSE & LEAGUE DETAILS'!$A64","v":" 7. If first tee shot lands in pond, ball must be placed on fairway at point of entry. If second shot"}]
[null,null,null,{"$f":"'COURSE & LEAGUE DETAILS'!$A$31","v":"      (one substitution is allowed, not two)"},null,null,null,null,null,null,{"$f":"'COURSE & LEAGUE DETAILS'!$A65","v":"     enters pond, ball can be placed in drop area on far side of pond to the left of the cart path."}]
[null,null,null,{"$f":"'COURSE & LEAGUE DETAILS'!$A$32","v":" 5.  Lost ball/quick play rule - all lost balls are played as lateral"},null,null,null,null,null,null,{"$f":"'COURSE & LEAGUE DETAILS'!$A66","v":"     Must take a stroke."}]
[null,null,null,{"$f":"'COURSE & LEAGUE DETAILS'!$A$33","v":"      hazards.  2 MIN. TIME LIMIT!  Play \"ready golf\"."},null,null,null,null,null,null,{"$f":"'COURSE & LEAGUE DETAILS'!$A67","v":" 8. No free drop"}]
[null,null,null,{"$f":"'COURSE & LEAGUE DETAILS'!$A$34","v":" 6.  Handicaps are based on league performance - 80% of the"},null,null,null,null,null,null,{"$f":"'COURSE & LEAGUE DETAILS'!$A68","v":" 9. No free drop"}]
[null,null,null,{"$f":"'COURSE & LEAGUE DETAILS'!$A$35","v":"      prior 5 weeks of play is used.  Maximum strokes:  Zero"},null,null,null,null,null,null,{"$f":"'COURSE & LEAGUE DETAILS'!$A69","v":" 10. No free drop"}]
[null,null,null,{"$f":"'COURSE & LEAGUE DETAILS'!$A$36","v":"      given on par 3's, two strokes for par 4's and 5's.  Maximum"},null,null,null,null,null,null,{"$f":"'COURSE & LEAGUE DETAILS'!$A70","v":" 11. Free drop if ball lands in ditch just ahead of the tee area."}]
[null,null,null,{"$f":"'COURSE & LEAGUE DETAILS'!$A$37","v":"      golf score per hole for handicap purposes = 2 times par.   "},null,null,null,null,null,null,{"$f":"'COURSE & LEAGUE DETAILS'!$A71","v":" 12. If tee shot lands in the pond, drop zone is to the left side of the pond between the pond"}]
[null,null,null,{"$f":"'COURSE & LEAGUE DETAILS'!$A$38","v":"      New league members without handicaps were assigned a "},null,null,null,null,null,null,{"$f":"'COURSE & LEAGUE DETAILS'!$A72","v":"      and the bend in the cart path. Must take a stroke."}]
[null,null,null,{"$f":"'COURSE & LEAGUE DETAILS'!$A$39","v":"      ZERO handicap.  As those individuals post scores, the "},null,null,null,null,null,null,{"$f":"'COURSE & LEAGUE DETAILS'!$A73","v":" 13. No free drop"}]
[null,null,null,{"$f":"'COURSE & LEAGUE DETAILS'!$A$40","v":"      assigned handicap will be adjusted."},null,null,null,null,null,null,{"$f":"'COURSE & LEAGUE DETAILS'!$A74","v":" 14. No free drop"}]
[null,null,null,{"$f":"'COURSE & LEAGUE DETAILS'!$A$41","v":" 7.  Scoring - Best ball, 1 point per hole, halves are 1/2 point. "},null,null,null,null,null,null,{"$f":"'COURSE & LEAGUE DETAILS'!$A75","v":" 15. No free drop"}]
[null,null,null,{"$f":"'COURSE & LEAGUE DETAILS'!$A$42","v":" 8.  No opponent - when playing for points with no opponent,"},null,null,null,null,null,null,{"$f":"'COURSE & LEAGUE DETAILS'!$A76","v":" 16. No free drop"}]
[null,null,null,{"$f":"'COURSE & LEAGUE DETAILS'!$A$43","v":"      points are awarded as follows: net birdie = 1 point, net par"},null,null,null,null,null,null,{"$f":"'COURSE & LEAGUE DETAILS'!$A77","v":" 17. No free drop"}]
[null,null,null,{"$f":"'COURSE & LEAGUE DETAILS'!$A$44","v":"      = 1/2 point."},null,null,null,null,null,null,{"$f":"'COURSE & LEAGUE DETAILS'!$A78","v":" 18. Free drop if ball lands in ditch left of fairway."}]
[null,null,null,{"$f":"'COURSE & LEAGUE DETAILS'!$A$45","v":" 9.   Preferred lies everywhere but HAZARDS."}]

{"sheet":"COURSE & LEAGUE DETAILS","index":3,"n_rows":78,"n_cols":11,"rows_kept":78,"cut":false,"hidden":false,"merged":[]}
[]
["League Name:","Romano Golf League",null,null,"Year:",2017]
["Course Name:","Woods at Westminster"]
["Course Details:"]
["Hole",1,2,3,4,5,6,7,8,9,"OUT"]
["FRONT - Yardage - White",460,275,525,295,345,175,405,145,320,{"$f":"SUM(B6:J6)","v":2945}]
["FRONT - Par - White",5,4,5,4,4,3,4,3,4,{"$f":"SUM(B7:J7)","v":36}]
["FRONT - Mens' Hcp.",5,7,3,9,11,17,1,15,13]
["FRONT - Yardage - Red",375,250,475,255,325,155,375,130,290,{"$f":"SUM(B9:J9)","v":2630}]
["FRONT - Par - Red",5,4,5,4,4,3,5,3,4,{"$f":"SUM(B10:J10)","v":37}]
["FRONT - Womens' Hcp.",5,7,3,9,11,17,1,15,13]
[]
["Hole",10,11,12,13,14,15,16,17,18,"IN"]
["BACK - Yardage - White",345,220,330,435,145,315,130,300,340,{"$f":"SUM(B14:J14)","v":2560}]
["BACK - Par - White",5,4,4,5,3,4,3,4,4,{"$f":"SUM(B15:J15)","v":36}]
["BACK - Mens' Hcp.",6,10,8,4,16,12,18,14,2]
["BACK - Yardage - Red",290,200,205,350,140,290,125,255,280,{"$f":"SUM(B17:J17)","v":2135}]
["BACK - Par - Red",4,4,4,5,3,4,3,4,4,{"$f":"SUM(B18:J18)","v":35}]
["BACK - Womens' Hcp.",4,2,8,6,16,12,18,14,10]
[]
[]
["League Rules:"]
[" 1.  USGA and local rules apply."]
[" 2.  Teams are responsible for being prompt.  Matches should"]
["      begin at their specified time.  If the second match following"]
["      yours tees off, the team that is missing shall forfeit unless"]
["      prior arrangements have been made. (see rule 3)"]
[" 3.  If a team cannot make a match, it is their responsibility to"]
["      make other arrangements with approval of their opponents"]
[" 4.  One member of the team must be present for the match. "]
["      (one substitution is allowed, not two)"]
[" 5.  Lost ball/quick play rule - all lost balls are played as lateral"]
["      hazards.  2 MIN. TIME LIMIT!  Play \"ready golf\"."]
[" 6.  Handicaps are based on league performance - 80% of the"]
["      prior 5 weeks of play is used.  Maximum strokes:  Zero"]
["      given on par 3's, two strokes for par 4's and 5's.  Maximum"]
["      golf score per hole for handicap purposes = 2 times par.   "]
["      New league members without handicaps were assigned a "]
["      ZERO handicap.  As those individuals post scores, the "]
["      assigned handicap will be adjusted."]
[" 7.  Scoring - Best ball, 1 point per hole, halves are 1/2 point. "]
[" 8.  No opponent - when playing for points with no opponent,"]
["      points are awarded as follows: net birdie = 1 point, net par"]
["      = 1/2 point."]
[" 9.   Preferred lies everywhere but HAZARDS."]
[]
[]
["Scoresheet Footer:"]
[{"$f":"\"To view scores, handicaps, etc., go to http://www.rromano.com and click on the \" & 'COURSE & LEAGUE DETAILS'!B2 & \" \" & 'COURSE & LEAGUE DETAILS'!F2 & \" Spreadsheet\"","v":"To view scores, handicaps, etc., go to http://www.rromano.com and click on the Romano Golf League 2017 Spreadsheet"}]
[]
[]
["Handicap Formula:"]
[]
["Handicaps are calculated by averaging a player's prior 5 weeks scores and taking 80% of the difference between the average score and par.  \nStrokes are given against the player with the lowest handicap in the match, no strokes given on par 3's, maximum two strokes on par 4's and 5's.  \nMaximum golf score for handicap purposes = 2 times par."]
[]
[]
[" SPECIFIC HOLE RULES"]
[" 1. No free drop"]
[" 2. No free drop"]
[" 3. No free drop. (new change)"]
[" 4. Free drop if ball lands in ditch on left of fairway."]
[" 5. No free drop"]
[" 6. No free drop"]
[" 7. If first tee shot lands in pond, ball must be placed on fairway at point of entry. If second shot"]
["     enters pond, ball can be placed in drop area on far side of pond to the left of the cart path."]
["     Must take a stroke."]
[" 8. No free drop"]
[" 9. No free drop"]
[" 10. No free drop"]
[" 11. Free drop if ball lands in ditch just ahead of the tee area."]
[" 12. If tee shot lands in the pond, drop zone is to the left side of the pond between the pond"]
["      and the bend in the cart path. Must take a stroke."]
[" 13. No free drop"]
[" 14. No free drop"]
[" 15. No free drop"]
[" 16. No free drop"]
[" 17. No free drop"]
[" 18. Free drop if ball lands in ditch left of fairway."]

{"sheet":"LEAGUE MEMBERSHIP","index":4,"n_rows":250,"n_cols":31,"rows_kept":250,"cut":false,"hidden":false,"merged":[[5,0,5,16]]}
[null,null,null,null,null,null,null,null,null,null,null,null,null,null,null,null,null," ",null,null,null,null,null,null,null,null,null,9999999999]
[null,null,null,null,null,null,null,null,null,null,null,null,null,null,null,null,null,null,null,null,null,null,null,null,null,null,null,null,null,"CT","Yes"]
[null,null,null,null,null,null,null,null,null,null,null,null,null,null,null,null,null,null,null,null,null,null,null,null,null,null,null,null,null,"MA","No"]
[null,null,null,null,null,null,null,null,null,null,null,null,null,null,null,null,null,null,null,null,null,null,null,null,null,null,null,null,null,"NH"]
[null,null,null,null,null,null,null,null,null,null,null,null,null,null,null,null,null,"M","Y",null,null,null,null,null,null,null,null,null,null,"RI"]
["League Members",null,null,null,null,null,null,null,null,null,null,null,null,null,null,null,null,"F","N"]
["Player ID","Player/Team No.","Last Name","First Name","M / F","FirstName/LastName","Handicap","Team","RGL No.","Tel. No.","Email","Address1","Address2","City","State","Zip",{"$f":"'COURSE & LEAGUE DETAILS'!F2&\" Dues Pd?\"","v":"2017 Dues Pd?"}]
["RGL-066","Sub16","Bartkus","Becky","F",{"$f":"IF(C8<>\"\",CONCATENATE(D8&\" \"&C8),\"\")","v":"Becky Bartkus"},9,{"$f":"IF(B8 = \"\", \"\",IF(LEFT(B8,3)=\"Sub\",\"\",IF(LEN(B8)=2,\"Team \"&LEFT(B8,1),\"Team \"&LEFT(B8,2))))","v":""},{"$f":"A8","v":"RGL-066"},9783407865]
["RGL-051","19B","Beliveau","Ernie","M","Ernie Beliveau",18,"Team 19","RGL-051",9784237256,"ebeliveau@makicorp.com"]
["RGL-024","8B","Benson","Mike","M","Mike Benson",17,"Team 8","RGL-024"]
["RGL-025","Sub27","Bittner","Gary","M","Gary Bittner",12,"","RGL-025",9788742642,"gary.bittner2@comcast.net"]
["RGL-045","18B","Bouvier","Michelle","F","Michelle Bouvier",23,"Team 18","RGL-045",9786600581,"bmochachip5@comcast.net"]
["RGL-064","Sub12","Brassard","Ron","M","Ron Brassard",7,"","RGL-064"]
["RGL-059","Sub24","Butterfield","Kyle","M","Kyle Butterfield",13,"","RGL-059",7743647442,"kylesbutterfield@gmail.com"]
["RGL-006","6A","Butterfield","Vance","M","Vance Butterfield",6,"Team 6","RGL-006",9788740213,"vbutterfield@comcast.net"]
["RGL-005","9B","Cassin","John","M","John Cassin",10,"Team 9","RGL-005",6172242313]
["RGL-046","12A","Ciufetti","Sal","M","Sal Ciufetti",12,"Team 12","RGL-046"]
["RGL-052","Sub9","Collette","Pete","M","Pete Collette",6,"","RGL-052"]
["RGL-042","Sub30","Conte","Alessandro","M","Alessandro Conte",6,"","RGL-042"]
["RGL-040","11B","Conte","Anthony","M","Anthony Conte",13,"Team 11","RGL-040",7742620385,"contecarpentry1@yahoo.com"]
["RGL-008","Sub17","Cormier","Dave","M","Dave Cormier",7,"","RGL-008"]
["RGL-031","Sub18","Cormier","Doug","M","Doug Cormier",8,"","RGL-031"]
["RGL-009","17B","Dauphinais","Mike","M","Mike Dauphinais",9,"Team 17","RGL-009",9788740487,"MikeDauphinais@aol.com"]
["RGL-004","Sub29","DiGiovanni","Dave","M","Dave DiGiovanni",5,"","RGL-004"]
["RGL-015","9A","Doane","Mike","M","Mike Doane",16,"Team 9","RGL-015"]
["RGL-010","13B","Drake","Walter","M","Walter Drake",15,"Team 13","RGL-010",9789284028]
["RGL-053","17A","Ekstrom","Carol","F","Carol Ekstrom",14,"Team 17","RGL-053"]
["RGL-050","10A","Ekstrom","Ron","M","Ron Ekstrom",1,"Team 10","RGL-050"]
["RGL-036","7B","Fairbanks","Debbie","F","Debbie Fairbanks",14,"Team 7","RGL-036",9788740462,"jffairbanks@aol.com"]
["RGL-020","7A","Fairbanks","John","M","John Fairbanks",8,"Team 7","RGL-020",9788740462,"jffairbanks@aol.com"]
["RGL-011","Sub5","Farias","Tom","M","Tom Farias",6,"","RGL-011"]
["RGL-047","Sub25","Flood","Dave","M","Dave Flood",8,"","RGL-047",9785491525]
["RGL-055","14A","Fontaine","Paul","M","Paul Fontaine",3,"Team 14","RGL-055",9783434384]
["RGL-056","Sub2","Fontaine","PJ","M","PJ Fontaine",1,"","RGL-056",9788553266]
["RGL-049","Sub8","Fratticelli","Joe","M","Joe Fratticelli",15,"","RGL-049"]
["RGL-014","3B","Frigoletto","Don","M","Don Frigoletto",14,"Team 3","RGL-014",9785373772]
["RGL-002","Sub15","Gagne","Darryl","M","Darryl Gagne",8,"","RGL-002",9784919071,"dgagne@simplistix.com"]
["RGL-016","18A","Gamache","Norm","M","Norm Gamache",11,"Team 18","RGL-016",9788157886,"normgamach33@live.com"]
["RGL-070","Sub26","Goodwin","Ann","F","Ann Goodwin",15,"","RGL-070",9788740880,"amgkk48@tiac.net"]
["RGL-038","11A","Haskins","Jim","M",{"$f":"IF(C40<>\"\",CONCATENATE(D40&\" \"&C40),\"\")","v":"Jim Haskins"},9,{"$f":"IF(B40 = \"\", \"\",IF(LEFT(B40,3)=\"Sub\",\"\",IF(LEN(B40)=2,\"Team \"&LEFT(B40,1),\"Team \"&LEFT(B40,2))))","v":"Team 11"},{"$f":"A40","v":"RGL-038"},9788154501,"jhaskins@makicorp.com"]
["RGL-012","Sub22","Hedlund","Jan","F","Jan Hedlund",15,"","RGL-012"]
["RGL-065","Sub3","Hedlund","Jim","M","Jim Hedlund",16,"","RGL-065",9786685183]
["RGL-018","Sub10","Henderson","Ray","M","Ray Henderson",5,"","RGL-018",9786325543]
["RGL-054","20B","Hoy","Ray","M","Ray Hoy",10,"Team 20","RGL-054"]
["RGL-019","13A","Hurley","Tim","M","Tim Hurley",8,"Team 13","RGL-019",9785005882]
["RGL-021","4B","Laroche","Lynn","F","Lynn Laroche",18,"Team 4","RGL-021",9788741239]
["RGL-003","8A","Lawrence","Steve","M","Steve Lawrence",5,"Team 8","RGL-003",6037270642,"slawrence@componentrunner.com"]
["RGL-022","15A","Leavenworth","Gary","M","Gary Leavenworth",5,"Team 15","RGL-022",9788740322]
["RGL-023","15B","Leavenworth","Patty","F","Patty Leavenworth",8,"Team 15","RGL-023",9788740322]
["RGL-044","Sub28","Leavenworth","Scott","M","Scott Leavenworth",18,"","RGL-044"]
["RGL-067","Sub23","Louney","Brenda","F","Brenda Louney",13,"","RGL-067"]
["RGL-068","Sub20","Louney","Mark","M","Mark Louney",10,"","RGL-068",9783423503]
["RGL-048","Sub14","MacDonald","John","M","John MacDonald",10,"","RGL-048",7812544212]
["RGL-007","12B","Nivala","Kevin","M","Kevin Nivala",10,"Team 12","RGL-007",null,"knivala@westminster-ma.gov"]
["RGL-026","5A","Normandin","Dennis","M","Dennis Normandin",10,"Team 5","RGL-026",9788742854,"DennisPN@aol.com"]
["RGL-063","1A","Normandin","John","M","John Normandin",18,"Team 1","RGL-063"]
["RGL-057","2A","Normandin","Jono","M","Jono Normandin",7,"Team 2","RGL-057"]
["RGL-027","5B","Normandin","Mark","M","Mark Normandin",6,"Team 5","RGL-027",9785826259,"mjkn88@comcast.net"]
["RGL-028","1B","Normandin","Pete","M","Pete Normandin",17,"Team 1","RGL-028",9788740664]
["RGL-035","Sub11","Normandin","Pete K","M","Pete K Normandin",0,"","RGL-035",9788742642]
["RGL-029","16A","O'Loughlin","Kevin","M","Kevin O'Loughlin",18,"Team 16","RGL-029"]
["RGL-043","19A","Pavone","John","M","John Pavone",15,"Team 19","RGL-043",9788154504,"jpavone@makicorp.com"]
["RGL-030","Sub6","Pearson","Joe","M","Joe Pearson",12,"","RGL-030",9783406277]
["RGL-001","Sub13","Richard","Genie Ray","F","Genie Ray Richard",4,"","RGL-001"]
["RGL-017","Sub19","Robbins","Ed","M","Ed Robbins",1,"","RGL-017"]
["RGL-060","10B","Romano","Beth","F","Beth Romano",10,"Team 10","RGL-060",9783433681]
["RGL-061","16B","Romano","Mike","M","Mike Romano",13,"Team 16","RGL-061",9783437225]
["RGL-062","Sub1","Romano","P.J.","M","P.J. Romano",12,"","RGL-062",9788271453,"pjromano@comcast.net"]
["RGL-032","4A","Romano","Peg","F","Peg Romano",13,"Team 4","RGL-032",9788740478]
["RGL-033","3A","Romano","Pete","M","Pete Romano",17,"Team 3","RGL-033",9788740478,"prsquare@verizon.net"]
["RGL-034","14B","Romano III","Ralph","M","Ralph Romano III",8,"Team 14","RGL-034",9783452614,"ralph@rromano.com"]
["RGL-037","6B","Schleyer","Bob","M",{"$f":"IF(C72<>\"\",CONCATENATE(D72&\" \"&C72),\"\")","v":"Bob Schleyer"},8,{"$f":"IF(B72 = \"\", \"\",IF(LEFT(B72,3)=\"Sub\",\"\",IF(LEN(B72)=2,\"Team \"&LEFT(B72,1),\"Team \"&LEFT(B72,2))))","v":"Team 6"},{"$f":"A72","v":"RGL-037"},9788741224]
["RGL-041","Sub4","Shank","Don","M","Don Shank",4,"","RGL-041"]
["RGL-039","Sub7","St. Jean","Dennis","M","Dennis St. Jean",7,"","RGL-039",9788742835,"dennis.stjean@verizon.net"]
["RGL-058","Sub21","Stedman","Paul","M","Paul Stedman",4,"","RGL-058"]
["RGL-069","20A","Sundstrom","Sheila","F","Sheila Sundstrom",13,"Team 20","RGL-069",9784237290,"ssundstrom@makicorp.com"]
["RGL-013","2B","Wallace","Nathan","M","Nathan Wallace",11,"Team 2","RGL-013",9785495255,"nwal21@live.com"]
["RGL-071",null,null,null,null,"",null,"","RGL-071"]
["RGL-072",null,null,null,null,"",null,"","RGL-072"]
["RGL-073",null,null,null,null,"",{"$f":"IFERROR(VLOOKUP(A80 & \"F\",'INDIVIDUAL SCORES DATA'!A:P,16,FALSE),\"\")","v":""},"","RGL-073"]
["RGL-074",null,null,null,null,"",{"$f":"IFERROR(VLOOKUP(A81 & \"F\",'INDIVIDUAL SCORES DATA'!A:P,16,FALSE),\"\")","v":""},"","RGL-074"]
["RGL-075",null,null,null,null,"",{"$f":"IFERROR(VLOOKUP(A82 & \"F\",'INDIVIDUAL SCORES DATA'!A:P,16,FALSE),\"\")","v":""},"","RGL-075"]
["RGL-076",null,null,null,null,"",{"$f":"IFERROR(VLOOKUP(A83 & \"F\",'INDIVIDUAL SCORES DATA'!A:P,16,FALSE),\"\")","v":""},"","RGL-076"]
["RGL-077",null,null,null,null,"",{"$f":"IFERROR(VLOOKUP(A84 & \"F\",'INDIVIDUAL SCORES DATA'!A:P,16,FALSE),\"\")","v":""},"","RGL-077"]
["RGL-078",null,null,null,null,"",{"$f":"IFERROR(VLOOKUP(A85 & \"F\",'INDIVIDUAL SCORES DATA'!A:P,16,FALSE),\"\")","v":""},"","RGL-078"]
["RGL-079",null,null,null,null,"",{"$f":"IFERROR(VLOOKUP(A86 & \"F\",'INDIVIDUAL SCORES DATA'!A:P,16,FALSE),\"\")","v":""},"","RGL-079"]
["RGL-080",null,null,null,null,"",{"$f":"IFERROR(VLOOKUP(A87 & \"F\",'INDIVIDUAL SCORES DATA'!A:P,16,FALSE),\"\")","v":""},"","RGL-080"]
["RGL-081",null,null,null,null,"",{"$f":"IFERROR(VLOOKUP(A88 & \"F\",'INDIVIDUAL SCORES DATA'!A:P,16,FALSE),\"\")","v":""},"","RGL-081"]
["RGL-082",null,null,null,null,"",{"$f":"IFERROR(VLOOKUP(A89 & \"F\",'INDIVIDUAL SCORES DATA'!A:P,16,FALSE),\"\")","v":""},"","RGL-082"]
["RGL-083",null,null,null,null,"",{"$f":"IFERROR(VLOOKUP(A90 & \"F\",'INDIVIDUAL SCORES DATA'!A:P,16,FALSE),\"\")","v":""},"","RGL-083"]
["RGL-084",null,null,null,null,"",{"$f":"IFERROR(VLOOKUP(A91 & \"F\",'INDIVIDUAL SCORES DATA'!A:P,16,FALSE),\"\")","v":""},"","RGL-084"]
["RGL-085",null,null,null,null,"",{"$f":"IFERROR(VLOOKUP(A92 & \"F\",'INDIVIDUAL SCORES DATA'!A:P,16,FALSE),\"\")","v":""},"","RGL-085"]
["RGL-086",null,null,null,null,"",{"$f":"IFERROR(VLOOKUP(A93 & \"F\",'INDIVIDUAL SCORES DATA'!A:P,16,FALSE),\"\")","v":""},"","RGL-086"]
["RGL-087",null,null,null,null,"",{"$f":"IFERROR(VLOOKUP(A94 & \"F\",'INDIVIDUAL SCORES DATA'!A:P,16,FALSE),\"\")","v":""},"","RGL-087"]
["RGL-088",null,null,null,null,"",{"$f":"IFERROR(VLOOKUP(A95 & \"F\",'INDIVIDUAL SCORES DATA'!A:P,16,FALSE),\"\")","v":""},"","RGL-088"]
["RGL-089",null,null,null,null,"",{"$f":"IFERROR(VLOOKUP(A96 & \"F\",'INDIVIDUAL SCORES DATA'!A:P,16,FALSE),\"\")","v":""},"","RGL-089"]
["RGL-090",null,null,null,null,"",{"$f":"IFERROR(VLOOKUP(A97 & \"F\",'INDIVIDUAL SCORES DATA'!A:P,16,FALSE),\"\")","v":""},"","RGL-090"]
["RGL-091",null,null,null,null,"",{"$f":"IFERROR(VLOOKUP(A98 & \"F\",'INDIVIDUAL SCORES DATA'!A:P,16,FALSE),\"\")","v":""},"","RGL-091"]
["RGL-092",null,null,null,null,"",{"$f":"IFERROR(VLOOKUP(A99 & \"F\",'INDIVIDUAL SCORES DATA'!A:P,16,FALSE),\"\")","v":""},"","RGL-092"]
["RGL-093",null,null,null,null,"",{"$f":"IFERROR(VLOOKUP(A100 & \"F\",'INDIVIDUAL SCORES DATA'!A:P,16,FALSE),\"\")","v":""},"","RGL-093"]
["RGL-094",null,null,null,null,"",{"$f":"IFERROR(VLOOKUP(A101 & \"F\",'INDIVIDUAL SCORES DATA'!A:P,16,FALSE),\"\")","v":""},"","RGL-094"]
["RGL-095",null,null,null,null,"",{"$f":"IFERROR(VLOOKUP(A102 & \"F\",'INDIVIDUAL SCORES DATA'!A:P,16,FALSE),\"\")","v":""},"","RGL-095"]
["RGL-096",null,null,null,null,"",{"$f":"IFERROR(VLOOKUP(A103 & \"F\",'INDIVIDUAL SCORES DATA'!A:P,16,FALSE),\"\")","v":""},"","RGL-096"]
["RGL-097",null,null,null,null,"",{"$f":"IFERROR(VLOOKUP(A104 & \"F\",'INDIVIDUAL SCORES DATA'!A:P,16,FALSE),\"\")","v":""},"","RGL-097"]
["RGL-098",null,null,null,null,"",{"$f":"IFERROR(VLOOKUP(A105 & \"F\",'INDIVIDUAL SCORES DATA'!A:P,16,FALSE),\"\")","v":""},"","RGL-098"]
["RGL-099","Course","Course",null,"M",{"$f":"IF(C106<>\"\",CONCATENATE(D106&\" \"&C106),\"\")","v":" Course"},0,null,{"$f":"A106","v":"RGL-099"}]
["RGL-100","DNP","Partner Did Not Play",null,"M"," Partner Did Not Play",0,null,"RGL-100"]
[null,null,null,null,null,null,null,null,null,null,null,"10A",{"$f":"IFERROR(VLOOKUP(L108,$F$8:$F$105,2,FALSE),\"\")","v":""}]
[null,null,null,null,null,null,null,null,null,null,null,"10B",""]
[{"$f":"IFERROR(VLOOKUP(\"Course\",$B$7:$B$107,1,FALSE),\"\")","v":"Course"},{"$f":"IFERROR(VLOOKUP(A110,$B$7:$F$107,5,FALSE),\"\")","v":" Course"},null,{"$f":"IFERROR(VLOOKUP(\"1A\",$B$7:$B$107,1,FALSE),\"\")","v":"1A"},{"$f":"IFERROR(VLOOKUP(D110,$B$7:$F$107,5,FALSE),\"\")","v":"John Normandin"},null,{"$f":"D110 & \" - \" & E110","v":"1A - John Normandin"},null,null,null,null,"11A",""]
[{"$f":"IFERROR(VLOOKUP(\"DNP\",$B$7:$B$107,1,FALSE),\"\")","v":"DNP"},{"$f":"IFERROR(VLOOKUP(A111,$B$7:$F$107,5,FALSE),\"\")","v":" Partner Did Not Play"},null,{"$f":"IFERROR(VLOOKUP(\"1B\",$B$7:$B$107,1,FALSE),\"\")","v":"1B"},"Pete Normandin",null,{"$f":"D111 & \" - \" & E111","v":"1B - Pete Normandin"},null,null,null,null,"11B",""]
[{"$f":"IFERROR(VLOOKUP(\"Sub1\",$B$7:$B$107,1,FALSE),\"\")","v":"Sub1"},"P.J. Romano",null,{"$f":"IFERROR(VLOOKUP(\"2A\",$B$7:$B$107,1,FALSE),\"\")","v":"2A"},"Jono Normandin",null,"2A - Jono Normandin",null,null,null,null,"12A",""]
[{"$f":"IFERROR(VLOOKUP(\"Sub2\",$B$7:$B$107,1,FALSE),\"\")","v":"Sub2"},"PJ Fontaine",null,{"$f":"IFERROR(VLOOKUP(\"2B\",$B$7:$B$107,1,FALSE),\"\")","v":"2B"},"Nathan Wallace",null,"2B - Nathan Wallace",null,null,null,null,"12B",""]
[{"$f":"IFERROR(VLOOKUP(\"Sub3\",$B$7:$B$107,1,FALSE),\"\")","v":"Sub3"},"Jim Hedlund",null,{"$f":"IFERROR(VLOOKUP(\"3A\",$B$7:$B$107,1,FALSE),\"\")","v":"3A"},"Pete Romano",null,"3A - Pete Romano",null,null,null,null,"13A",""]
[{"$f":"IFERROR(VLOOKUP(\"Sub4\",$B$7:$B$107,1,FALSE),\"\")","v":"Sub4"},"Don Shank",null,{"$f":"IFERROR(VLOOKUP(\"3B\",$B$7:$B$107,1,FALSE),\"\")","v":"3B"},"Don Frigoletto",null,"3B - Don Frigoletto",null,null,null,null,"13B",""]
[{"$f":"IFERROR(VLOOKUP(\"Sub5\",$B$7:$B$107,1,FALSE),\"\")","v":"Sub5"},"Tom Farias",null,{"$f":"IFERROR(VLOOKUP(\"4A\",$B$7:$B$107,1,FALSE),\"\")","v":"4A"},"Peg Romano",null,"4A - Peg Romano",null,null,null,null,"14A",""]
[{"$f":"IFERROR(VLOOKUP(\"Sub6\",$B$7:$B$107,1,FALSE),\"\")","v":"Sub6"},"Joe Pearson",null,{"$f":"IFERROR(VLOOKUP(\"4B\",$B$7:$B$107,1,FALSE),\"\")","v":"4B"},"Lynn Laroche",null,"4B - Lynn Laroche",null,null,null,null,"14B",""]
[{"$f":"IFERROR(VLOOKUP(\"Sub7\",$B$7:$B$107,1,FALSE),\"\")","v":"Sub7"},"Dennis St. Jean",null,{"$f":"IFERROR(VLOOKUP(\"5A\",$B$7:$B$107,1,FALSE),\"\")","v":"5A"},"Dennis Normandin",null,"5A - Dennis Normandin",null,null,null,null,"15A",""]
[{"$f":"IFERROR(VLOOKUP(\"Sub8\",$B$7:$B$107,1,FALSE),\"\")","v":"Sub8"},"Joe Fratticelli",null,{"$f":"IFERROR(VLOOKUP(\"5B\",$B$7:$B$107,1,FALSE),\"\")","v":"5B"},"Mark Normandin",null,"5B - Mark Normandin",null,null,null,null,"15B",""]
[{"$f":"IFERROR(VLOOKUP(\"Sub9\",$B$7:$B$107,1,FALSE),\"\")","v":"Sub9"},"Pete Collette",null,{"$f":"IFERROR(VLOOKUP(\"6A\",$B$7:$B$107,1,FALSE),\"\")","v":"6A"},"Vance Butterfield",null,"6A - Vance Butterfield",null,null,null,null,"16A",""]
[{"$f":"IFERROR(VLOOKUP(\"Sub10\",$B$7:$B$107,1,FALSE),\"\")","v":"Sub10"},"Ray Henderson",null,{"$f":"IFERROR(VLOOKUP(\"6B\",$B$7:$B$107,1,FALSE),\"\")","v":"6B"},"Bob Schleyer",null,"6B - Bob Schleyer",null,null,null,null,"16B",""]
[{"$f":"IFERROR(VLOOKUP(\"Sub11\",$B$7:$B$107,1,FALSE),\"\")","v":"Sub11"},"Pete K Normandin",null,{"$f":"IFERROR(VLOOKUP(\"7A\",$B$7:$B$107,1,FALSE),\"\")","v":"7A"},"John Fairbanks",null,"7A - John Fairbanks",null,null,null,null,"17A",""]
[{"$f":"IFERROR(VLOOKUP(\"Sub12\",$B$7:$B$107,1,FALSE),\"\")","v":"Sub12"},"Ron Brassard",null,{"$f":"IFERROR(VLOOKUP(\"7B\",$B$7:$B$107,1,FALSE),\"\")","v":"7B"},"Debbie Fairbanks",null,"7B - Debbie Fairbanks",null,null,null,null,"17B",""]
[{"$f":"IFERROR(VLOOKUP(\"Sub13\",$B$7:$B$107,1,FALSE),\"\")","v":"Sub13"},"Genie Ray Richard",null,{"$f":"IFERROR(VLOOKUP(\"8A\",$B$7:$B$107,1,FALSE),\"\")","v":"8A"},"Steve Lawrence",null,"8A - Steve Lawrence",null,null,null,null,"18A",""]
[{"$f":"IFERROR(VLOOKUP(\"Sub14\",$B$7:$B$107,1,FALSE),\"\")","v":"Sub14"},"John MacDonald",null,{"$f":"IFERROR(VLOOKUP(\"8B\",$B$7:$B$107,1,FALSE),\"\")","v":"8B"},"Mike Benson",null,"8B - Mike Benson",null,null,null,null,"18B",""]
[{"$f":"IFERROR(VLOOKUP(\"Sub15\",$B$7:$B$107,1,FALSE),\"\")","v":"Sub15"},"Darryl Gagne",null,{"$f":"IFERROR(VLOOKUP(\"9A\",$B$7:$B$107,1,FALSE),\"\")","v":"9A"},"Mike Doane",null,"9A - Mike Doane",null,null,null,null,"19A",""]
[{"$f":"IFERROR(VLOOKUP(\"Sub16\",$B$7:$B$107,1,FALSE),\"\")","v":"Sub16"},"Becky Bartkus",null,{"$f":"IFERROR(VLOOKUP(\"9B\",$B$7:$B$107,1,FALSE),\"\")","v":"9B"},"John Cassin",null,"9B - John Cassin",null,null,null,null,"19B",""]
[{"$f":"IFERROR(VLOOKUP(\"Sub17\",$B$7:$B$107,1,FALSE),\"\")","v":"Sub17"},"Dave Cormier",null,{"$f":"IFERROR(VLOOKUP(\"10A\",$B$7:$B$107,1,FALSE),\"\")","v":"10A"},"Ron Ekstrom",null,"10A - Ron Ekstrom",null,null,null,null,"20A",""]
[{"$f":"IFERROR(VLOOKUP(\"Sub18\",$B$7:$B$107,1,FALSE),\"\")","v":"Sub18"},"Doug Cormier",null,{"$f":"IFERROR(VLOOKUP(\"10B\",$B$7:$B$107,1,FALSE),\"\")","v":"10B"},"Beth Romano",null,"10B - Beth Romano",null,null,null,null,"20B",""]
[{"$f":"IFERROR(VLOOKUP(\"Sub19\",$B$7:$B$107,1,FALSE),\"\")","v":"Sub19"},"Ed Robbins",null,{"$f":"IFERROR(VLOOKUP(\"11A\",$B$7:$B$107,1,FALSE),\"\")","v":"11A"},"Jim Haskins",null,"11A - Jim Haskins",null,null,null,null,"21A",""]
[{"$f":"IFERROR(VLOOKUP(\"Sub20\",$B$7:$B$107,1,FALSE),\"\")","v":"Sub20"},"Mark Louney",null,{"$f":"IFERROR(VLOOKUP(\"11B\",$B$7:$B$107,1,FALSE),\"\")","v":"11B"},"Anthony Conte",null,"11B - Anthony Conte",null,null,null,null,"21B",""]
[{"$f":"IFERROR(VLOOKUP(\"Sub21\",$B$7:$B$107,1,FALSE),\"\")","v":"Sub21"},"Paul Stedman",null,{"$f":"IFERROR(VLOOKUP(\"12A\",$B$7:$B$107,1,FALSE),\"\")","v":"12A"},"Sal Ciufetti",null,"12A - Sal Ciufetti",null,null,null,null,"22A",""]
[{"$f":"IFERROR(VLOOKUP(\"Sub22\",$B$7:$B$107,1,FALSE),\"\")","v":"Sub22"},"Jan Hedlund",null,{"$f":"IFERROR(VLOOKUP(\"12B\",$B$7:$B$107,1,FALSE),\"\")","v":"12B"},"Kevin Nivala",null,"12B - Kevin Nivala",null,null,null,null,"22B",""]
[{"$f":"IFERROR(VLOOKUP(\"Sub23\",$B$7:$B$107,1,FALSE),\"\")","v":"Sub23"},"Brenda Louney",null,{"$f":"IFERROR(VLOOKUP(\"13A\",$B$7:$B$107,1,FALSE),\"\")","v":"13A"},"Tim Hurley",null,"13A - Tim Hurley",null,null,null,null,"23A",""]
[{"$f":"IFERROR(VLOOKUP(\"Sub24\",$B$7:$B$107,1,FALSE),\"\")","v":"Sub24"},"Kyle Butterfield",null,{"$f":"IFERROR(VLOOKUP(\"13B\",$B$7:$B$107,1,FALSE),\"\")","v":"13B"},"Walter Drake",null,"13B - Walter Drake",null,null,null,null,"23B",""]
[{"$f":"IFERROR(VLOOKUP(\"Sub25\",$B$7:$B$107,1,FALSE),\"\")","v":"Sub25"},"Dave Flood",null,{"$f":"IFERROR(VLOOKUP(\"14A\",$B$7:$B$107,1,FALSE),\"\")","v":"14A"},"Paul Fontaine",null,"14A - Paul Fontaine",null,null,null,null,"24A",""]
[{"$f":"IFERROR(VLOOKUP(\"Sub26\",$B$7:$B$107,1,FALSE),\"\")","v":"Sub26"},"Ann Goodwin",null,{"$f":"IFERROR(VLOOKUP(\"14B\",$B$7:$B$107,1,FALSE),\"\")","v":"14B"},"Ralph Romano III",null,"14B - Ralph Romano III",null,null,null,null,"24B",""]
[{"$f":"IFERROR(VLOOKUP(\"Sub27\",$B$7:$B$107,1,FALSE),\"\")","v":"Sub27"},"Gary Bittner",null,{"$f":"IFERROR(VLOOKUP(\"15A\",$B$7:$B$107,1,FALSE),\"\")","v":"15A"},"Gary Leavenworth",null,"15A - Gary Leavenworth",null,null,null,null,"25A",""]
[{"$f":"IFERROR(VLOOKUP(\"Sub28\",$B$7:$B$107,1,FALSE),\"\")","v":"Sub28"},"Scott Leavenworth",null,{"$f":"IFERROR(VLOOKUP(\"15B\",$B$7:$B$107,1,FALSE),\"\")","v":"15B"},"Patty Leavenworth",null,"15B - Patty Leavenworth",null,null,null,null,"25B",""]
[{"$f":"IFERROR(VLOOKUP(\"Sub29\",$B$7:$B$107,1,FALSE),\"\")","v":"Sub29"},"Dave DiGiovanni",null,{"$f":"IFERROR(VLOOKUP(\"16A\",$B$7:$B$107,1,FALSE),\"\")","v":"16A"},"Kevin O'Loughlin",null,"16A - Kevin O'Loughlin",null,null,null,null,"26A",{"$f":"IFERROR(VLOOKUP(L140,$F$8:$F$105,2,FALSE),\"\")","v":""}]
[{"$f":"IFERROR(VLOOKUP(\"Sub30\",$B$7:$B$107,1,FALSE),\"\")","v":"Sub30"},"Alessandro Conte",null,{"$f":"IFERROR(VLOOKUP(\"16B\",$B$7:$B$107,1,FALSE),\"\")","v":"16B"},"Mike Romano",null,"16B - Mike Romano",null,null,null,null,"26B",""]
[{"$f":"IFERROR(VLOOKUP(\"1A\",$B$7:$B$107,1,FALSE),\"\")","v":"1A"},"John Normandin",null,{"$f":"IFERROR(VLOOKUP(\"17A\",$B$7:$B$107,1,FALSE),\"\")","v":"17A"},"Carol Ekstrom",null,"17A - Carol Ekstrom",null,null,null,null,"27A",""]
[{"$f":"IFERROR(VLOOKUP(\"1B\",$B$7:$B$107,1,FALSE),\"\")","v":"1B"},"Pete Normandin",null,{"$f":"IFERROR(VLOOKUP(\"17B\",$B$7:$B$107,1,FALSE),\"\")","v":"17B"},"Mike Dauphinais",null,"17B - Mike Dauphinais",null,null,null,null,"27B",""]
[{"$f":"IFERROR(VLOOKUP(\"2A\",$B$7:$B$107,1,FALSE),\"\")","v":"2A"},"Jono Normandin",null,{"$f":"IFERROR(VLOOKUP(\"18A\",$B$7:$B$107,1,FALSE),\"\")","v":"18A"},"Norm Gamache",null,"18A - Norm Gamache",null,null,null,null,"28A",""]
[{"$f":"IFERROR(VLOOKUP(\"2B\",$B$7:$B$107,1,FALSE),\"\")","v":"2B"},"Nathan Wallace",null,{"$f":"IFERROR(VLOOKUP(\"18B\",$B$7:$B$107,1,FALSE),\"\")","v":"18B"},"Michelle Bouvier",null,"18B - Michelle Bouvier",null,null,null,null,"28B",""]
[{"$f":"IFERROR(VLOOKUP(\"3A\",$B$7:$B$107,1,FALSE),\"\")","v":"3A"},"Pete Romano",null,{"$f":"IFERROR(VLOOKUP(\"19A\",$B$7:$B$107,1,FALSE),\"\")","v":"19A"},"John Pavone",null,"19A - John Pavone",null,null,null,null,"29A",""]
[{"$f":"IFERROR(VLOOKUP(\"3B\",$B$7:$B$107,1,FALSE),\"\")","v":"3B"},"Don Frigoletto",null,{"$f":"IFERROR(VLOOKUP(\"19B\",$B$7:$B$107,1,FALSE),\"\")","v":"19B"},"Ernie Beliveau",null,"19B - Ernie Beliveau",null,null,null,null,"29B",""]
[{"$f":"IFERROR(VLOOKUP(\"4A\",$B$7:$B$107,1,FALSE),\"\")","v":"4A"},"Peg Romano",null,{"$f":"IFERROR(VLOOKUP(\"20A\",$B$7:$B$107,1,FALSE),\"\")","v":"20A"},"Sheila Sundstrom",null,"20A - Sheila Sundstrom",null,null,null,null,"30A",""]
[{"$f":"IFERROR(VLOOKUP(\"4B\",$B$7:$B$107,1,FALSE),\"\")","v":"4B"},"Lynn Laroche",null,{"$f":"IFERROR(VLOOKUP(\"20B\",$B$7:$B$107,1,FALSE),\"\")","v":"20B"},"Ray Hoy",null,"20B - Ray Hoy",null,null,null,null,"30B",""]
[{"$f":"IFERROR(VLOOKUP(\"5A\",$B$7:$B$107,1,FALSE),\"\")","v":"5A"},"Dennis Normandin",null,{"$f":"IFERROR(VLOOKUP(\"Sub1\",$B$7:$B$107,1,FALSE),\"\")","v":"Sub1"},"P.J. Romano",null,"Sub1 - P.J. Romano",null,null,null,null,"31A",""]
[{"$f":"IFERROR(VLOOKUP(\"5B\",$B$7:$B$107,1,FALSE),\"\")","v":"5B"},"Mark Normandin",null,{"$f":"IFERROR(VLOOKUP(\"Sub2\",$B$7:$B$107,1,FALSE),\"\")","v":"Sub2"},"PJ Fontaine",null,"Sub2 - PJ Fontaine",null,null,null,null,"31B",""]
[{"$f":"IFERROR(VLOOKUP(\"6A\",$B$7:$B$107,1,FALSE),\"\")","v":"6A"},"Vance Butterfield",null,{"$f":"IFERROR(VLOOKUP(\"Sub3\",$B$7:$B$107,1,FALSE),\"\")","v":"Sub3"},"Jim Hedlund",null,"Sub3 - Jim Hedlund",null,null,null,null,"32A",""]
[{"$f":"IFERROR(VLOOKUP(\"6B\",$B$7:$B$107,1,FALSE),\"\")","v":"6B"},"Bob Schleyer",null,{"$f":"IFERROR(VLOOKUP(\"Sub4\",$B$7:$B$107,1,FALSE),\"\")","v":"Sub4"},"Don Shank",null,"Sub4 - Don Shank",null,null,null,null,"32B",""]
[{"$f":"IFERROR(VLOOKUP(\"7A\",$B$7:$B$107,1,FALSE),\"\")","v":"7A"},"John Fairbanks",null,{"$f":"IFERROR(VLOOKUP(\"Sub5\",$B$7:$B$107,1,FALSE),\"\")","v":"Sub5"},"Tom Farias",null,"Sub5 - Tom Farias",null,null,null,null,"33A",""]
[{"$f":"IFERROR(VLOOKUP(\"7B\",$B$7:$B$107,1,FALSE),\"\")","v":"7B"},"Debbie Fairbanks",null,{"$f":"IFERROR(VLOOKUP(\"Sub6\",$B$7:$B$107,1,FALSE),\"\")","v":"Sub6"},"Joe Pearson",null,"Sub6 - Joe Pearson",null,null,null,null,"33B",""]
[{"$f":"IFERROR(VLOOKUP(\"8A\",$B$7:$B$107,1,FALSE),\"\")","v":"8A"},"Steve Lawrence",null,{"$f":"IFERROR(VLOOKUP(\"Sub7\",$B$7:$B$107,1,FALSE),\"\")","v":"Sub7"},"Dennis St. Jean",null,"Sub7 - Dennis St. Jean",null,null,null,null,"34A",""]
[{"$f":"IFERROR(VLOOKUP(\"8B\",$B$7:$B$107,1,FALSE),\"\")","v":"8B"},"Mike Benson",null,{"$f":"IFERROR(VLOOKUP(\"Sub8\",$B$7:$B$107,1,FALSE),\"\")","v":"Sub8"},"Joe Fratticelli",null,"Sub8 - Joe Fratticelli",null,null,null,null,"34B",""]
[{"$f":"IFERROR(VLOOKUP(\"9A\",$B$7:$B$107,1,FALSE),\"\")","v":"9A"},"Mike Doane",null,{"$f":"IFERROR(VLOOKUP(\"Sub9\",$B$7:$B$107,1,FALSE),\"\")","v":"Sub9"},"Pete Collette",null,"Sub9 - Pete Collette",null,null,null,null,"35A",""]
[{"$f":"IFERROR(VLOOKUP(\"9B\",$B$7:$B$107,1,FALSE),\"\")","v":"9B"},"John Cassin",null,{"$f":"IFERROR(VLOOKUP(\"Sub10\",$B$7:$B$107,1,FALSE),\"\")","v":"Sub10"},"Ray Henderson",null,"Sub10 - Ray Henderson",null,null,null,null,"35B",""]
[{"$f":"IFERROR(VLOOKUP(\"10A\",$B$7:$B$107,1,FALSE),\"\")","v":"10A"},"Ron Ekstrom",null,{"$f":"IFERROR(VLOOKUP(\"Sub11\",$B$7:$B$107,1,FALSE),\"\")","v":"Sub11"},"Pete K Normandin",null,"Sub11 - Pete K Normandin",null,null,null,null,"36A",""]
[{"$f":"IFERROR(VLOOKUP(\"10B\",$B$7:$B$107,1,FALSE),\"\")","v":"10B"},"Beth Romano",null,{"$f":"IFERROR(VLOOKUP(\"Sub12\",$B$7:$B$107,1,FALSE),\"\")","v":"Sub12"},"Ron Brassard",null,"Sub12 - Ron Brassard",null,null,null,null,"36B",""]
[{"$f":"IFERROR(VLOOKUP(\"11A\",$B$7:$B$107,1,FALSE),\"\")","v":"11A"},"Jim Haskins",null,{"$f":"IFERROR(VLOOKUP(\"Sub13\",$B$7:$B$107,1,FALSE),\"\")","v":"Sub13"},"Genie Ray Richard",null,"Sub13 - Genie Ray Richard"]
[{"$f":"IFERROR(VLOOKUP(\"11B\",$B$7:$B$107,1,FALSE),\"\")","v":"11B"},"Anthony Conte",null,{"$f":"IFERROR(VLOOKUP(\"Sub14\",$B$7:$B$107,1,FALSE),\"\")","v":"Sub14"},"John MacDonald",null,"Sub14 - John MacDonald"]
[{"$f":"IFERROR(VLOOKUP(\"12A\",$B$7:$B$107,1,FALSE),\"\")","v":"12A"},"Sal Ciufetti",null,{"$f":"IFERROR(VLOOKUP(\"Sub15\",$B$7:$B$107,1,FALSE),\"\")","v":"Sub15"},"Darryl Gagne",null,"Sub15 - Darryl Gagne"]
[{"$f":"IFERROR(VLOOKUP(\"12B\",$B$7:$B$107,1,FALSE),\"\")","v":"12B"},"Kevin Nivala",null,{"$f":"IFERROR(VLOOKUP(\"Sub16\",$B$7:$B$107,1,FALSE),\"\")","v":"Sub16"},"Becky Bartkus",null,"Sub16 - Becky Bartkus"]
[{"$f":"IFERROR(VLOOKUP(\"13A\",$B$7:$B$107,1,FALSE),\"\")","v":"13A"},"Tim Hurley",null,{"$f":"IFERROR(VLOOKUP(\"Sub17\",$B$7:$B$107,1,FALSE),\"\")","v":"Sub17"},"Dave Cormier",null,"Sub17 - Dave Cormier"]
[{"$f":"IFERROR(VLOOKUP(\"13B\",$B$7:$B$107,1,FALSE),\"\")","v":"13B"},"Walter Drake",null,{"$f":"IFERROR(VLOOKUP(\"Sub18\",$B$7:$B$107,1,FALSE),\"\")","v":"Sub18"},"Doug Cormier",null,"Sub18 - Doug Cormier"]
[{"$f":"IFERROR(VLOOKUP(\"14A\",$B$7:$B$107,1,FALSE),\"\")","v":"14A"},"Paul Fontaine",null,{"$f":"IFERROR(VLOOKUP(\"Sub19\",$B$7:$B$107,1,FALSE),\"\")","v":"Sub19"},"Ed Robbins",null,"Sub19 - Ed Robbins"]
[{"$f":"IFERROR(VLOOKUP(\"14B\",$B$7:$B$107,1,FALSE),\"\")","v":"14B"},"Ralph Romano III",null,{"$f":"IFERROR(VLOOKUP(\"Sub20\",$B$7:$B$107,1,FALSE),\"\")","v":"Sub20"},"Mark Louney",null,"Sub20 - Mark Louney"]
[{"$f":"IFERROR(VLOOKUP(\"15A\",$B$7:$B$107,1,FALSE),\"\")","v":"15A"},"Gary Leavenworth",null,{"$f":"IFERROR(VLOOKUP(\"Sub21\",$B$7:$B$107,1,FALSE),\"\")","v":"Sub21"},"Paul Stedman",null,"Sub21 - Paul Stedman"]
[{"$f":"IFERROR(VLOOKUP(\"15B\",$B$7:$B$107,1,FALSE),\"\")","v":"15B"},"Patty Leavenworth",null,{"$f":"IFERROR(VLOOKUP(\"Sub22\",$B$7:$B$107,1,FALSE),\"\")","v":"Sub22"},"Jan Hedlund",null,"Sub22 - Jan Hedlund"]
[{"$f":"IFERROR(VLOOKUP(\"16A\",$B$7:$B$107,1,FALSE),\"\")","v":"16A"},"Kevin O'Loughlin",null,{"$f":"IFERROR(VLOOKUP(\"Sub23\",$B$7:$B$107,1,FALSE),\"\")","v":"Sub23"},"Brenda Louney",null,"Sub23 - Brenda Louney"]
[{"$f":"IFERROR(VLOOKUP(\"16B\",$B$7:$B$107,1,FALSE),\"\")","v":"16B"},"Mike Romano",null,{"$f":"IFERROR(VLOOKUP(\"Sub24\",$B$7:$B$107,1,FALSE),\"\")","v":"Sub24"},"Kyle Butterfield",null,"Sub24 - Kyle Butterfield"]
[{"$f":"IFERROR(VLOOKUP(\"17A\",$B$7:$B$107,1,FALSE),\"\")","v":"17A"},"Carol Ekstrom",null,{"$f":"IFERROR(VLOOKUP(\"Sub25\",$B$7:$B$107,1,FALSE),\"\")","v":"Sub25"},{"$f":"IFERROR(VLOOKUP(D174,$B$7:$F$107,5,FALSE),\"\")","v":"Dave Flood"},null,"Sub25 - Dave Flood"]
[{"$f":"IFERROR(VLOOKUP(\"17B\",$B$7:$B$107,1,FALSE),\"\")","v":"17B"},{"$f":"IFERROR(VLOOKUP(A175,$B$7:$F$107,5,FALSE),\"\")","v":"Mike Dauphinais"},null,{"$f":"IFERROR(VLOOKUP(\"Sub26\",$B$7:$B$107,1,FALSE),\"\")","v":"Sub26"},"Ann Goodwin",null,{"$f":"D175 & \" - \" & E175","v":"Sub26 - Ann Goodwin"}]
[{"$f":"IFERROR(VLOOKUP(\"18A\",$B$7:$B$107,1,FALSE),\"\")","v":"18A"},"Norm Gamache",null,{"$f":"IFERROR(VLOOKUP(\"Sub27\",$B$7:$B$107,1,FALSE),\"\")","v":"Sub27"},"Gary Bittner",null,{"$f":"D176 & \" - \" & E176","v":"Sub27 - Gary Bittner"}]
[{"$f":"IFERROR(VLOOKUP(\"18B\",$B$7:$B$107,1,FALSE),\"\")","v":"18B"},"Michelle Bouvier",null,{"$f":"IFERROR(VLOOKUP(\"Sub28\",$B$7:$B$107,1,FALSE),\"\")","v":"Sub28"},"Scott Leavenworth",null,{"$f":"D177 & \" - \" & E177","v":"Sub28 - Scott Leavenworth"}]
[{"$f":"IFERROR(VLOOKUP(\"19A\",$B$7:$B$107,1,FALSE),\"\")","v":"19A"},"John Pavone",null,{"$f":"IFERROR(VLOOKUP(\"Sub29\",$B$7:$B$107,1,FALSE),\"\")","v":"Sub29"},"Dave DiGiovanni",null,{"$f":"D178 & \" - \" & E178","v":"Sub29 - Dave DiGiovanni"}]
[{"$f":"IFERROR(VLOOKUP(\"19B\",$B$7:$B$107,1,FALSE),\"\")","v":"19B"},"Ernie Beliveau",null,{"$f":"IFERROR(VLOOKUP(\"Sub30\",$B$7:$B$107,1,FALSE),\"\")","v":"Sub30"},"Alessandro Conte",null,{"$f":"D179 & \" - \" & E179","v":"Sub30 - Alessandro Conte"}]
[{"$f":"IFERROR(VLOOKUP(\"20A\",$B$7:$B$107,1,FALSE),\"\")","v":"20A"},"Sheila Sundstrom"]
[{"$f":"IFERROR(VLOOKUP(\"20B\",$B$7:$B$107,1,FALSE),\"\")","v":"20B"},"Ray Hoy"]
[{"$f":"IFERROR(VLOOKUP(\"21A\",$B$7:$B$107,1,FALSE),\"\")","v":""},""]
[{"$f":"IFERROR(VLOOKUP(\"21B\",$B$7:$B$107,1,FALSE),\"\")","v":""},""]
[{"$f":"IFERROR(VLOOKUP(\"22A\",$B$7:$B$107,1,FALSE),\"\")","v":""},""]
[{"$f":"IFERROR(VLOOKUP(\"22B\",$B$7:$B$107,1,FALSE),\"\")","v":""},""]
[{"$f":"IFERROR(VLOOKUP(\"23A\",$B$7:$B$107,1,FALSE),\"\")","v":""},""]
[{"$f":"IFERROR(VLOOKUP(\"23B\",$B$7:$B$107,1,FALSE),\"\")","v":""},""]
[{"$f":"IFERROR(VLOOKUP(\"24A\",$B$7:$B$107,1,FALSE),\"\")","v":""},""]
[{"$f":"IFERROR(VLOOKUP(\"24B\",$B$7:$B$107,1,FALSE),\"\")","v":""},""]
[{"$f":"IFERROR(VLOOKUP(\"25A\",$B$7:$B$107,1,FALSE),\"\")","v":""},""]
[{"$f":"IFERROR(VLOOKUP(\"25B\",$B$7:$B$107,1,FALSE),\"\")","v":""},""]
[{"$f":"IFERROR(VLOOKUP(\"26A\",$B$7:$B$107,1,FALSE),\"\")","v":""},""]
[{"$f":"IFERROR(VLOOKUP(\"26B\",$B$7:$B$107,1,FALSE),\"\")","v":""},""]
[{"$f":"IFERROR(VLOOKUP(\"27A\",$B$7:$B$107,1,FALSE),\"\")","v":""},""]
[{"$f":"IFERROR(VLOOKUP(\"27B\",$B$7:$B$107,1,FALSE),\"\")","v":""},""]
[{"$f":"IFERROR(VLOOKUP(\"28A\",$B$7:$B$107,1,FALSE),\"\")","v":""},""]
[{"$f":"IFERROR(VLOOKUP(\"28B\",$B$7:$B$107,1,FALSE),\"\")","v":""},""]
[{"$f":"IFERROR(VLOOKUP(\"29A\",$B$7:$B$107,1,FALSE),\"\")","v":""},""]
[{"$f":"IFERROR(VLOOKUP(\"29B\",$B$7:$B$107,1,FALSE),\"\")","v":""},""]
[{"$f":"IFERROR(VLOOKUP(\"30A\",$B$7:$B$107,1,FALSE),\"\")","v":""},"",null,"1A"]
[{"$f":"IFERROR(VLOOKUP(\"30B\",$B$7:$B$107,1,FALSE),\"\")","v":""},"",null,"1B"]
[{"$f":"IFERROR(VLOOKUP(\"31A\",$B$7:$B$107,1,FALSE),\"\")","v":""},"",null,"2A"]
[{"$f":"IFERROR(VLOOKUP(\"31B\",$B$7:$B$107,1,FALSE),\"\")","v":""},"",null,"2B"]
[{"$f":"IFERROR(VLOOKUP(\"32A\",$B$7:$B$107,1,FALSE),\"\")","v":""},"",null,"3A"]
[{"$f":"IFERROR(VLOOKUP(\"32B\",$B$7:$B$107,1,FALSE),\"\")","v":""},"",null,"3B"]
[{"$f":"IFERROR(VLOOKUP(\"33A\",$B$7:$B$107,1,FALSE),\"\")","v":""},"",null,"4A"]
[{"$f":"IFERROR(VLOOKUP(\"33B\",$B$7:$B$107,1,FALSE),\"\")","v":""},"",null,"4B"]
[{"$f":"IFERROR(VLOOKUP(\"34A\",$B$7:$B$107,1,FALSE),\"\")","v":""},"",null,"5A"]
[{"$f":"IFERROR(VLOOKUP(\"34B\",$B$7:$B$107,1,FALSE),\"\")","v":""},"",null,"5B"]
[{"$f":"IFERROR(VLOOKUP(\"35A\",$B$7:$B$107,1,FALSE),\"\")","v":""},"",null,"6A"]
[{"$f":"IFERROR(VLOOKUP(\"35B\",$B$7:$B$107,1,FALSE),\"\")","v":""},"",null,"6B"]
[{"$f":"IFERROR(VLOOKUP(\"36A\",$B$7:$B$107,1,FALSE),\"\")","v":""},"",null,"7A"]
[{"$f":"IFERROR(VLOOKUP(\"36B\",$B$7:$B$107,1,FALSE),\"\")","v":""},"",null,"7B"]
[null,null,null,"8A"]
[null,null,null,"8B"]
[null,null,null,"9A"]
[null,null,null,"9B"]
[null,null,null,"10A"]
[null,null,null,"10B"]
[null,null,null,"11A"]
[null,null,null,"11B"]
[null,null,null,"12A"]
[null,null,null,"12B"]
[null,null,null,"13A"]
[null,null,null,"13B"]
[null,null,null,"14A"]
[null,null,null,"14B"]
[null,null,null,"15A"]
[null,null,null,"15B"]
[null,null,null,"16A"]
[null,null,null,"16B"]
[null,null,null,"17A"]
[null,null,null,"17B"]
[null,null,null,"18A"]
[null,null,null,"18B"]
[null,null,null,"19A"]
[null,null,null,"19B"]
[null,null,null,"20A"]
[null,null,null,"20B"]
[null,null,null,"21A"]
[null,null,null,"21B"]
[null,null,null,"22A"]
[null,null,null,"22B"]
[null,null,null,"23A"]
[null,null,null,"23B"]
[null,null,null,"24A"]
[null,null,null,"24B"]
[null,null,null,"25A"]
[null,null,null,"25B"]
[null,null,null,"Sub"]

{"sheet":"TEAM ROSTERS & SUB LIST","index":5,"n_rows":163,"n_cols":34,"rows_kept":163,"cut":false,"hidden":false,"merged":[[5,1,5,5],[5,7,5,10]]}
[null,null,null,null,null,null,null,null,null,null,null,null,null,null,null,null," ",null,null,null,null,null,null,null,null,{"$f":"ROUND(Y1/0.8+36,0)","v":36},null,null,null,null,null,{"$f":"\"(\"&LEFT(AB1, 3)&\") \"&RIGHT(LEFT(AB1,6),3)&\"-\"&RIGHT(AB1,4)","v":"() -"},null,9999999999]
[null,null,null,null,null,null,null,null,null,null,null,null,null,null,null,null,null,null,null,null,null,null,"Next Sub No.",31,null,null,null,{"$f":"VALUE(AB1)","v":0}]
[]
[]
[]
[null,"Team Rosters",null,null,null,null,null,"Sub List"]
[null,"Team","Player No.","Name","Player No.","Name",null,"Sub No.","Sub Name","Telephone","Handicap"]
[null,"Team 01","1A",{"$f":"IFERROR(VLOOKUP(C8,'LEAGUE MEMBERSHIP'!$B$8:$Q$100,5,FALSE),\"\")","v":"John Normandin"},"1B",{"$f":"IFERROR(VLOOKUP(E8,'LEAGUE MEMBERSHIP'!$B$8:$Q$100,5,FALSE),\"\")","v":"Pete Normandin"},null,"Sub1",{"$f":"IFERROR(VLOOKUP($H8,'LEAGUE MEMBERSHIP'!$B$8:$Q$105,5,FALSE),\"\")","v":"P.J. Romano"},{"$f":"IFERROR(VLOOKUP($H8,'LEAGUE MEMBERSHIP'!$B$8:$Q$105,9,FALSE),\"\")","v":9788271453},{"$f":"IFERROR(VLOOKUP($H8,'LEAGUE MEMBERSHIP'!$B$8:$Q$105,6,FALSE),\"\")","v":12}]
[null,"Team 02","2A",{"$f":"IFERROR(VLOOKUP(C9,'LEAGUE MEMBERSHIP'!$B$8:$Q$100,5,FALSE),\"\")","v":"Jono Normandin"},"2B",{"$f":"IFERROR(VLOOKUP(E9,'LEAGUE MEMBERSHIP'!$B$8:$Q$100,5,FALSE),\"\")","v":"Nathan Wallace"},null,"Sub2",{"$f":"IFERROR(VLOOKUP($H9,'LEAGUE MEMBERSHIP'!$B$8:$Q$105,5,FALSE),\"\")","v":"PJ Fontaine"},{"$f":"IFERROR(VLOOKUP($H9,'LEAGUE MEMBERSHIP'!$B$8:$Q$105,9,FALSE),\"\")","v":9788553266},{"$f":"IFERROR(VLOOKUP($H9,'LEAGUE MEMBERSHIP'!$B$8:$Q$105,6,FALSE),\"\")","v":1}]
[null,"Team 03","3A",{"$f":"IFERROR(VLOOKUP(C10,'LEAGUE MEMBERSHIP'!$B$8:$Q$100,5,FALSE),\"\")","v":"Pete Romano"},"3B",{"$f":"IFERROR(VLOOKUP(E10,'LEAGUE MEMBERSHIP'!$B$8:$Q$100,5,FALSE),\"\")","v":"Don Frigoletto"},null,"Sub3",{"$f":"IFERROR(VLOOKUP($H10,'LEAGUE MEMBERSHIP'!$B$8:$Q$105,5,FALSE),\"\")","v":"Jim Hedlund"},{"$f":"IFERROR(VLOOKUP($H10,'LEAGUE MEMBERSHIP'!$B$8:$Q$105,9,FALSE),\"\")","v":9786685183},{"$f":"IFERROR(VLOOKUP($H10,'LEAGUE MEMBERSHIP'!$B$8:$Q$105,6,FALSE),\"\")","v":16}]
[null,"Team 04","4A",{"$f":"IFERROR(VLOOKUP(C11,'LEAGUE MEMBERSHIP'!$B$8:$Q$100,5,FALSE),\"\")","v":"Peg Romano"},"4B",{"$f":"IFERROR(VLOOKUP(E11,'LEAGUE MEMBERSHIP'!$B$8:$Q$100,5,FALSE),\"\")","v":"Lynn Laroche"},null,"Sub4",{"$f":"IFERROR(VLOOKUP($H11,'LEAGUE MEMBERSHIP'!$B$8:$Q$105,5,FALSE),\"\")","v":"Don Shank"},{"$f":"IFERROR(VLOOKUP($H11,'LEAGUE MEMBERSHIP'!$B$8:$Q$105,9,FALSE),\"\")","v":0},{"$f":"IFERROR(VLOOKUP($H11,'LEAGUE MEMBERSHIP'!$B$8:$Q$105,6,FALSE),\"\")","v":4}]
[null,"Team 05","5A",{"$f":"IFERROR(VLOOKUP(C12,'LEAGUE MEMBERSHIP'!$B$8:$Q$100,5,FALSE),\"\")","v":"Dennis Normandin"},"5B",{"$f":"IFERROR(VLOOKUP(E12,'LEAGUE MEMBERSHIP'!$B$8:$Q$100,5,FALSE),\"\")","v":"Mark Normandin"},null,"Sub5",{"$f":"IFERROR(VLOOKUP($H12,'LEAGUE MEMBERSHIP'!$B$8:$Q$105,5,FALSE),\"\")","v":"Tom Farias"},{"$f":"IFERROR(VLOOKUP($H12,'LEAGUE MEMBERSHIP'!$B$8:$Q$105,9,FALSE),\"\")","v":0},{"$f":"IFERROR(VLOOKUP($H12,'LEAGUE MEMBERSHIP'!$B$8:$Q$105,6,FALSE),\"\")","v":6}]
[null,"Team 06","6A",{"$f":"IFERROR(VLOOKUP(C13,'LEAGUE MEMBERSHIP'!$B$8:$Q$100,5,FALSE),\"\")","v":"Vance Butterfield"},"6B",{"$f":"IFERROR(VLOOKUP(E13,'LEAGUE MEMBERSHIP'!$B$8:$Q$100,5,FALSE),\"\")","v":"Bob Schleyer"},null,"Sub6",{"$f":"IFERROR(VLOOKUP($H13,'LEAGUE MEMBERSHIP'!$B$8:$Q$105,5,FALSE),\"\")","v":"Joe Pearson"},{"$f":"IFERROR(VLOOKUP($H13,'LEAGUE MEMBERSHIP'!$B$8:$Q$105,9,FALSE),\"\")","v":9783406277},{"$f":"IFERROR(VLOOKUP($H13,'LEAGUE MEMBERSHIP'!$B$8:$Q$105,6,FALSE),\"\")","v":12}]
[null,"Team 07","7A",{"$f":"IFERROR(VLOOKUP(C14,'LEAGUE MEMBERSHIP'!$B$8:$Q$100,5,FALSE),\"\")","v":"John Fairbanks"},"7B",{"$f":"IFERROR(VLOOKUP(E14,'LEAGUE MEMBERSHIP'!$B$8:$Q$100,5,FALSE),\"\")","v":"Debbie Fairbanks"},null,"Sub7",{"$f":"IFERROR(VLOOKUP($H14,'LEAGUE MEMBERSHIP'!$B$8:$Q$105,5,FALSE),\"\")","v":"Dennis St. Jean"},{"$f":"IFERROR(VLOOKUP($H14,'LEAGUE MEMBERSHIP'!$B$8:$Q$105,9,FALSE),\"\")","v":9788742835},{"$f":"IFERROR(VLOOKUP($H14,'LEAGUE MEMBERSHIP'!$B$8:$Q$105,6,FALSE),\"\")","v":7}]
[null,"Team 08","8A",{"$f":"IFERROR(VLOOKUP(C15,'LEAGUE MEMBERSHIP'!$B$8:$Q$100,5,FALSE),\"\")","v":"Steve Lawrence"},"8B",{"$f":"IFERROR(VLOOKUP(E15,'LEAGUE MEMBERSHIP'!$B$8:$Q$100,5,FALSE),\"\")","v":"Mike Benson"},null,"Sub8",{"$f":"IFERROR(VLOOKUP($H15,'LEAGUE MEMBERSHIP'!$B$8:$Q$105,5,FALSE),\"\")","v":"Joe Fratticelli"},{"$f":"IFERROR(VLOOKUP($H15,'LEAGUE MEMBERSHIP'!$B$8:$Q$105,9,FALSE),\"\")","v":0},{"$f":"IFERROR(VLOOKUP($H15,'LEAGUE MEMBERSHIP'!$B$8:$Q$105,6,FALSE),\"\")","v":15}]
[null,"Team 09","9A",{"$f":"IFERROR(VLOOKUP(C16,'LEAGUE MEMBERSHIP'!$B$8:$Q$100,5,FALSE),\"\")","v":"Mike Doane"},"9B",{"$f":"IFERROR(VLOOKUP(E16,'LEAGUE MEMBERSHIP'!$B$8:$Q$100,5,FALSE),\"\")","v":"John Cassin"},null,"Sub9",{"$f":"IFERROR(VLOOKUP($H16,'LEAGUE MEMBERSHIP'!$B$8:$Q$105,5,FALSE),\"\")","v":"Pete Collette"},{"$f":"IFERROR(VLOOKUP($H16,'LEAGUE MEMBERSHIP'!$B$8:$Q$105,9,FALSE),\"\")","v":0},{"$f":"IFERROR(VLOOKUP($H16,'LEAGUE MEMBERSHIP'!$B$8:$Q$105,6,FALSE),\"\")","v":6}]
[null,"Team 10","10A",{"$f":"IFERROR(VLOOKUP(C17,'LEAGUE MEMBERSHIP'!$B$8:$Q$100,5,FALSE),\"\")","v":"Ron Ekstrom"},"10B",{"$f":"IFERROR(VLOOKUP(E17,'LEAGUE MEMBERSHIP'!$B$8:$Q$100,5,FALSE),\"\")","v":"Beth Romano"},null,"Sub10",{"$f":"IFERROR(VLOOKUP($H17,'LEAGUE MEMBERSHIP'!$B$8:$Q$105,5,FALSE),\"\")","v":"Ray Henderson"},{"$f":"IFERROR(VLOOKUP($H17,'LEAGUE MEMBERSHIP'!$B$8:$Q$105,9,FALSE),\"\")","v":9786325543},{"$f":"IFERROR(VLOOKUP($H17,'LEAGUE MEMBERSHIP'!$B$8:$Q$105,6,FALSE),\"\")","v":5}]
[null,"Team 11","11A",{"$f":"IFERROR(VLOOKUP(C18,'LEAGUE MEMBERSHIP'!$B$8:$Q$100,5,FALSE),\"\")","v":"Jim Haskins"},"11B",{"$f":"IFERROR(VLOOKUP(E18,'LEAGUE MEMBERSHIP'!$B$8:$Q$100,5,FALSE),\"\")","v":"Anthony Conte"},null,"Sub11",{"$f":"IFERROR(VLOOKUP($H18,'LEAGUE MEMBERSHIP'!$B$8:$Q$105,5,FALSE),\"\")","v":"Pete K Normandin"},{"$f":"IFERROR(VLOOKUP($H18,'LEAGUE MEMBERSHIP'!$B$8:$Q$105,9,FALSE),\"\")","v":9788742642},{"$f":"IFERROR(VLOOKUP($H18,'LEAGUE MEMBERSHIP'!$B$8:$Q$105,6,FALSE),\"\")","v":0}]
[null,"Team 12","12A",{"$f":"IFERROR(VLOOKUP(C19,'LEAGUE MEMBERSHIP'!$B$8:$Q$100,5,FALSE),\"\")","v":"Sal Ciufetti"},"12B",{"$f":"IFERROR(VLOOKUP(E19,'LEAGUE MEMBERSHIP'!$B$8:$Q$100,5,FALSE),\"\")","v":"Kevin Nivala"},null,"Sub12",{"$f":"IFERROR(VLOOKUP($H19,'LEAGUE MEMBERSHIP'!$B$8:$Q$105,5,FALSE),\"\")","v":"Ron Brassard"},{"$f":"IFERROR(VLOOKUP($H19,'LEAGUE MEMBERSHIP'!$B$8:$Q$105,9,FALSE),\"\")","v":0},{"$f":"IFERROR(VLOOKUP($H19,'LEAGUE MEMBERSHIP'!$B$8:$Q$105,6,FALSE),\"\")","v":7}]
[null,"Team 13","13A",{"$f":"IFERROR(VLOOKUP(C20,'LEAGUE MEMBERSHIP'!$B$8:$Q$100,5,FALSE),\"\")","v":"Tim Hurley"},"13B",{"$f":"IFERROR(VLOOKUP(E20,'LEAGUE MEMBERSHIP'!$B$8:$Q$100,5,FALSE),\"\")","v":"Walter Drake"},null,"Sub13",{"$f":"IFERROR(VLOOKUP($H20,'LEAGUE MEMBERSHIP'!$B$8:$Q$105,5,FALSE),\"\")","v":"Genie Ray Richard"},{"$f":"IFERROR(VLOOKUP($H20,'LEAGUE MEMBERSHIP'!$B$8:$Q$105,9,FALSE),\"\")","v":0},{"$f":"IFERROR(VLOOKUP($H20,'LEAGUE MEMBERSHIP'!$B$8:$Q$105,6,FALSE),\"\")","v":4}]
[null,"Team 14","14A",{"$f":"IFERROR(VLOOKUP(C21,'LEAGUE MEMBERSHIP'!$B$8:$Q$100,5,FALSE),\"\")","v":"Paul Fontaine"},"14B",{"$f":"IFERROR(VLOOKUP(E21,'LEAGUE MEMBERSHIP'!$B$8:$Q$100,5,FALSE),\"\")","v":"Ralph Romano III"},null,"Sub14",{"$f":"IFERROR(VLOOKUP($H21,'LEAGUE MEMBERSHIP'!$B$8:$Q$105,5,FALSE),\"\")","v":"John MacDonald"},{"$f":"IFERROR(VLOOKUP($H21,'LEAGUE MEMBERSHIP'!$B$8:$Q$105,9,FALSE),\"\")","v":7812544212},{"$f":"IFERROR(VLOOKUP($H21,'LEAGUE MEMBERSHIP'!$B$8:$Q$105,6,FALSE),\"\")","v":10}]
[null,"Team 15","15A",{"$f":"IFERROR(VLOOKUP(C22,'LEAGUE MEMBERSHIP'!$B$8:$Q$100,5,FALSE),\"\")","v":"Gary Leavenworth"},"15B",{"$f":"IFERROR(VLOOKUP(E22,'LEAGUE MEMBERSHIP'!$B$8:$Q$100,5,FALSE),\"\")","v":"Patty Leavenworth"},null,"Sub15",{"$f":"IFERROR(VLOOKUP($H22,'LEAGUE MEMBERSHIP'!$B$8:$Q$105,5,FALSE),\"\")","v":"Darryl Gagne"},{"$f":"IFERROR(VLOOKUP($H22,'LEAGUE MEMBERSHIP'!$B$8:$Q$105,9,FALSE),\"\")","v":9784919071},{"$f":"IFERROR(VLOOKUP($H22,'LEAGUE MEMBERSHIP'!$B$8:$Q$105,6,FALSE),\"\")","v":8}]
[null,"Team 16","16A",{"$f":"IFERROR(VLOOKUP(C23,'LEAGUE MEMBERSHIP'!$B$8:$Q$100,5,FALSE),\"\")","v":"Kevin O'Loughlin"},"16B",{"$f":"IFERROR(VLOOKUP(E23,'LEAGUE MEMBERSHIP'!$B$8:$Q$100,5,FALSE),\"\")","v":"Mike Romano"},null,"Sub16",{"$f":"IFERROR(VLOOKUP($H23,'LEAGUE MEMBERSHIP'!$B$8:$Q$105,5,FALSE),\"\")","v":"Becky Bartkus"},{"$f":"IFERROR(VLOOKUP($H23,'LEAGUE MEMBERSHIP'!$B$8:$Q$105,9,FALSE),\"\")","v":9783407865},{"$f":"IFERROR(VLOOKUP($H23,'LEAGUE MEMBERSHIP'!$B$8:$Q$105,6,FALSE),\"\")","v":9}]
[null,"Team 17","17A",{"$f":"IFERROR(VLOOKUP(C24,'LEAGUE MEMBERSHIP'!$B$8:$Q$100,5,FALSE),\"\")","v":"Carol Ekstrom"},"17B",{"$f":"IFERROR(VLOOKUP(E24,'LEAGUE MEMBERSHIP'!$B$8:$Q$100,5,FALSE),\"\")","v":"Mike Dauphinais"},null,"Sub17",{"$f":"IFERROR(VLOOKUP($H24,'LEAGUE MEMBERSHIP'!$B$8:$Q$105,5,FALSE),\"\")","v":"Dave Cormier"},{"$f":"IFERROR(VLOOKUP($H24,'LEAGUE MEMBERSHIP'!$B$8:$Q$105,9,FALSE),\"\")","v":0},{"$f":"IFERROR(VLOOKUP($H24,'LEAGUE MEMBERSHIP'!$B$8:$Q$105,6,FALSE),\"\")","v":7}]
[null,"Team 18","18A",{"$f":"IFERROR(VLOOKUP(C25,'LEAGUE MEMBERSHIP'!$B$8:$Q$100,5,FALSE),\"\")","v":"Norm Gamache"},"18B",{"$f":"IFERROR(VLOOKUP(E25,'LEAGUE MEMBERSHIP'!$B$8:$Q$100,5,FALSE),\"\")","v":"Michelle Bouvier"},null,"Sub18",{"$f":"IFERROR(VLOOKUP($H25,'LEAGUE MEMBERSHIP'!$B$8:$Q$105,5,FALSE),\"\")","v":"Doug Cormier"},{"$f":"IFERROR(VLOOKUP($H25,'LEAGUE MEMBERSHIP'!$B$8:$Q$105,9,FALSE),\"\")","v":0},{"$f":"IFERROR(VLOOKUP($H25,'LEAGUE MEMBERSHIP'!$B$8:$Q$105,6,FALSE),\"\")","v":8}]
[null,"Team 19","19A",{"$f":"IFERROR(VLOOKUP(C26,'LEAGUE MEMBERSHIP'!$B$8:$Q$100,5,FALSE),\"\")","v":"John Pavone"},"19B",{"$f":"IFERROR(VLOOKUP(E26,'LEAGUE MEMBERSHIP'!$B$8:$Q$100,5,FALSE),\"\")","v":"Ernie Beliveau"},null,"Sub19",{"$f":"IFERROR(VLOOKUP($H26,'LEAGUE MEMBERSHIP'!$B$8:$Q$105,5,FALSE),\"\")","v":"Ed Robbins"},{"$f":"IFERROR(VLOOKUP($H26,'LEAGUE MEMBERSHIP'!$B$8:$Q$105,9,FALSE),\"\")","v":0},{"$f":"IFERROR(VLOOKUP($H26,'LEAGUE MEMBERSHIP'!$B$8:$Q$105,6,FALSE),\"\")","v":1}]
[null,"Team 20","20A",{"$f":"IFERROR(VLOOKUP(C27,'LEAGUE MEMBERSHIP'!$B$8:$Q$100,5,FALSE),\"\")","v":"Sheila Sundstrom"},"20B",{"$f":"IFERROR(VLOOKUP(E27,'LEAGUE MEMBERSHIP'!$B$8:$Q$100,5,FALSE),\"\")","v":"Ray Hoy"},null,"Sub20",{"$f":"IFERROR(VLOOKUP($H27,'LEAGUE MEMBERSHIP'!$B$8:$Q$105,5,FALSE),\"\")","v":"Mark Louney"},{"$f":"IFERROR(VLOOKUP($H27,'LEAGUE MEMBERSHIP'!$B$8:$Q$105,9,FALSE),\"\")","v":9783423503},{"$f":"IFERROR(VLOOKUP($H27,'LEAGUE MEMBERSHIP'!$B$8:$Q$105,6,FALSE),\"\")","v":10}]
[null,"Team 21","21A",{"$f":"IFERROR(VLOOKUP(C28,'LEAGUE MEMBERSHIP'!$B$8:$Q$100,5,FALSE),\"\")","v":""},"21B",{"$f":"IFERROR(VLOOKUP(E28,'LEAGUE MEMBERSHIP'!$B$8:$Q$100,5,FALSE),\"\")","v":""},null,"Sub21",{"$f":"IFERROR(VLOOKUP($H28,'LEAGUE MEMBERSHIP'!$B$8:$Q$105,5,FALSE),\"\")","v":"Paul Stedman"},{"$f":"IFERROR(VLOOKUP($H28,'LEAGUE MEMBERSHIP'!$B$8:$Q$105,9,FALSE),\"\")","v":0},{"$f":"IFERROR(VLOOKUP($H28,'LEAGUE MEMBERSHIP'!$B$8:$Q$105,6,FALSE),\"\")","v":4}]
[null,"Team 22","22A",{"$f":"IFERROR(VLOOKUP(C29,'LEAGUE MEMBERSHIP'!$B$8:$Q$100,5,FALSE),\"\")","v":""},"22B",{"$f":"IFERROR(VLOOKUP(E29,'LEAGUE MEMBERSHIP'!$B$8:$Q$100,5,FALSE),\"\")","v":""},null,"Sub22",{"$f":"IFERROR(VLOOKUP($H29,'LEAGUE MEMBERSHIP'!$B$8:$Q$105,5,FALSE),\"\")","v":"Jan Hedlund"},{"$f":"IFERROR(VLOOKUP($H29,'LEAGUE MEMBERSHIP'!$B$8:$Q$105,9,FALSE),\"\")","v":0},{"$f":"IFERROR(VLOOKUP($H29,'LEAGUE MEMBERSHIP'!$B$8:$Q$105,6,FALSE),\"\")","v":15}]
[null,"Team 23","23A",{"$f":"IFERROR(VLOOKUP(C30,'LEAGUE MEMBERSHIP'!$B$8:$Q$100,5,FALSE),\"\")","v":""},"23B",{"$f":"IFERROR(VLOOKUP(E30,'LEAGUE MEMBERSHIP'!$B$8:$Q$100,5,FALSE),\"\")","v":""},null,"Sub23",{"$f":"IFERROR(VLOOKUP($H30,'LEAGUE MEMBERSHIP'!$B$8:$Q$105,5,FALSE),\"\")","v":"Brenda Louney"},{"$f":"IFERROR(VLOOKUP($H30,'LEAGUE MEMBERSHIP'!$B$8:$Q$105,9,FALSE),\"\")","v":0},{"$f":"IFERROR(VLOOKUP($H30,'LEAGUE MEMBERSHIP'!$B$8:$Q$105,6,FALSE),\"\")","v":13}]
[null,"Team 24","24A",{"$f":"IFERROR(VLOOKUP(C31,'LEAGUE MEMBERSHIP'!$B$8:$Q$100,5,FALSE),\"\")","v":""},"24B",{"$f":"IFERROR(VLOOKUP(E31,'LEAGUE MEMBERSHIP'!$B$8:$Q$100,5,FALSE),\"\")","v":""},null,"Sub24",{"$f":"IFERROR(VLOOKUP($H31,'LEAGUE MEMBERSHIP'!$B$8:$Q$105,5,FALSE),\"\")","v":"Kyle Butterfield"},{"$f":"IFERROR(VLOOKUP($H31,'LEAGUE MEMBERSHIP'!$B$8:$Q$105,9,FALSE),\"\")","v":7743647442},{"$f":"IFERROR(VLOOKUP($H31,'LEAGUE MEMBERSHIP'!$B$8:$Q$105,6,FALSE),\"\")","v":13}]
[null,"Team 25","25A",{"$f":"IFERROR(VLOOKUP(C32,'LEAGUE MEMBERSHIP'!$B$8:$Q$100,5,FALSE),\"\")","v":""},"25B",{"$f":"IFERROR(VLOOKUP(E32,'LEAGUE MEMBERSHIP'!$B$8:$Q$100,5,FALSE),\"\")","v":""},null,"Sub25",{"$f":"IFERROR(VLOOKUP($H32,'LEAGUE MEMBERSHIP'!$B$8:$Q$105,5,FALSE),\"\")","v":"Dave Flood"},{"$f":"IFERROR(VLOOKUP($H32,'LEAGUE MEMBERSHIP'!$B$8:$Q$105,9,FALSE),\"\")","v":9785491525},{"$f":"IFERROR(VLOOKUP($H32,'LEAGUE MEMBERSHIP'!$B$8:$Q$105,6,FALSE),\"\")","v":8}]
[null,"Team 26","26A",{"$f":"IFERROR(VLOOKUP(C33,'LEAGUE MEMBERSHIP'!$B$8:$Q$100,5,FALSE),\"\")","v":""},"26B",{"$f":"IFERROR(VLOOKUP(E33,'LEAGUE MEMBERSHIP'!$B$8:$Q$100,5,FALSE),\"\")","v":""},null,"Sub26",{"$f":"IFERROR(VLOOKUP($H33,'LEAGUE MEMBERSHIP'!$B$8:$Q$105,5,FALSE),\"\")","v":"Ann Goodwin"},{"$f":"IFERROR(VLOOKUP($H33,'LEAGUE MEMBERSHIP'!$B$8:$Q$105,9,FALSE),\"\")","v":9788740880},{"$f":"IFERROR(VLOOKUP($H33,'LEAGUE MEMBERSHIP'!$B$8:$Q$105,6,FALSE),\"\")","v":15}]
[null,"Team 27","27A",{"$f":"IFERROR(VLOOKUP(C34,'LEAGUE MEMBERSHIP'!$B$8:$Q$100,5,FALSE),\"\")","v":""},"27B",{"$f":"IFERROR(VLOOKUP(E34,'LEAGUE MEMBERSHIP'!$B$8:$Q$100,5,FALSE),\"\")","v":""},null,"Sub27",{"$f":"IFERROR(VLOOKUP($H34,'LEAGUE MEMBERSHIP'!$B$8:$Q$105,5,FALSE),\"\")","v":"Gary Bittner"},{"$f":"IFERROR(VLOOKUP($H34,'LEAGUE MEMBERSHIP'!$B$8:$Q$105,9,FALSE),\"\")","v":9788742642},{"$f":"IFERROR(VLOOKUP($H34,'LEAGUE MEMBERSHIP'!$B$8:$Q$105,6,FALSE),\"\")","v":12}]
[null,"Team 28","28A",{"$f":"IFERROR(VLOOKUP(C35,'LEAGUE MEMBERSHIP'!$B$8:$Q$100,5,FALSE),\"\")","v":""},"28B",{"$f":"IFERROR(VLOOKUP(E35,'LEAGUE MEMBERSHIP'!$B$8:$Q$100,5,FALSE),\"\")","v":""},null,"Sub28",{"$f":"IFERROR(VLOOKUP($H35,'LEAGUE MEMBERSHIP'!$B$8:$Q$105,5,FALSE),\"\")","v":"Scott Leavenworth"},{"$f":"IFERROR(VLOOKUP($H35,'LEAGUE MEMBERSHIP'!$B$8:$Q$105,9,FALSE),\"\")","v":0},{"$f":"IFERROR(VLOOKUP($H35,'LEAGUE MEMBERSHIP'!$B$8:$Q$105,6,FALSE),\"\")","v":18}]
[null,"Team 29","29A",{"$f":"IFERROR(VLOOKUP(C36,'LEAGUE MEMBERSHIP'!$B$8:$Q$100,5,FALSE),\"\")","v":""},"29B",{"$f":"IFERROR(VLOOKUP(E36,'LEAGUE MEMBERSHIP'!$B$8:$Q$100,5,FALSE),\"\")","v":""},null,"Sub29",{"$f":"IFERROR(VLOOKUP($H36,'LEAGUE MEMBERSHIP'!$B$8:$Q$105,5,FALSE),\"\")","v":"Dave DiGiovanni"},{"$f":"IFERROR(VLOOKUP($H36,'LEAGUE MEMBERSHIP'!$B$8:$Q$105,9,FALSE),\"\")","v":0},{"$f":"IFERROR(VLOOKUP($H36,'LEAGUE MEMBERSHIP'!$B$8:$Q$105,6,FALSE),\"\")","v":5}]
[null,"Team 30","30A",{"$f":"IFERROR(VLOOKUP(C37,'LEAGUE MEMBERSHIP'!$B$8:$Q$100,5,FALSE),\"\")","v":""},"30B",{"$f":"IFERROR(VLOOKUP(E37,'LEAGUE MEMBERSHIP'!$B$8:$Q$100,5,FALSE),\"\")","v":""},null,"Sub30",{"$f":"IFERROR(VLOOKUP($H37,'LEAGUE MEMBERSHIP'!$B$8:$Q$105,5,FALSE),\"\")","v":"Alessandro Conte"},{"$f":"IFERROR(VLOOKUP($H37,'LEAGUE MEMBERSHIP'!$B$8:$Q$105,9,FALSE),\"\")","v":0},{"$f":"IFERROR(VLOOKUP($H37,'LEAGUE MEMBERSHIP'!$B$8:$Q$105,6,FALSE),\"\")","v":6}]
[null,"Team 31","31A",{"$f":"IFERROR(VLOOKUP(C38,'LEAGUE MEMBERSHIP'!$B$8:$Q$100,5,FALSE),\"\")","v":""},"31B",{"$f":"IFERROR(VLOOKUP(E38,'LEAGUE MEMBERSHIP'!$B$8:$Q$100,5,FALSE),\"\")","v":""},null,"Course",{"$f":"IFERROR(VLOOKUP($H38,'LEAGUE MEMBERSHIP'!$B$8:$Q$100,5,FALSE),\"\")","v":""}]
[null,"Team 32","32A",{"$f":"IFERROR(VLOOKUP(C39,'LEAGUE MEMBERSHIP'!$B$8:$Q$100,5,FALSE),\"\")","v":""},"32B",{"$f":"IFERROR(VLOOKUP(E39,'LEAGUE MEMBERSHIP'!$B$8:$Q$100,5,FALSE),\"\")","v":""},null,"DNP",{"$f":"IFERROR(VLOOKUP($H39,'LEAGUE MEMBERSHIP'!$B$8:$Q$100,5,FALSE),\"\")","v":""}]
[null,"Team 33","33A",{"$f":"IFERROR(VLOOKUP(C40,'LEAGUE MEMBERSHIP'!$B$8:$Q$100,5,FALSE),\"\")","v":""},"33B",{"$f":"IFERROR(VLOOKUP(E40,'LEAGUE MEMBERSHIP'!$B$8:$Q$100,5,FALSE),\"\")","v":""},null,"Sub1",{"$f":"IFERROR(VLOOKUP($H40,'LEAGUE MEMBERSHIP'!$B$8:$Q$100,5,FALSE),\"\")","v":"P.J. Romano"}]
[null,"Team 34","34A",{"$f":"IFERROR(VLOOKUP(C41,'LEAGUE MEMBERSHIP'!$B$8:$Q$100,5,FALSE),\"\")","v":""},"34B",{"$f":"IFERROR(VLOOKUP(E41,'LEAGUE MEMBERSHIP'!$B$8:$Q$100,5,FALSE),\"\")","v":""},null,"Sub2",{"$f":"IFERROR(VLOOKUP($H41,'LEAGUE MEMBERSHIP'!$B$8:$Q$100,5,FALSE),\"\")","v":"PJ Fontaine"}]
[null,null,null,null,null,null,null,"Sub3",{"$f":"IFERROR(VLOOKUP($H42,'LEAGUE MEMBERSHIP'!$B$8:$Q$100,5,FALSE),\"\")","v":"Jim Hedlund"}]
[null,null,null,null,null,null,null,"Sub4",{"$f":"IFERROR(VLOOKUP($H43,'LEAGUE MEMBERSHIP'!$B$8:$Q$100,5,FALSE),\"\")","v":"Don Shank"}]
[null,null,null,null,null,null,null,"Sub5",{"$f":"IFERROR(VLOOKUP($H44,'LEAGUE MEMBERSHIP'!$B$8:$Q$100,5,FALSE),\"\")","v":"Tom Farias"}]
[null,null,null,null,null,null,null,"Sub6",{"$f":"IFERROR(VLOOKUP($H45,'LEAGUE MEMBERSHIP'!$B$8:$Q$100,5,FALSE),\"\")","v":"Joe Pearson"}]
[null,null,null,null,null,null,null,"Sub7",{"$f":"IFERROR(VLOOKUP($H46,'LEAGUE MEMBERSHIP'!$B$8:$Q$100,5,FALSE),\"\")","v":"Dennis St. Jean"}]
[null,null,null,null,null,null,null,"Sub8",{"$f":"IFERROR(VLOOKUP($H47,'LEAGUE MEMBERSHIP'!$B$8:$Q$100,5,FALSE),\"\")","v":"Joe Fratticelli"}]
[null,null,null,null,null,null,null,"Sub9",{"$f":"IFERROR(VLOOKUP($H48,'LEAGUE MEMBERSHIP'!$B$8:$Q$100,5,FALSE),\"\")","v":"Pete Collette"}]
[null,null,null,null,null,null,null,"Sub10",{"$f":"IFERROR(VLOOKUP($H49,'LEAGUE MEMBERSHIP'!$B$8:$Q$100,5,FALSE),\"\")","v":"Ray Henderson"}]
[null,null,null,null,null,null,null,"Sub11",{"$f":"IFERROR(VLOOKUP($H50,'LEAGUE MEMBERSHIP'!$B$8:$Q$100,5,FALSE),\"\")","v":"Pete K Normandin"}]
[null,null,null,null,null,null,null,"Sub12",{"$f":"IFERROR(VLOOKUP($H51,'LEAGUE MEMBERSHIP'!$B$8:$Q$100,5,FALSE),\"\")","v":"Ron Brassard"}]
[null,null,null,null,null,null,null,"Sub13",{"$f":"IFERROR(VLOOKUP($H52,'LEAGUE MEMBERSHIP'!$B$8:$Q$100,5,FALSE),\"\")","v":"Genie Ray Richard"}]
[null,null,null,null,null,null,null,"Sub14",{"$f":"IFERROR(VLOOKUP($H53,'LEAGUE MEMBERSHIP'!$B$8:$Q$100,5,FALSE),\"\")","v":"John MacDonald"}]
[null,null,null,null,null,null,null,"Sub15",{"$f":"IFERROR(VLOOKUP($H54,'LEAGUE MEMBERSHIP'!$B$8:$Q$100,5,FALSE),\"\")","v":"Darryl Gagne"}]
[null,null,null,null,null,null,null,"Sub16",{"$f":"IFERROR(VLOOKUP($H55,'LEAGUE MEMBERSHIP'!$B$8:$Q$100,5,FALSE),\"\")","v":"Becky Bartkus"}]
[null,null,null,null,null,null,null,"Sub17",{"$f":"IFERROR(VLOOKUP($H56,'LEAGUE MEMBERSHIP'!$B$8:$Q$100,5,FALSE),\"\")","v":"Dave Cormier"}]
[null,null,null,null,null,null,null,"Sub18",{"$f":"IFERROR(VLOOKUP($H57,'LEAGUE MEMBERSHIP'!$B$8:$Q$100,5,FALSE),\"\")","v":"Doug Cormier"}]
[null,null,null,null,null,null,null,"Sub19",{"$f":"IFERROR(VLOOKUP($H58,'LEAGUE MEMBERSHIP'!$B$8:$Q$100,5,FALSE),\"\")","v":"Ed Robbins"}]
[null,null,null,null,null,null,null,"Sub20",{"$f":"IFERROR(VLOOKUP($H59,'LEAGUE MEMBERSHIP'!$B$8:$Q$100,5,FALSE),\"\")","v":"Mark Louney"}]
[null,null,null,null,null,null,null,"Sub21",{"$f":"IFERROR(VLOOKUP($H60,'LEAGUE MEMBERSHIP'!$B$8:$Q$100,5,FALSE),\"\")","v":"Paul Stedman"}]
[null,null,null,null,null,null,null,"Sub22",{"$f":"IFERROR(VLOOKUP($H61,'LEAGUE MEMBERSHIP'!$B$8:$Q$100,5,FALSE),\"\")","v":"Jan Hedlund"}]
[null,null,null,null,null,null,null,"Sub23",{"$f":"IFERROR(VLOOKUP($H62,'LEAGUE MEMBERSHIP'!$B$8:$Q$100,5,FALSE),\"\")","v":"Brenda Louney"}]
[null,null,null,null,null,null,null,"Sub24",{"$f":"IFERROR(VLOOKUP($H63,'LEAGUE MEMBERSHIP'!$B$8:$Q$100,5,FALSE),\"\")","v":"Kyle Butterfield"}]
[null,null,null,null,null,null,null,"Sub25",{"$f":"IFERROR(VLOOKUP($H64,'LEAGUE MEMBERSHIP'!$B$8:$Q$100,5,FALSE),\"\")","v":"Dave Flood"}]
[null,null,null,null,null,null,null,"Sub26",{"$f":"IFERROR(VLOOKUP($H65,'LEAGUE MEMBERSHIP'!$B$8:$Q$100,5,FALSE),\"\")","v":"Ann Goodwin"}]
[null,null,null,null,null,null,null,"Sub27",{"$f":"IFERROR(VLOOKUP($H66,'LEAGUE MEMBERSHIP'!$B$8:$Q$100,5,FALSE),\"\")","v":"Gary Bittner"}]
[null,null,null,null,null,null,null,"Sub28",{"$f":"IFERROR(VLOOKUP($H67,'LEAGUE MEMBERSHIP'!$B$8:$Q$100,5,FALSE),\"\")","v":"Scott Leavenworth"}]
[null,null,null,null,null,null,null,"Sub29",{"$f":"IFERROR(VLOOKUP($H68,'LEAGUE MEMBERSHIP'!$B$8:$Q$100,5,FALSE),\"\")","v":"Dave DiGiovanni"}]
[null,null,null,null,null,null,null,"Sub30",{"$f":"IFERROR(VLOOKUP($H69,'LEAGUE MEMBERSHIP'!$B$8:$Q$100,5,FALSE),\"\")","v":"Alessandro Conte"}]
[]
[]
[]
[]
[]
[]
[]
[]
[]
[]
[]
[]
[]
[]
[]
[]
[]
[]
[]
[]
[]
[null,null,"Sub30",{"$f":"IFERROR(VLOOKUP(C91,#REF!,2,FALSE),\"\")","v":""},"15B"]
[null,null,"1A",{"$f":"IFERROR(VLOOKUP(C92,#REF!,2,FALSE),\"\")","v":""},"16A"]
[null,null,"1B",{"$f":"IFERROR(VLOOKUP(C93,#REF!,2,FALSE),\"\")","v":""},"16B"]
[null,null,"2A",{"$f":"IFERROR(VLOOKUP(C94,#REF!,2,FALSE),\"\")","v":""},"17A"]
[null,null,"2B",{"$f":"IFERROR(VLOOKUP(C95,#REF!,2,FALSE),\"\")","v":""},"17B"]
[null,null,"3A",{"$f":"IFERROR(VLOOKUP(C96,#REF!,2,FALSE),\"\")","v":""},"18A"]
[null,null,"3B",{"$f":"IFERROR(VLOOKUP(C97,#REF!,2,FALSE),\"\")","v":""},"18B"]
[null,null,"4A",{"$f":"IFERROR(VLOOKUP(C98,#REF!,2,FALSE),\"\")","v":""},"19A"]
[null,null,"4B",{"$f":"IFERROR(VLOOKUP(C99,#REF!,2,FALSE),\"\")","v":""},"19B"]
[null,null,"5A",{"$f":"IFERROR(VLOOKUP(C100,#REF!,2,FALSE),\"\")","v":""},"20A"]
[null,null,"5B",{"$f":"IFERROR(VLOOKUP(C101,#REF!,2,FALSE),\"\")","v":""},"20B"]
[null,null,"6A",{"$f":"IFERROR(VLOOKUP(C102,#REF!,2,FALSE),\"\")","v":""},"21A"]
[null,null,"6B",{"$f":"IFERROR(VLOOKUP(C103,#REF!,2,FALSE),\"\")","v":""},"21B"]
[null,null,"7A",{"$f":"IFERROR(VLOOKUP(C104,#REF!,2,FALSE),\"\")","v":""},"22A"]
[null,null,"7B",{"$f":"IFERROR(VLOOKUP(C105,#REF!,2,FALSE),\"\")","v":""},"22B"]
[null,null,"8A",{"$f":"IFERROR(VLOOKUP(C106,#REF!,2,FALSE),\"\")","v":""}]
[null,null,"8B",{"$f":"IFERROR(VLOOKUP(C107,#REF!,2,FALSE),\"\")","v":""}]
[null,null,"9A",{"$f":"IFERROR(VLOOKUP(C108,#REF!,2,FALSE),\"\")","v":""}]
[null,null,null,null,null,null,null,null,null,null,"9B",{"$f":"IFERROR(VLOOKUP(K109,#REF!,2,FALSE),\"\")","v":""}]
[null,null,null,null,null,null,null,null,null,null,"10A",{"$f":"IFERROR(VLOOKUP(K110,#REF!,2,FALSE),\"\")","v":""}]
[null,null,null,null,null,null,null,null,null,null,"10B",{"$f":"IFERROR(VLOOKUP(K111,#REF!,2,FALSE),\"\")","v":""}]
[null,null,null,null,null,null,null,null,null,null,"11A",{"$f":"IFERROR(VLOOKUP(K112,#REF!,2,FALSE),\"\")","v":""}]
[null,null,null,null,null,null,null,null,null,null,"11B",{"$f":"IFERROR(VLOOKUP(K113,#REF!,2,FALSE),\"\")","v":""}]
[null,null,null,null,null,null,null,null,null,null,"12A",{"$f":"IFERROR(VLOOKUP(K114,#REF!,2,FALSE),\"\")","v":""}]
[null,null,null,null,null,null,null,null,null,null,"12B",{"$f":"IFERROR(VLOOKUP(K115,#REF!,2,FALSE),\"\")","v":""}]
[null,null,null,null,null,null,null,null,null,null,"13A",{"$f":"IFERROR(VLOOKUP(K116,#REF!,2,FALSE),\"\")","v":""}]
[null,null,null,null,null,null,null,null,null,null,"13B",{"$f":"IFERROR(VLOOKUP(K117,#REF!,2,FALSE),\"\")","v":""}]
[null,null,null,null,null,null,null,null,null,null,"14A",{"$f":"IFERROR(VLOOKUP(K118,#REF!,2,FALSE),\"\")","v":""}]
[null,null,null,null,null,null,null,null,null,null,"14B",{"$f":"IFERROR(VLOOKUP(K119,#REF!,2,FALSE),\"\")","v":""}]
[null,null,null,null,null,null,null,null,null,null,"15A",{"$f":"IFERROR(VLOOKUP(K120,#REF!,2,FALSE),\"\")","v":""}]
[null,null,null,null,null,null,null,null,null,null,"15B",{"$f":"IFERROR(VLOOKUP(K121,#REF!,2,FALSE),\"\")","v":""}]
[null,null,null,null,null,null,null,null,null,null,"16A",{"$f":"IFERROR(VLOOKUP(K122,#REF!,2,FALSE),\"\")","v":""}]
[null,null,null,null,null,null,null,null,null,null,"16B",{"$f":"IFERROR(VLOOKUP(K123,#REF!,2,FALSE),\"\")","v":""}]
[null,null,null,null,null,null,null,null,null,null,"17A",{"$f":"IFERROR(VLOOKUP(K124,#REF!,2,FALSE),\"\")","v":""}]
[null,null,null,null,null,null,null,null,null,null,"17B",{"$f":"IFERROR(VLOOKUP(K125,#REF!,2,FALSE),\"\")","v":""}]
[null,null,null,null,null,null,null,null,null,null,"18A",{"$f":"IFERROR(VLOOKUP(K126,#REF!,2,FALSE),\"\")","v":""}]
[null,null,null,null,null,null,null,null,null,null,"18B",{"$f":"IFERROR(VLOOKUP(K127,#REF!,2,FALSE),\"\")","v":""}]
[null,null,null,null,null,null,null,null,null,null,"19A",{"$f":"IFERROR(VLOOKUP(K128,#REF!,2,FALSE),\"\")","v":""}]
[null,null,null,null,null,null,null,null,null,null,"19B",{"$f":"IFERROR(VLOOKUP(K129,#REF!,2,FALSE),\"\")","v":""}]
[null,null,null,null,null,null,null,null,null,null,"20A",{"$f":"IFERROR(VLOOKUP(K130,#REF!,2,FALSE),\"\")","v":""}]
[null,null,null,null,null,null,null,null,null,null,"20B",{"$f":"IFERROR(VLOOKUP(K131,#REF!,2,FALSE),\"\")","v":""}]
[null,null,null,null,null,null,null,null,null,null,"21A",{"$f":"IFERROR(VLOOKUP(K132,#REF!,2,FALSE),\"\")","v":""}]
[null,null,null,null,null,null,null,null,null,null,"21B",{"$f":"IFERROR(VLOOKUP(K133,#REF!,2,FALSE),\"\")","v":""}]
[null,null,null,null,null,null,null,null,null,null,"22A",{"$f":"IFERROR(VLOOKUP(K134,#REF!,2,FALSE),\"\")","v":""}]
[null,null,null,null,null,null,null,null,null,null,"22B",{"$f":"IFERROR(VLOOKUP(K135,#REF!,2,FALSE),\"\")","v":""}]
[null,null,null,null,null,null,null,null,null,null,"23A",{"$f":"IFERROR(VLOOKUP(K136,#REF!,2,FALSE),\"\")","v":""}]
[null,null,null,null,null,null,null,null,null,null,"23B",{"$f":"IFERROR(VLOOKUP(K137,#REF!,2,FALSE),\"\")","v":""}]
[null,null,null,null,null,null,null,null,null,null,"24A",{"$f":"IFERROR(VLOOKUP(K138,#REF!,2,FALSE),\"\")","v":""}]
[null,null,null,null,null,null,null,null,null,null,"24B",{"$f":"IFERROR(VLOOKUP(K139,#REF!,2,FALSE),\"\")","v":""}]
[null,null,null,null,null,null,null,null,null,null,"25A",{"$f":"IFERROR(VLOOKUP(K140,#REF!,2,FALSE),\"\")","v":""}]
[null,null,null,null,null,null,null,null,null,null,"25B",{"$f":"IFERROR(VLOOKUP(K141,#REF!,2,FALSE),\"\")","v":""}]
[null,null,null,null,null,null,null,null,null,null,"26A",{"$f":"IFERROR(VLOOKUP(K142,#REF!,2,FALSE),\"\")","v":""}]
[null,null,null,null,null,null,null,null,null,null,"26B",{"$f":"IFERROR(VLOOKUP(K143,#REF!,2,FALSE),\"\")","v":""}]
[null,null,null,null,null,null,null,null,null,null,"27A",{"$f":"IFERROR(VLOOKUP(K144,#REF!,2,FALSE),\"\")","v":""}]
[null,null,null,null,null,null,null,null,null,null,"27B",{"$f":"IFERROR(VLOOKUP(K145,#REF!,2,FALSE),\"\")","v":""}]
[null,null,null,null,null,null,null,null,null,null,"28A",{"$f":"IFERROR(VLOOKUP(K146,#REF!,2,FALSE),\"\")","v":""}]
[null,null,null,null,null,null,null,null,null,null,"28B",{"$f":"IFERROR(VLOOKUP(K147,#REF!,2,FALSE),\"\")","v":""}]
[null,null,null,null,null,null,null,null,null,null,"29A",{"$f":"IFERROR(VLOOKUP(K148,#REF!,2,FALSE),\"\")","v":""}]
[null,null,null,null,null,null,null,null,null,null,"29B",{"$f":"IFERROR(VLOOKUP(K149,#REF!,2,FALSE),\"\")","v":""}]
[null,null,null,null,null,null,null,null,null,null,"30A",{"$f":"IFERROR(VLOOKUP(K150,#REF!,2,FALSE),\"\")","v":""}]
[null,null,null,null,null,null,null,null,null,null,"30B",{"$f":"IFERROR(VLOOKUP(K151,#REF!,2,FALSE),\"\")","v":""}]
[null,null,null,null,null,null,null,null,null,null,"31A",{"$f":"IFERROR(VLOOKUP(K152,#REF!,2,FALSE),\"\")","v":""}]
[null,null,null,null,null,null,null,null,null,null,"31B",{"$f":"IFERROR(VLOOKUP(K153,#REF!,2,FALSE),\"\")","v":""}]
[null,null,null,null,null,null,null,null,null,null,"32A",{"$f":"IFERROR(VLOOKUP(K154,#REF!,2,FALSE),\"\")","v":""}]
[null,null,null,null,null,null,null,null,null,null,"32B",{"$f":"IFERROR(VLOOKUP(K155,#REF!,2,FALSE),\"\")","v":""}]
[null,null,null,null,null,null,null,null,null,null,"33A",{"$f":"IFERROR(VLOOKUP(K156,#REF!,2,FALSE),\"\")","v":""}]
[null,null,null,null,null,null,null,null,null,null,"33B",{"$f":"IFERROR(VLOOKUP(K157,#REF!,2,FALSE),\"\")","v":""}]
[null,null,null,null,null,null,null,null,null,null,"34A",{"$f":"IFERROR(VLOOKUP(K158,#REF!,2,FALSE),\"\")","v":""}]
[null,null,null,null,null,null,null,null,null,null,"34B",{"$f":"IFERROR(VLOOKUP(K159,#REF!,2,FALSE),\"\")","v":""}]
[null,null,null,null,null,null,null,null,null,null,"35A",{"$f":"IFERROR(VLOOKUP(K160,#REF!,2,FALSE),\"\")","v":""}]
[null,null,null,null,null,null,null,null,null,null,"35B",{"$f":"IFERROR(VLOOKUP(K161,#REF!,2,FALSE),\"\")","v":""}]
[null,null,null,null,null,null,null,null,null,null,"36A",{"$f":"IFERROR(VLOOKUP(K162,#REF!,2,FALSE),\"\")","v":""}]
[null,null,null,null,null,null,null,null,null,null,"36B",{"$f":"IFERROR(VLOOKUP(K163,#REF!,2,FALSE),\"\")","v":""}]

{"sheet":"SCORECARD","index":6,"n_rows":182,"n_cols":22,"rows_kept":182,"cut":false,"hidden":false,"merged":[[25,1,25,4],[97,18,97,21],[6,0,6,2],[7,0,7,2],[8,0,8,2],[14,2,15,2],[21,0,21,12],[23,0,23,5],[5,0,5,2],[0,0,0,12],[1,0,1,12],[2,0,2,12],[3,0,3,2],[4,0,4,2]]}
[{"$f":"'COURSE & LEAGUE DETAILS'!$B$3","v":"Woods at Westminster"}]
[{"$f":"'COURSE & LEAGUE DETAILS'!$B$2&\" - \"&N6&\" - \"&N8&\" - \"&TEXT(N7, \"MMM dd, yyyy\")","v":"Romano Golf League - Week 9 - FRONT - Aug 30, 2017"}]
[]
["HOLE",null,null,{"$f":"IF(LEFT($N$8)=\"F\",1,IF(LEFT($N$8)=\"B\",10,\"ERROR\"))","v":1},{"$f":"IF(LEFT($N$8)=\"F\",2,IF(LEFT($N$8)=\"B\",11,\"ERROR\"))","v":2},{"$f":"IF(LEFT($N$8)=\"F\",3,IF(LEFT($N$8)=\"B\",12,\"ERROR\"))","v":3},{"$f":"IF(LEFT($N$8)=\"F\",4,IF(LEFT($N$8)=\"B\",13,\"ERROR\"))","v":4},{"$f":"IF(LEFT($N$8)=\"F\",5,IF(LEFT($N$8)=\"B\",14,\"ERROR\"))","v":5},{"$f":"IF(LEFT($N$8)=\"F\",6,IF(LEFT($N$8)=\"B\",15,\"ERROR\"))","v":6},{"$f":"IF(LEFT($N$8)=\"F\",7,IF(LEFT($N$8)=\"B\",16,\"ERROR\"))","v":7},{"$f":"IF(LEFT($N$8)=\"F\",8,IF(LEFT($N$8)=\"B\",17,\"ERROR\"))","v":8},{"$f":"IF(LEFT($N$8)=\"F\",9,IF(LEFT($N$8)=\"B\",18,\"ERROR\"))","v":9},{"$f":"IF(LEFT($N$8)=\"F\",\"OUT\",IF(LEFT($N$8)=\"B\",\"IN\",\"ERROR\"))","v":"OUT"}]
["WHITE",null,null,{"$f":"IF($D$4=1,'COURSE & LEAGUE DETAILS'!$B$6,IF($D$4=10,'COURSE & LEAGUE DETAILS'!$B$14,\"ERROR\"))","v":460},{"$f":"IF($D$4=1,'COURSE & LEAGUE DETAILS'!$C$6,IF($D$4=10,'COURSE & LEAGUE DETAILS'!$C$14,\"ERROR\"))","v":275},{"$f":"IF($D$4=1,'COURSE & LEAGUE DETAILS'!$D$6,IF($D$4=10,'COURSE & LEAGUE DETAILS'!$D$14,\"ERROR\"))","v":525},{"$f":"IF($D$4=1,'COURSE & LEAGUE DETAILS'!$E$6,IF($D$4=10,'COURSE & LEAGUE DETAILS'!$E$14,\"ERROR\"))","v":295},{"$f":"IF($D$4=1,'COURSE & LEAGUE DETAILS'!$F$6,IF($D$4=10,'COURSE & LEAGUE DETAILS'!$F$14,\"ERROR\"))","v":345},{"$f":"IF($D$4=1,'COURSE & LEAGUE DETAILS'!$G$6,IF($D$4=10,'COURSE & LEAGUE DETAILS'!$G$14,\"ERROR\"))","v":175},{"$f":"IF($D$4=1,'COURSE & LEAGUE DETAILS'!$H$6,IF($D$4=10,'COURSE & LEAGUE DETAILS'!$H$14,\"ERROR\"))","v":405},{"$f":"IF($D$4=1,'COURSE & LEAGUE DETAILS'!$I$6,IF($D$4=10,'COURSE & LEAGUE DETAILS'!$I$14,\"ERROR\"))","v":145},{"$f":"IF($D$4=1,'COURSE & LEAGUE DETAILS'!$J$6,IF($D$4=10,'COURSE & LEAGUE DETAILS'!$J$14,\"ERROR\"))","v":320},{"$f":"IF($D$4=1,'COURSE & LEAGUE DETAILS'!$K$6,IF($D$4=10,'COURSE & LEAGUE DETAILS'!$K$14,\"ERROR\"))","v":2945}]
["MEN'S PAR    ",null,null,{"$f":"IF($D$4=1,'COURSE & LEAGUE DETAILS'!$B$7,IF($D$4=10,'COURSE & LEAGUE DETAILS'!$B$15,\"ERROR\"))","v":5},{"$f":"IF($D$4=1,'COURSE & LEAGUE DETAILS'!$C$7,IF($D$4=10,'COURSE & LEAGUE DETAILS'!$C$15,\"ERROR\"))","v":4},{"$f":"IF($D$4=1,'COURSE & LEAGUE DETAILS'!$D$7,IF($D$4=10,'COURSE & LEAGUE DETAILS'!$D$15,\"ERROR\"))","v":5},{"$f":"IF($D$4=1,'COURSE & LEAGUE DETAILS'!$E$7,IF($D$4=10,'COURSE & LEAGUE DETAILS'!$E$15,\"ERROR\"))","v":4},{"$f":"IF($D$4=1,'COURSE & LEAGUE DETAILS'!$F$7,IF($D$4=10,'COURSE & LEAGUE DETAILS'!$F$15,\"ERROR\"))","v":4},{"$f":"IF($D$4=1,'COURSE & LEAGUE DETAILS'!$G$7,IF($D$4=10,'COURSE & LEAGUE DETAILS'!$G$15,\"ERROR\"))","v":3},{"$f":"IF($D$4=1,'COURSE & LEAGUE DETAILS'!$H$7,IF($D$4=10,'COURSE & LEAGUE DETAILS'!$H$15,\"ERROR\"))","v":4},{"$f":"IF($D$4=1,'COURSE & LEAGUE DETAILS'!$I$7,IF($D$4=10,'COURSE & LEAGUE DETAILS'!$I$15,\"ERROR\"))","v":3},{"$f":"IF($D$4=1,'COURSE & LEAGUE DETAILS'!$J$7,IF($D$4=10,'COURSE & LEAGUE DETAILS'!$J$15,\"ERROR\"))","v":4},{"$f":"IF($D$4=1,'COURSE & LEAGUE DETAILS'!$K$7,IF($D$4=10,'COURSE & LEAGUE DETAILS'!$K$15,\"ERROR\"))","v":36},{"$f":"B176","v":"Week 9"}]
["MEN'S HCP    ",null,null,{"$f":"IF($D$4=1,'COURSE & LEAGUE DETAILS'!$B$8,IF($D$4=10,'COURSE & LEAGUE DETAILS'!$B$16,\"ERROR\"))","v":5},{"$f":"IF($D$4=1,'COURSE & LEAGUE DETAILS'!$C$8,IF($D$4=10,'COURSE & LEAGUE DETAILS'!$C$16,\"ERROR\"))","v":7},{"$f":"IF($D$4=1,'COURSE & LEAGUE DETAILS'!$D$8,IF($D$4=10,'COURSE & LEAGUE DETAILS'!$D$16,\"ERROR\"))","v":3},{"$f":"IF($D$4=1,'COURSE & LEAGUE DETAILS'!$E$8,IF($D$4=10,'COURSE & LEAGUE DETAILS'!$E$16,\"ERROR\"))","v":9},{"$f":"IF($D$4=1,'COURSE & LEAGUE DETAILS'!$F$8,IF($D$4=10,'COURSE & LEAGUE DETAILS'!$F$16,\"ERROR\"))","v":11},{"$f":"IF($D$4=1,'COURSE & LEAGUE DETAILS'!$G$8,IF($D$4=10,'COURSE & LEAGUE DETAILS'!$G$16,\"ERROR\"))","v":17},{"$f":"IF($D$4=1,'COURSE & LEAGUE DETAILS'!$H$8,IF($D$4=10,'COURSE & LEAGUE DETAILS'!$H$16,\"ERROR\"))","v":1},{"$f":"IF($D$4=1,'COURSE & LEAGUE DETAILS'!$I$8,IF($D$4=10,'COURSE & LEAGUE DETAILS'!$I$16,\"ERROR\"))","v":15},{"$f":"IF($D$4=1,'COURSE & LEAGUE DETAILS'!$J$8,IF($D$4=10,'COURSE & LEAGUE DETAILS'!$J$16,\"ERROR\"))","v":13},null,{"$f":"B177","v":"2017-08-30"}]
["RED",null,null,{"$f":"IF($D$4=1,'COURSE & LEAGUE DETAILS'!$B$9,IF($D$4=10,'COURSE & LEAGUE DETAILS'!$B$17,\"ERROR\"))","v":375},{"$f":"IF($D$4=1,'COURSE & LEAGUE DETAILS'!$C$9,IF($D$4=10,'COURSE & LEAGUE DETAILS'!$C$17,\"ERROR\"))","v":250},{"$f":"IF($D$4=1,'COURSE & LEAGUE DETAILS'!$D$9,IF($D$4=10,'COURSE & LEAGUE DETAILS'!$D$17,\"ERROR\"))","v":475},{"$f":"IF($D$4=1,'COURSE & LEAGUE DETAILS'!$E$9,IF($D$4=10,'COURSE & LEAGUE DETAILS'!$E$17,\"ERROR\"))","v":255},{"$f":"IF($D$4=1,'COURSE & LEAGUE DETAILS'!$F$9,IF($D$4=10,'COURSE & LEAGUE DETAILS'!$F$17,\"ERROR\"))","v":325},{"$f":"IF($D$4=1,'COURSE & LEAGUE DETAILS'!$G$9,IF($D$4=10,'COURSE & LEAGUE DETAILS'!$G$17,\"ERROR\"))","v":155},{"$f":"IF($D$4=1,'COURSE & LEAGUE DETAILS'!$H$9,IF($D$4=10,'COURSE & LEAGUE DETAILS'!$H$17,\"ERROR\"))","v":375},{"$f":"IF($D$4=1,'COURSE & LEAGUE DETAILS'!$I$9,IF($D$4=10,'COURSE & LEAGUE DETAILS'!$I$17,\"ERROR\"))","v":130},{"$f":"IF($D$4=1,'COURSE & LEAGUE DETAILS'!$J$9,IF($D$4=10,'COURSE & LEAGUE DETAILS'!$J$17,\"ERROR\"))","v":290},{"$f":"IF($D$4=1,'COURSE & LEAGUE DETAILS'!$K$9,IF($D$4=10,'COURSE & LEAGUE DETAILS'!$K$17,\"ERROR\"))","v":2630},{"$f":"B178","v":"FRONT"}]
["WOMEN'S PAR    ",null,null,{"$f":"IF($D$4=1,'COURSE & LEAGUE DETAILS'!$B$10,IF($D$4=10,'COURSE & LEAGUE DETAILS'!$B$18,\"ERROR\"))","v":5},{"$f":"IF($D$4=1,'COURSE & LEAGUE DETAILS'!$C$10,IF($D$4=10,'COURSE & LEAGUE DETAILS'!$C$18,\"ERROR\"))","v":4},{"$f":"IF($D$4=1,'COURSE & LEAGUE DETAILS'!$D$10,IF($D$4=10,'COURSE & LEAGUE DETAILS'!$D$18,\"ERROR\"))","v":5},{"$f":"IF($D$4=1,'COURSE & LEAGUE DETAILS'!$E$10,IF($D$4=10,'COURSE & LEAGUE DETAILS'!$E$18,\"ERROR\"))","v":4},{"$f":"IF($D$4=1,'COURSE & LEAGUE DETAILS'!$F$10,IF($D$4=10,'COURSE & LEAGUE DETAILS'!$F$18,\"ERROR\"))","v":4},{"$f":"IF($D$4=1,'COURSE & LEAGUE DETAILS'!$G$10,IF($D$4=10,'COURSE & LEAGUE DETAILS'!$G$18,\"ERROR\"))","v":3},{"$f":"IF($D$4=1,'COURSE & LEAGUE DETAILS'!$H$10,IF($D$4=10,'COURSE & LEAGUE DETAILS'!$H$18,\"ERROR\"))","v":5},{"$f":"IF($D$4=1,'COURSE & LEAGUE DETAILS'!$I$10,IF($D$4=10,'COURSE & LEAGUE DETAILS'!$I$18,\"ERROR\"))","v":3},{"$f":"IF($D$4=1,'COURSE & LEAGUE DETAILS'!$J$10,IF($D$4=10,'COURSE & LEAGUE DETAILS'!$J$18,\"ERROR\"))","v":4},{"$f":"IF($D$4=1,'COURSE & LEAGUE DETAILS'!$K$10,IF($D$4=10,'COURSE & LEAGUE DETAILS'!$K$18,\"ERROR\"))","v":37},{"$f":"B179","v":"16:00:00"}]
["HCP","TEAM","WOMEN'S HCP",{"$f":"IF($D$4=1,'COURSE & LEAGUE DETAILS'!$B$11,IF($D$4=10,'COURSE & LEAGUE DETAILS'!$B$19,\"ERROR\"))","v":5},{"$f":"IF($D$4=1,'COURSE & LEAGUE DETAILS'!$C$11,IF($D$4=10,'COURSE & LEAGUE DETAILS'!$C$19,\"ERROR\"))","v":7},{"$f":"IF($D$4=1,'COURSE & LEAGUE DETAILS'!$D$11,IF($D$4=10,'COURSE & LEAGUE DETAILS'!$D$19,\"ERROR\"))","v":3},{"$f":"IF($D$4=1,'COURSE & LEAGUE DETAILS'!$E$11,IF($D$4=10,'COURSE & LEAGUE DETAILS'!$E$19,\"ERROR\"))","v":9},{"$f":"IF($D$4=1,'COURSE & LEAGUE DETAILS'!$F$11,IF($D$4=10,'COURSE & LEAGUE DETAILS'!$F$19,\"ERROR\"))","v":11},{"$f":"IF($D$4=1,'COURSE & LEAGUE DETAILS'!$G$11,IF($D$4=10,'COURSE & LEAGUE DETAILS'!$G$19,\"ERROR\"))","v":17},{"$f":"IF($D$4=1,'COURSE & LEAGUE DETAILS'!$H$11,IF($D$4=10,'COURSE & LEAGUE DETAILS'!$H$19,\"ERROR\"))","v":1},{"$f":"IF($D$4=1,'COURSE & LEAGUE DETAILS'!$I$11,IF($D$4=10,'COURSE & LEAGUE DETAILS'!$I$19,\"ERROR\"))","v":15},{"$f":"IF($D$4=1,'COURSE & LEAGUE DETAILS'!$J$11,IF($D$4=10,'COURSE & LEAGUE DETAILS'!$J$19,\"ERROR\"))","v":13},null,{"$f":"B175","v":"17 v 4"}]
[null,null,null,{"$f":"D56","v":1},1,1,1,0,0,1,0,0,{"$f":"IF(B12=\"Course\",\"\",IF(B12=\"DNP\",\"\",SUM(D11:L11)))","v":5}]
[{"$f":"IF(B12=\"DNP\",IF(B14=\"DNP\",\"ERROR\",\"\"),IF(B12=\"COURSE\",0,VLOOKUP(B12,'LEAGUE MEMBERSHIP'!B:K,6,FALSE)))","v":14},{"$f":"$N$12&\"A\"","v":"17A"},{"$f":"VLOOKUP(B12,'LEAGUE MEMBERSHIP'!$B$8:$K$107,5,FALSE)","v":"Carol Ekstrom"},null,null,null,null,null,null,null,null,null,null,{"$f":"LEFT(SUBSTITUTE(N10,\" v \",\",\"),FIND(\",\",SUBSTITUTE(N10,\" v \",\",\"))-1)","v":"17"}]
[null,null,null,{"$f":"D57","v":0},0,0,0,0,0,0,0,0,{"$f":"IF(B14=\"Course\",\"\",IF(B14=\"DNP\",\"\",SUM(D13:L13)))","v":0}]
[{"$f":"IF(B14=\"DNP\",IF(B12=\"DNP\",\"ERROR\",\"\"),IF(B14=\"COURSE\",0,VLOOKUP(B14,'LEAGUE MEMBERSHIP'!B:K,6,FALSE)))","v":9},{"$f":"$N$12&\"B\"","v":"17B"},{"$f":"VLOOKUP(B14,'LEAGUE MEMBERSHIP'!$B$8:$K$107,5,FALSE)","v":"Mike Dauphinais"}]
[null,null,"+/-"]
[]
[null,null,null,{"$f":"D59","v":1},1,1,0,0,0,1,0,0,{"$f":"IF(B18=\"Course\",\"\",IF(B18=\"DNP\",\"\",SUM(D17:L17)))","v":4}]
[{"$f":"IF(B18=\"DNP\",IF(B20=\"DNP\",\"ERROR\",\"\"),IF(B18=\"COURSE\",0,VLOOKUP(B18,'LEAGUE MEMBERSHIP'!B:K,6,FALSE)))","v":13},{"$f":"$N$18&\"A\"","v":"4A"},{"$f":"VLOOKUP(B18,'LEAGUE MEMBERSHIP'!$B$8:$K$107,5,FALSE)","v":"Peg Romano"},null,null,null,null,null,null,null,null,null,null,{"$f":"RIGHT(SUBSTITUTE(N10,\" v \",\",\"),LEN(SUBSTITUTE(N10,\" v \",\",\"))-FIND(\",\",SUBSTITUTE(N10,\" v \",\",\")))","v":"4"}]
[null,null,null,{"$f":"D60","v":1},1,2,1,1,0,2,0,1,{"$f":"IF(B20=\"Course\",\"\",IF(B20=\"DNP\",\"\",SUM(D19:L19)))","v":9}]
[{"$f":"IF(B20=\"DNP\",IF(B22=\"DNP\",\"ERROR\",\"\"),IF(B20=\"COURSE\",0,VLOOKUP(B20,'LEAGUE MEMBERSHIP'!B:K,6,FALSE)))","v":18},{"$f":"$N$18&\"B\"","v":"4B"},{"$f":"VLOOKUP(B20,'LEAGUE MEMBERSHIP'!$B$8:$K$107,5,FALSE)","v":"Lynn Laroche"}]
[]
[{"$f":"CONCATENATE(\"TEE TIME: \",TEXT(N9,\"h:mm AM/PM\"))","v":"TEE TIME: 4:00 PM"}]
[]
[{"$f":"MAIN!F8","v":"Standings After Week of 08/23/17"}]
[]
["Rank","Team",null,null,null,"Points"]
[{"$f":"MAIN!F11","v":1},{"$f":"MAIN!G11&\" \"&MAIN!H11","v":"Team 10 - Ron Ekstrom / Beth Romano"},null,null,null,{"$f":"MAIN!L11","v":44}]
[{"$f":"MAIN!F12","v":"2T"},{"$f":"MAIN!G12&\" \"&MAIN!H12","v":"Team 11 - Jim Haskins / Anthony Conte"},null,null,null,{"$f":"MAIN!L12","v":37}]
[{"$f":"MAIN!F13","v":"2T"},{"$f":"MAIN!G13&\" \"&MAIN!H13","v":"Team 14 - Paul Fontaine / Ralph Romano III"},null,null,null,{"$f":"MAIN!L13","v":37}]
[{"$f":"MAIN!F14","v":"4T"},{"$f":"MAIN!G14&\" \"&MAIN!H14","v":"Team 07 - John Fairbanks / Debbie Fairbanks"},null,null,null,{"$f":"MAIN!L14","v":36.5}]
[{"$f":"MAIN!F15","v":"4T"},{"$f":"MAIN!G15&\" \"&MAIN!H15","v":"Team 15 - Gary Leavenworth / Patty Leavenworth"},null,null,null,{"$f":"MAIN!L15","v":36.5}]
[{"$f":"MAIN!F16","v":"6T"},{"$f":"MAIN!G16&\" \"&MAIN!H16","v":"Team 08 - Steve Lawrence / Mike Benson"},null,null,null,{"$f":"MAIN!L16","v":32}]
[{"$f":"MAIN!F17","v":"6T"},{"$f":"MAIN!G17&\" \"&MAIN!H17","v":"Team 13 - Tim Hurley / Walter Drake"},null,null,null,{"$f":"MAIN!L17","v":32}]
[{"$f":"MAIN!F18","v":"6T"},{"$f":"MAIN!G18&\" \"&MAIN!H18","v":"Team 20 - Sheila Sundstrom / Ray Hoy"},null,null,null,{"$f":"MAIN!L18","v":32}]
[{"$f":"MAIN!F19","v":9},{"$f":"MAIN!G19&\" \"&MAIN!H19","v":"Team 06 - Vance Butterfield / Bob Schleyer"},null,null,null,{"$f":"MAIN!L19","v":31.5}]
[{"$f":"MAIN!F20","v":"10T"},{"$f":"MAIN!G20&\" \"&MAIN!H20","v":"Team 03 - Pete Romano / Don Frigoletto"},null,null,null,{"$f":"MAIN!L20","v":31}]
[{"$f":"MAIN!F21","v":"10T"},{"$f":"MAIN!G21&\" \"&MAIN!H21","v":"Team 05 - Dennis Normandin / Mark Normandin"},null,null,null,{"$f":"MAIN!L21","v":31}]
[{"$f":"MAIN!F22","v":12},{"$f":"MAIN!G22&\" \"&MAIN!H22","v":"Team 17 - Carol Ekstrom / Mike Dauphinais"},null,null,null,{"$f":"MAIN!L22","v":28.5}]
[{"$f":"MAIN!F23","v":13},{"$f":"MAIN!G23&\" \"&MAIN!H23","v":"Team 02 - Jono Normandin / Nathan Wallace"},null,null,null,{"$f":"MAIN!L23","v":28}]
[{"$f":"MAIN!F24","v":"14T"},{"$f":"MAIN!G24&\" \"&MAIN!H24","v":"Team 01 - John Normandin / Pete Normandin"},null,null,null,{"$f":"MAIN!L24","v":27.5}]
[{"$f":"MAIN!F25","v":"14T"},{"$f":"MAIN!G25&\" \"&MAIN!H25","v":"Team 16 - Kevin O'Loughlin / Mike Romano"},null,null,null,{"$f":"MAIN!L25","v":27.5}]
[{"$f":"MAIN!F26","v":"16T"},{"$f":"MAIN!G26&\" \"&MAIN!H26","v":"Team 09 - Mike Doane / John Cassin"},null,null,null,{"$f":"MAIN!L26","v":26.5}]
[{"$f":"MAIN!F27","v":"16T"},{"$f":"MAIN!G27&\" \"&MAIN!H27","v":"Team 19 - John Pavone / Ernie Beliveau"},null,null,null,{"$f":"MAIN!L27","v":26.5}]
[{"$f":"MAIN!F28","v":18},{"$f":"MAIN!G28&\" \"&MAIN!H28","v":"Team 04 - Peg Romano / Lynn Laroche"},null,null,null,{"$f":"MAIN!L28","v":26}]
[{"$f":"MAIN!F29","v":19},{"$f":"MAIN!G29&\" \"&MAIN!H29","v":"Team 18 - Norm Gamache / Michelle Bouvier"},null,null,null,{"$f":"MAIN!L29","v":24.5}]
[{"$f":"MAIN!F30","v":20},{"$f":"MAIN!G30&\" \"&MAIN!H30","v":"Team 12 - Sal Ciufetti / Kevin Nivala"},null,null,null,{"$f":"MAIN!L30","v":13}]
[{"$f":"MAIN!F31","v":0},{"$f":"MAIN!G31","v":0},null,null,null,{"$f":"MAIN!L31","v":0}]
[{"$f":"MAIN!#REF!","v":{"$error":"#REF!"}},{"$f":"MAIN!#REF!","v":{"$error":"#REF!"}},null,null,null,{"$f":"MAIN!L32","v":0}]
[{"$f":"'COURSE & LEAGUE DETAILS'!A49","v":"To view scores, handicaps, etc., go to http://www.rromano.com and click on the Romano Golf League 2017 Spreadsheet"}]
[]
[]
[]
[null,null,null,null,null,null,null,null,null,null,null,null,null,"# non-par 3s"]
[null,null,"Men's Hcp. Rank",{"$f":"IF(D6<>3,RANK(D7,$D$7:$L$7,1),\"\")","v":3},{"$f":"IF(E6<>3,RANK(E7,$D$7:$L$7,1),\"\")","v":4},2,5,6,"",1,"",7,null,{"$f":"COUNTIF(D6:L6,\"<>\"&3)","v":7}]
[null,null,"Women's Hcp. Rank",{"$f":"IF(D9<>3,RANK(D10,$D$10:$L$10,1),\"\")","v":3},{"$f":"IF(E9<>3,RANK(E10,$D$10:$L$10,1),\"\")","v":4},2,5,6,"",1,"",7,null,{"$f":"COUNTIF(D9:L9,\"<>\"&3)","v":7}]
[{"$f":"MIN(A12:A20)","v":9},{"$f":"IF(A12<>\"\",A12-A56,\"\")","v":5},{"$f":"VLOOKUP(B12,'LEAGUE MEMBERSHIP'!B:K,4,FALSE)","v":"F"},{"$f":"IF($B56=\"\",\"\",IF($C56=\"M\",IF(D$6=3,0,IF($B56-$N$54>=D$54,2,IF($B56>=D$54,1,0))),IF($C56=\"F\",IF(D$9=3,0,IF($B56-$N$55>=D$55,2,IF($B56>=D$55,1,0))))))","v":1},{"$f":"IF($B56=\"\",\"\",IF($C56=\"M\",IF(E$6=3,0,IF($B56-$N$54>=E$54,2,IF($B56>=E$54,1,0))),IF($C56=\"F\",IF(E$9=3,0,IF($B56-$N$55>=E$55,2,IF($B56>=E$55,1,0))))))","v":1},1,1,0,0,1,0,0]
[null,{"$f":"IF(A14<>\"\",A14-A56,\"\")","v":0},{"$f":"VLOOKUP(B14,'LEAGUE MEMBERSHIP'!B:K,4,FALSE)","v":"M"},{"$f":"IF($B57=\"\",\"\",IF($C57=\"M\",IF(D$6=3,0,IF($B57-$N$54>=D$54,2,IF($B57>=D$54,1,0))),IF($C57=\"F\",IF(D$9=3,0,IF($B57-$N$55>=D$55,2,IF($B57>=D$55,1,0))))))","v":0},0,0,0,0,0,0,0,0]
[]
[null,{"$f":"IF(A18<>\"\",A18-A56,\"\")","v":4},{"$f":"VLOOKUP(B18,'LEAGUE MEMBERSHIP'!B:K,4,FALSE)","v":"F"},{"$f":"IF($B59=\"\",\"\",IF($C59=\"M\",IF(D$6=3,0,IF($B59-$N$54>=D$54,2,IF($B59>=D$54,1,0))),IF($C59=\"F\",IF(D$9=3,0,IF($B59-$N$55>=D$55,2,IF($B59>=D$55,1,0))))))","v":1},1,1,0,0,0,1,0,0]
[null,{"$f":"IF(A20<>\"\",A20-A56,\"\")","v":9},{"$f":"VLOOKUP(B20,'LEAGUE MEMBERSHIP'!B:K,4,FALSE)","v":"F"},1,1,2,1,1,0,2,0,1]
[]
[]
[]
[]
[]
[]
[]
[]
[]
[]
[]
[]
[]
[]
[]
[null,{"$f":"$N$12&\"A\"","v":"17A"}]
[]
[null,{"$f":"$N$12&\"B\"","v":"17B"}]
[]
[]
[]
[null,{"$f":"$N$18&\"A\"","v":"4A"}]
[]
[null,{"$f":"$N$18&\"B\"","v":"4B"}]
[]
[]
[]
[]
[]
[null,{"$f":"IFERROR(B12&\" - \"&VLOOKUP(B12,'LEAGUE MEMBERSHIP'!B:J,5,FALSE),\"\")","v":"17A - Carol Ekstrom"}]
[null,{"$f":"IFERROR(B14&\" - \"&VLOOKUP(B14,'LEAGUE MEMBERSHIP'!B:J,5,FALSE),\"\")","v":"17B - Mike Dauphinais"}]
[null,{"$f":"IFERROR(B18&\" - \"&VLOOKUP(B18,'LEAGUE MEMBERSHIP'!B:J,5,FALSE),\"\")","v":"4A - Peg Romano"}]
[null,{"$f":"IFERROR(B20&\" - \"&VLOOKUP(B20,'LEAGUE MEMBERSHIP'!B:J,5,FALSE),\"\")","v":"4B - Lynn Laroche"}]
[]
[]
[]
[]
[null,null,null,null,null,null,null,null,null,null,null,null,null,null,null,null,null,null,"Change"]
[null,null,null,null,null,null,null,null,null,null,null,null,null,"Change?","Player 1","Player 2","Player 3","Player 4","Player 1","Player 2","Player 3","Player 4"]
["16:00:00","17 v 4",{"$f":"IFERROR(IF(FIND(\" v\",B100)=2,\"0\" & LEFT(B100,1),LEFT(B100,2)),\"\")","v":"17"},{"$f":"IFERROR(IF(LEN(RIGHT(B100,LEN(B100)-FIND(\"v \",B100)-1))=1,\"0\"&RIGHT(B100,LEN(B100)-FIND(\"v \",B100)-1),RIGHT(B100,LEN(B100)-FIND(\"v \",B100)-1)),\"\")","v":"04"},{"$f":"\"Team \"&C100","v":"Team 17"},{"$f":"\"Team \"&D100","v":"Team 04"},{"$f":"VLOOKUP(E100,'TEAM ROSTERS & SUB LIST'!$B:$G,3,FALSE)&\" / \"&VLOOKUP(E100,'TEAM ROSTERS & SUB LIST'!$B:$G,5,FALSE)","v":"Carol Ekstrom / Mike Dauphinais"},null,null,{"$f":"VLOOKUP(F100,'TEAM ROSTERS & SUB LIST'!$B:$G,3,FALSE)&\" / \"&VLOOKUP(F100,'TEAM ROSTERS & SUB LIST'!$B:$G,5,FALSE)","v":"Peg Romano / Lynn Laroche"},null,null,{"$f":"E100&\" - \"&G100&\"  v  \"&F100&\" - \"&J100","v":"Team 17 - Carol Ekstrom / Mike Dauphinais  v  Team 04 - Peg Romano / Lynn Laroche"},null,{"$f":"IFERROR(VLOOKUP(E100,'TEAM ROSTERS & SUB LIST'!$B:$G,2,FALSE)&\" - \"&VLOOKUP(E100,'TEAM ROSTERS & SUB LIST'!$B:$G,3,FALSE),\"\")","v":"17A - Carol Ekstrom"},{"$f":"IFERROR(VLOOKUP(E100,'TEAM ROSTERS & SUB LIST'!$B:$G,4,FALSE)&\" - \"&VLOOKUP(E100,'TEAM ROSTERS & SUB LIST'!$B:$G,5,FALSE),\"\")","v":"17B - Mike Dauphinais"},{"$f":"IFERROR(VLOOKUP(F100,'TEAM ROSTERS & SUB LIST'!$B:$G,2,FALSE)&\" - \"&VLOOKUP(F100,'TEAM ROSTERS & SUB LIST'!$B:$G,3,FALSE),\"\")","v":"4A - Peg Romano"},{"$f":"IFERROR(VLOOKUP(F100,'TEAM ROSTERS & SUB LIST'!$B:$G,4,FALSE)&\" - \"&VLOOKUP(F100,'TEAM ROSTERS & SUB LIST'!$B:$G,5,FALSE),\"\")","v":"4B - Lynn Laroche"}]
["16:08:00","1 v 9",{"$f":"IFERROR(IF(FIND(\" v\",B101)=2,\"0\" & LEFT(B101,1),LEFT(B101,2)),\"\")","v":"01"},{"$f":"IFERROR(IF(LEN(RIGHT(B101,LEN(B101)-FIND(\"v \",B101)-1))=1,\"0\"&RIGHT(B101,LEN(B101)-FIND(\"v \",B101)-1),RIGHT(B101,LEN(B101)-FIND(\"v \",B101)-1)),\"\")","v":"09"},{"$f":"\"Team \"&C101","v":"Team 01"},"Team 09",{"$f":"VLOOKUP(E101,'TEAM ROSTERS & SUB LIST'!$B:$G,3,FALSE)&\" / \"&VLOOKUP(E101,'TEAM ROSTERS & SUB LIST'!$B:$G,5,FALSE)","v":"John Normandin / Pete Normandin"},null,null,{"$f":"VLOOKUP(F101,'TEAM ROSTERS & SUB LIST'!$B:$G,3,FALSE)&\" / \"&VLOOKUP(F101,'TEAM ROSTERS & SUB LIST'!$B:$G,5,FALSE)","v":"Mike Doane / John Cassin"},null,null,"Team 01 - John Normandin / Pete Normandin  v  Team 09 - Mike Doane / John Cassin",null,{"$f":"IFERROR(VLOOKUP(E101,'TEAM ROSTERS & SUB LIST'!$B:$G,2,FALSE)&\" - \"&VLOOKUP(E101,'TEAM ROSTERS & SUB LIST'!$B:$G,3,FALSE),\"\")","v":"1A - John Normandin"},{"$f":"IFERROR(VLOOKUP(E101,'TEAM ROSTERS & SUB LIST'!$B:$G,4,FALSE)&\" - \"&VLOOKUP(E101,'TEAM ROSTERS & SUB LIST'!$B:$G,5,FALSE),\"\")","v":"1B - Pete Normandin"},{"$f":"IFERROR(VLOOKUP(F101,'TEAM ROSTERS & SUB LIST'!$B:$G,2,FALSE)&\" - \"&VLOOKUP(F101,'TEAM ROSTERS & SUB LIST'!$B:$G,3,FALSE),\"\")","v":"9A - Mike Doane"},{"$f":"IFERROR(VLOOKUP(F101,'TEAM ROSTERS & SUB LIST'!$B:$G,4,FALSE)&\" - \"&VLOOKUP(F101,'TEAM ROSTERS & SUB LIST'!$B:$G,5,FALSE),\"\")","v":"9B - John Cassin"}]
["16:16:00","19 v 6","19","06","Team 19","Team 06",{"$f":"VLOOKUP(E102,'TEAM ROSTERS & SUB LIST'!$B:$G,3,FALSE)&\" / \"&VLOOKUP(E102,'TEAM ROSTERS & SUB LIST'!$B:$G,5,FALSE)","v":"John Pavone / Ernie Beliveau"},null,null,{"$f":"VLOOKUP(F102,'TEAM ROSTERS & SUB LIST'!$B:$G,3,FALSE)&\" / \"&VLOOKUP(F102,'TEAM ROSTERS & SUB LIST'!$B:$G,5,FALSE)","v":"Vance Butterfield / Bob Schleyer"},null,null,"Team 19 - John Pavone / Ernie Beliveau  v  Team 06 - Vance Butterfield / Bob Schleyer",null,{"$f":"IFERROR(VLOOKUP(E102,'TEAM ROSTERS & SUB LIST'!$B:$G,2,FALSE)&\" - \"&VLOOKUP(E102,'TEAM ROSTERS & SUB LIST'!$B:$G,3,FALSE),\"\")","v":"19A - John Pavone"},{"$f":"IFERROR(VLOOKUP(E102,'TEAM ROSTERS & SUB LIST'!$B:$G,4,FALSE)&\" - \"&VLOOKUP(E102,'TEAM ROSTERS & SUB LIST'!$B:$G,5,FALSE),\"\")","v":"19B - Ernie Beliveau"},{"$f":"IFERROR(VLOOKUP(F102,'TEAM ROSTERS & SUB LIST'!$B:$G,2,FALSE)&\" - \"&VLOOKUP(F102,'TEAM ROSTERS & SUB LIST'!$B:$G,3,FALSE),\"\")","v":"6A - Vance Butterfield"},{"$f":"IFERROR(VLOOKUP(F102,'TEAM ROSTERS & SUB LIST'!$B:$G,4,FALSE)&\" - \"&VLOOKUP(F102,'TEAM ROSTERS & SUB LIST'!$B:$G,5,FALSE),\"\")","v":"6B - Bob Schleyer"}]
["16:24:00","18 v 5","18","05","Team 18","Team 05",{"$f":"VLOOKUP(E103,'TEAM ROSTERS & SUB LIST'!$B:$G,3,FALSE)&\" / \"&VLOOKUP(E103,'TEAM ROSTERS & SUB LIST'!$B:$G,5,FALSE)","v":"Norm Gamache / Michelle Bouvier"},null,null,{"$f":"VLOOKUP(F103,'TEAM ROSTERS & SUB LIST'!$B:$G,3,FALSE)&\" / \"&VLOOKUP(F103,'TEAM ROSTERS & SUB LIST'!$B:$G,5,FALSE)","v":"Dennis Normandin / Mark Normandin"},null,null,"Team 18 - Norm Gamache / Michelle Bouvier  v  Team 05 - Dennis Normandin / Mark Normandin",null,{"$f":"IFERROR(VLOOKUP(E103,'TEAM ROSTERS & SUB LIST'!$B:$G,2,FALSE)&\" - \"&VLOOKUP(E103,'TEAM ROSTERS & SUB LIST'!$B:$G,3,FALSE),\"\")","v":"18A - Norm Gamache"},{"$f":"IFERROR(VLOOKUP(E103,'TEAM ROSTERS & SUB LIST'!$B:$G,4,FALSE)&\" - \"&VLOOKUP(E103,'TEAM ROSTERS & SUB LIST'!$B:$G,5,FALSE),\"\")","v":"18B - Michelle Bouvier"},{"$f":"IFERROR(VLOOKUP(F103,'TEAM ROSTERS & SUB LIST'!$B:$G,2,FALSE)&\" - \"&VLOOKUP(F103,'TEAM ROSTERS & SUB LIST'!$B:$G,3,FALSE),\"\")","v":"5A - Dennis Normandin"},{"$f":"IFERROR(VLOOKUP(F103,'TEAM ROSTERS & SUB LIST'!$B:$G,4,FALSE)&\" - \"&VLOOKUP(F103,'TEAM ROSTERS & SUB LIST'!$B:$G,5,FALSE),\"\")","v":"5B - Mark Normandin"}]
["16:32:00","15 v 2","15","02","Team 15","Team 02",{"$f":"VLOOKUP(E104,'TEAM ROSTERS & SUB LIST'!$B:$G,3,FALSE)&\" / \"&VLOOKUP(E104,'TEAM ROSTERS & SUB LIST'!$B:$G,5,FALSE)","v":"Gary Leavenworth / Patty Leavenworth"},null,null,{"$f":"VLOOKUP(F104,'TEAM ROSTERS & SUB LIST'!$B:$G,3,FALSE)&\" / \"&VLOOKUP(F104,'TEAM ROSTERS & SUB LIST'!$B:$G,5,FALSE)","v":"Jono Normandin / Nathan Wallace"},null,null,"Team 15 - Gary Leavenworth / Patty Leavenworth  v  Team 02 - Jono Normandin / Nathan Wallace",null,{"$f":"IFERROR(VLOOKUP(E104,'TEAM ROSTERS & SUB LIST'!$B:$G,2,FALSE)&\" - \"&VLOOKUP(E104,'TEAM ROSTERS & SUB LIST'!$B:$G,3,FALSE),\"\")","v":"15A - Gary Leavenworth"},{"$f":"IFERROR(VLOOKUP(E104,'TEAM ROSTERS & SUB LIST'!$B:$G,4,FALSE)&\" - \"&VLOOKUP(E104,'TEAM ROSTERS & SUB LIST'!$B:$G,5,FALSE),\"\")","v":"15B - Patty Leavenworth"},{"$f":"IFERROR(VLOOKUP(F104,'TEAM ROSTERS & SUB LIST'!$B:$G,2,FALSE)&\" - \"&VLOOKUP(F104,'TEAM ROSTERS & SUB LIST'!$B:$G,3,FALSE),\"\")","v":"2A - Jono Normandin"},{"$f":"IFERROR(VLOOKUP(F104,'TEAM ROSTERS & SUB LIST'!$B:$G,4,FALSE)&\" - \"&VLOOKUP(F104,'TEAM ROSTERS & SUB LIST'!$B:$G,5,FALSE),\"\")","v":"2B - Nathan Wallace"}]
["16:40:00","14 v 11","14","11","Team 14","Team 11",{"$f":"VLOOKUP(E105,'TEAM ROSTERS & SUB LIST'!$B:$G,3,FALSE)&\" / \"&VLOOKUP(E105,'TEAM ROSTERS & SUB LIST'!$B:$G,5,FALSE)","v":"Paul Fontaine / Ralph Romano III"},null,null,{"$f":"VLOOKUP(F105,'TEAM ROSTERS & SUB LIST'!$B:$G,3,FALSE)&\" / \"&VLOOKUP(F105,'TEAM ROSTERS & SUB LIST'!$B:$G,5,FALSE)","v":"Jim Haskins / Anthony Conte"},null,null,"Team 14 - Paul Fontaine / Ralph Romano III  v  Team 11 - Jim Haskins / Anthony Conte",null,{"$f":"IFERROR(VLOOKUP(E105,'TEAM ROSTERS & SUB LIST'!$B:$G,2,FALSE)&\" - \"&VLOOKUP(E105,'TEAM ROSTERS & SUB LIST'!$B:$G,3,FALSE),\"\")","v":"14A - Paul Fontaine"},{"$f":"IFERROR(VLOOKUP(E105,'TEAM ROSTERS & SUB LIST'!$B:$G,4,FALSE)&\" - \"&VLOOKUP(E105,'TEAM ROSTERS & SUB LIST'!$B:$G,5,FALSE),\"\")","v":"14B - Ralph Romano III"},{"$f":"IFERROR(VLOOKUP(F105,'TEAM ROSTERS & SUB LIST'!$B:$G,2,FALSE)&\" - \"&VLOOKUP(F105,'TEAM ROSTERS & SUB LIST'!$B:$G,3,FALSE),\"\")","v":"11A - Jim Haskins"},{"$f":"IFERROR(VLOOKUP(F105,'TEAM ROSTERS & SUB LIST'!$B:$G,4,FALSE)&\" - \"&VLOOKUP(F105,'TEAM ROSTERS & SUB LIST'!$B:$G,5,FALSE),\"\")","v":"11B - Anthony Conte"}]
["16:48:00","16 v 3","16","03","Team 16","Team 03",{"$f":"VLOOKUP(E106,'TEAM ROSTERS & SUB LIST'!$B:$G,3,FALSE)&\" / \"&VLOOKUP(E106,'TEAM ROSTERS & SUB LIST'!$B:$G,5,FALSE)","v":"Kevin O'Loughlin / Mike Romano"},null,null,{"$f":"VLOOKUP(F106,'TEAM ROSTERS & SUB LIST'!$B:$G,3,FALSE)&\" / \"&VLOOKUP(F106,'TEAM ROSTERS & SUB LIST'!$B:$G,5,FALSE)","v":"Pete Romano / Don Frigoletto"},null,null,"Team 16 - Kevin O'Loughlin / Mike Romano  v  Team 03 - Pete Romano / Don Frigoletto",null,{"$f":"IFERROR(VLOOKUP(E106,'TEAM ROSTERS & SUB LIST'!$B:$G,2,FALSE)&\" - \"&VLOOKUP(E106,'TEAM ROSTERS & SUB LIST'!$B:$G,3,FALSE),\"\")","v":"16A - Kevin O'Loughlin"},{"$f":"IFERROR(VLOOKUP(E106,'TEAM ROSTERS & SUB LIST'!$B:$G,4,FALSE)&\" - \"&VLOOKUP(E106,'TEAM ROSTERS & SUB LIST'!$B:$G,5,FALSE),\"\")","v":"16B - Mike Romano"},{"$f":"IFERROR(VLOOKUP(F106,'TEAM ROSTERS & SUB LIST'!$B:$G,2,FALSE)&\" - \"&VLOOKUP(F106,'TEAM ROSTERS & SUB LIST'!$B:$G,3,FALSE),\"\")","v":"3A - Pete Romano"},{"$f":"IFERROR(VLOOKUP(F106,'TEAM ROSTERS & SUB LIST'!$B:$G,4,FALSE)&\" - \"&VLOOKUP(F106,'TEAM ROSTERS & SUB LIST'!$B:$G,5,FALSE),\"\")","v":"3B - Don Frigoletto"}]
["16:56:00","13 v 12","13","12",{"$f":"IF(C107<>\"\",\"Team \"&C107,\"\")","v":"Team 13"},"Team 12",{"$f":"IFERROR(VLOOKUP(E107,'TEAM ROSTERS & SUB LIST'!$B:$G,3,FALSE)&\" / \"&VLOOKUP(E107,'TEAM ROSTERS & SUB LIST'!$B:$G,5,FALSE),\"\")","v":"Tim Hurley / Walter Drake"},null,null,{"$f":"IFERROR(VLOOKUP(F107,'TEAM ROSTERS & SUB LIST'!$B:$G,3,FALSE)&\" / \"&VLOOKUP(F107,'TEAM ROSTERS & SUB LIST'!$B:$G,5,FALSE),\"\")","v":"Sal Ciufetti / Kevin Nivala"},null,null,{"$f":"IF(B107<>\"\",E107&\" - \"&G107&\"  v  \"&F107&\" - \"&J107,\"\")","v":"Team 13 - Tim Hurley / Walter Drake  v  Team 12 - Sal Ciufetti / Kevin Nivala"},null,{"$f":"IFERROR(VLOOKUP(E107,'TEAM ROSTERS & SUB LIST'!$B:$G,2,FALSE)&\" - \"&VLOOKUP(E107,'TEAM ROSTERS & SUB LIST'!$B:$G,3,FALSE),\"\")","v":"13A - Tim Hurley"},{"$f":"IFERROR(VLOOKUP(E107,'TEAM ROSTERS & SUB LIST'!$B:$G,4,FALSE)&\" - \"&VLOOKUP(E107,'TEAM ROSTERS & SUB LIST'!$B:$G,5,FALSE),\"\")","v":"13B - Walter Drake"},{"$f":"IFERROR(VLOOKUP(F107,'TEAM ROSTERS & SUB LIST'!$B:$G,2,FALSE)&\" - \"&VLOOKUP(F107,'TEAM ROSTERS & SUB LIST'!$B:$G,3,FALSE),\"\")","v":"12A - Sal Ciufetti"},{"$f":"IFERROR(VLOOKUP(F107,'TEAM ROSTERS & SUB LIST'!$B:$G,4,FALSE)&\" - \"&VLOOKUP(F107,'TEAM ROSTERS & SUB LIST'!$B:$G,5,FALSE),\"\")","v":"12B - Kevin Nivala"}]
["17:04:00","20 v 7","20","07","Team 20","Team 07",{"$f":"IFERROR(VLOOKUP(E108,'TEAM ROSTERS & SUB LIST'!$B:$G,3,FALSE)&\" / \"&VLOOKUP(E108,'TEAM ROSTERS & SUB LIST'!$B:$G,5,FALSE),\"\")","v":"Sheila Sundstrom / Ray Hoy"},null,null,{"$f":"IFERROR(VLOOKUP(F108,'TEAM ROSTERS & SUB LIST'!$B:$G,3,FALSE)&\" / \"&VLOOKUP(F108,'TEAM ROSTERS & SUB LIST'!$B:$G,5,FALSE),\"\")","v":"John Fairbanks / Debbie Fairbanks"},null,null,"Team 20 - Sheila Sundstrom / Ray Hoy  v  Team 07 - John Fairbanks / Debbie Fairbanks",null,{"$f":"IFERROR(VLOOKUP(E108,'TEAM ROSTERS & SUB LIST'!$B:$G,2,FALSE)&\" - \"&VLOOKUP(E108,'TEAM ROSTERS & SUB LIST'!$B:$G,3,FALSE),\"\")","v":"20A - Sheila Sundstrom"},{"$f":"IFERROR(VLOOKUP(E108,'TEAM ROSTERS & SUB LIST'!$B:$G,4,FALSE)&\" - \"&VLOOKUP(E108,'TEAM ROSTERS & SUB LIST'!$B:$G,5,FALSE),\"\")","v":"20B - Ray Hoy"},{"$f":"IFERROR(VLOOKUP(F108,'TEAM ROSTERS & SUB LIST'!$B:$G,2,FALSE)&\" - \"&VLOOKUP(F108,'TEAM ROSTERS & SUB LIST'!$B:$G,3,FALSE),\"\")","v":"7A - John Fairbanks"},{"$f":"IFERROR(VLOOKUP(F108,'TEAM ROSTERS & SUB LIST'!$B:$G,4,FALSE)&\" - \"&VLOOKUP(F108,'TEAM ROSTERS & SUB LIST'!$B:$G,5,FALSE),\"\")","v":"7B - Debbie Fairbanks"}]
["17:12:00","10 v 8","10","08","Team 10","Team 08",{"$f":"IFERROR(VLOOKUP(E109,'TEAM ROSTERS & SUB LIST'!$B:$G,3,FALSE)&\" / \"&VLOOKUP(E109,'TEAM ROSTERS & SUB LIST'!$B:$G,5,FALSE),\"\")","v":"Ron Ekstrom / Beth Romano"},null,null,{"$f":"IFERROR(VLOOKUP(F109,'TEAM ROSTERS & SUB LIST'!$B:$G,3,FALSE)&\" / \"&VLOOKUP(F109,'TEAM ROSTERS & SUB LIST'!$B:$G,5,FALSE),\"\")","v":"Steve Lawrence / Mike Benson"},null,null,"Team 10 - Ron Ekstrom / Beth Romano  v  Team 08 - Steve Lawrence / Mike Benson",null,{"$f":"IFERROR(VLOOKUP(E109,'TEAM ROSTERS & SUB LIST'!$B:$G,2,FALSE)&\" - \"&VLOOKUP(E109,'TEAM ROSTERS & SUB LIST'!$B:$G,3,FALSE),\"\")","v":"10A - Ron Ekstrom"},{"$f":"IFERROR(VLOOKUP(E109,'TEAM ROSTERS & SUB LIST'!$B:$G,4,FALSE)&\" - \"&VLOOKUP(E109,'TEAM ROSTERS & SUB LIST'!$B:$G,5,FALSE),\"\")","v":"10B - Beth Romano"},{"$f":"IFERROR(VLOOKUP(F109,'TEAM ROSTERS & SUB LIST'!$B:$G,2,FALSE)&\" - \"&VLOOKUP(F109,'TEAM ROSTERS & SUB LIST'!$B:$G,3,FALSE),\"\")","v":"8A - Steve Lawrence"},{"$f":"IFERROR(VLOOKUP(F109,'TEAM ROSTERS & SUB LIST'!$B:$G,4,FALSE)&\" - \"&VLOOKUP(F109,'TEAM ROSTERS & SUB LIST'!$B:$G,5,FALSE),\"\")","v":"8B - Mike Benson"}]
[null,null,"","","","",{"$f":"IFERROR(VLOOKUP(E110,'TEAM ROSTERS & SUB LIST'!$B:$G,3,FALSE)&\" / \"&VLOOKUP(E110,'TEAM ROSTERS & SUB LIST'!$B:$G,5,FALSE),\"\")","v":""},null,null,{"$f":"IFERROR(VLOOKUP(F110,'TEAM ROSTERS & SUB LIST'!$B:$G,3,FALSE)&\" / \"&VLOOKUP(F110,'TEAM ROSTERS & SUB LIST'!$B:$G,5,FALSE),\"\")","v":""},null,null,"",null,{"$f":"IFERROR(VLOOKUP(E110,'TEAM ROSTERS & SUB LIST'!$B:$G,2,FALSE)&\" - \"&VLOOKUP(E110,'TEAM ROSTERS & SUB LIST'!$B:$G,3,FALSE),\"\")","v":""},{"$f":"IFERROR(VLOOKUP(E110,'TEAM ROSTERS & SUB LIST'!$B:$G,4,FALSE)&\" - \"&VLOOKUP(E110,'TEAM ROSTERS & SUB LIST'!$B:$G,5,FALSE),\"\")","v":""},{"$f":"IFERROR(VLOOKUP(F110,'TEAM ROSTERS & SUB LIST'!$B:$G,2,FALSE)&\" - \"&VLOOKUP(F110,'TEAM ROSTERS & SUB LIST'!$B:$G,3,FALSE),\"\")","v":""},{"$f":"IFERROR(VLOOKUP(F110,'TEAM ROSTERS & SUB LIST'!$B:$G,4,FALSE)&\" - \"&VLOOKUP(F110,'TEAM ROSTERS & SUB LIST'!$B:$G,5,FALSE),\"\")","v":""}]
[null,null,"","","","",{"$f":"IFERROR(VLOOKUP(E111,'TEAM ROSTERS & SUB LIST'!$B:$G,3,FALSE)&\" / \"&VLOOKUP(E111,'TEAM ROSTERS & SUB LIST'!$B:$G,5,FALSE),\"\")","v":""},null,null,{"$f":"IFERROR(VLOOKUP(F111,'TEAM ROSTERS & SUB LIST'!$B:$G,3,FALSE)&\" / \"&VLOOKUP(F111,'TEAM ROSTERS & SUB LIST'!$B:$G,5,FALSE),\"\")","v":""},null,null,"",null,{"$f":"IFERROR(VLOOKUP(E111,'TEAM ROSTERS & SUB LIST'!$B:$G,2,FALSE)&\" - \"&VLOOKUP(E111,'TEAM ROSTERS & SUB LIST'!$B:$G,3,FALSE),\"\")","v":""},{"$f":"IFERROR(VLOOKUP(E111,'TEAM ROSTERS & SUB LIST'!$B:$G,4,FALSE)&\" - \"&VLOOKUP(E111,'TEAM ROSTERS & SUB LIST'!$B:$G,5,FALSE),\"\")","v":""},{"$f":"IFERROR(VLOOKUP(F111,'TEAM ROSTERS & SUB LIST'!$B:$G,2,FALSE)&\" - \"&VLOOKUP(F111,'TEAM ROSTERS & SUB LIST'!$B:$G,3,FALSE),\"\")","v":""},{"$f":"IFERROR(VLOOKUP(F111,'TEAM ROSTERS & SUB LIST'!$B:$G,4,FALSE)&\" - \"&VLOOKUP(F111,'TEAM ROSTERS & SUB LIST'!$B:$G,5,FALSE),\"\")","v":""}]
[null,null,"","","","",{"$f":"IFERROR(VLOOKUP(E112,'TEAM ROSTERS & SUB LIST'!$B:$G,3,FALSE)&\" / \"&VLOOKUP(E112,'TEAM ROSTERS & SUB LIST'!$B:$G,5,FALSE),\"\")","v":""},null,null,{"$f":"IFERROR(VLOOKUP(F112,'TEAM ROSTERS & SUB LIST'!$B:$G,3,FALSE)&\" / \"&VLOOKUP(F112,'TEAM ROSTERS & SUB LIST'!$B:$G,5,FALSE),\"\")","v":""},null,null,"",null,{"$f":"IFERROR(VLOOKUP(E112,'TEAM ROSTERS & SUB LIST'!$B:$G,2,FALSE)&\" - \"&VLOOKUP(E112,'TEAM ROSTERS & SUB LIST'!$B:$G,3,FALSE),\"\")","v":""},{"$f":"IFERROR(VLOOKUP(E112,'TEAM ROSTERS & SUB LIST'!$B:$G,4,FALSE)&\" - \"&VLOOKUP(E112,'TEAM ROSTERS & SUB LIST'!$B:$G,5,FALSE),\"\")","v":""},{"$f":"IFERROR(VLOOKUP(F112,'TEAM ROSTERS & SUB LIST'!$B:$G,2,FALSE)&\" - \"&VLOOKUP(F112,'TEAM ROSTERS & SUB LIST'!$B:$G,3,FALSE),\"\")","v":""},{"$f":"IFERROR(VLOOKUP(F112,'TEAM ROSTERS & SUB LIST'!$B:$G,4,FALSE)&\" - \"&VLOOKUP(F112,'TEAM ROSTERS & SUB LIST'!$B:$G,5,FALSE),\"\")","v":""}]
[null,null,"","","","",{"$f":"IFERROR(VLOOKUP(E113,'TEAM ROSTERS & SUB LIST'!$B:$G,3,FALSE)&\" / \"&VLOOKUP(E113,'TEAM ROSTERS & SUB LIST'!$B:$G,5,FALSE),\"\")","v":""},null,null,{"$f":"IFERROR(VLOOKUP(F113,'TEAM ROSTERS & SUB LIST'!$B:$G,3,FALSE)&\" / \"&VLOOKUP(F113,'TEAM ROSTERS & SUB LIST'!$B:$G,5,FALSE),\"\")","v":""},null,null,"",null,{"$f":"IFERROR(VLOOKUP(E113,'TEAM ROSTERS & SUB LIST'!$B:$G,2,FALSE)&\" - \"&VLOOKUP(E113,'TEAM ROSTERS & SUB LIST'!$B:$G,3,FALSE),\"\")","v":""},{"$f":"IFERROR(VLOOKUP(E113,'TEAM ROSTERS & SUB LIST'!$B:$G,4,FALSE)&\" - \"&VLOOKUP(E113,'TEAM ROSTERS & SUB LIST'!$B:$G,5,FALSE),\"\")","v":""},{"$f":"IFERROR(VLOOKUP(F113,'TEAM ROSTERS & SUB LIST'!$B:$G,2,FALSE)&\" - \"&VLOOKUP(F113,'TEAM ROSTERS & SUB LIST'!$B:$G,3,FALSE),\"\")","v":""},{"$f":"IFERROR(VLOOKUP(F113,'TEAM ROSTERS & SUB LIST'!$B:$G,4,FALSE)&\" - \"&VLOOKUP(F113,'TEAM ROSTERS & SUB LIST'!$B:$G,5,FALSE),\"\")","v":""}]
[null,null,"","","","",{"$f":"IFERROR(VLOOKUP(E114,'TEAM ROSTERS & SUB LIST'!$B:$G,3,FALSE)&\" / \"&VLOOKUP(E114,'TEAM ROSTERS & SUB LIST'!$B:$G,5,FALSE),\"\")","v":""},null,null,{"$f":"IFERROR(VLOOKUP(F114,'TEAM ROSTERS & SUB LIST'!$B:$G,3,FALSE)&\" / \"&VLOOKUP(F114,'TEAM ROSTERS & SUB LIST'!$B:$G,5,FALSE),\"\")","v":""},null,null,"",null,{"$f":"IFERROR(VLOOKUP(E114,'TEAM ROSTERS & SUB LIST'!$B:$G,2,FALSE)&\" - \"&VLOOKUP(E114,'TEAM ROSTERS & SUB LIST'!$B:$G,3,FALSE),\"\")","v":""},{"$f":"IFERROR(VLOOKUP(E114,'TEAM ROSTERS & SUB LIST'!$B:$G,4,FALSE)&\" - \"&VLOOKUP(E114,'TEAM ROSTERS & SUB LIST'!$B:$G,5,FALSE),\"\")","v":""},{"$f":"IFERROR(VLOOKUP(F114,'TEAM ROSTERS & SUB LIST'!$B:$G,2,FALSE)&\" - \"&VLOOKUP(F114,'TEAM ROSTERS & SUB LIST'!$B:$G,3,FALSE),\"\")","v":""},{"$f":"IFERROR(VLOOKUP(F114,'TEAM ROSTERS & SUB LIST'!$B:$G,4,FALSE)&\" - \"&VLOOKUP(F114,'TEAM ROSTERS & SUB LIST'!$B:$G,5,FALSE),\"\")","v":""}]
[null,null,"","","","",{"$f":"IFERROR(VLOOKUP(E115,'TEAM ROSTERS & SUB LIST'!$B:$G,3,FALSE)&\" / \"&VLOOKUP(E115,'TEAM ROSTERS & SUB LIST'!$B:$G,5,FALSE),\"\")","v":""},null,null,{"$f":"IFERROR(VLOOKUP(F115,'TEAM ROSTERS & SUB LIST'!$B:$G,3,FALSE)&\" / \"&VLOOKUP(F115,'TEAM ROSTERS & SUB LIST'!$B:$G,5,FALSE),\"\")","v":""},null,null,"",null,{"$f":"IFERROR(VLOOKUP(E115,'TEAM ROSTERS & SUB LIST'!$B:$G,2,FALSE)&\" - \"&VLOOKUP(E115,'TEAM ROSTERS & SUB LIST'!$B:$G,3,FALSE),\"\")","v":""},{"$f":"IFERROR(VLOOKUP(E115,'TEAM ROSTERS & SUB LIST'!$B:$G,4,FALSE)&\" - \"&VLOOKUP(E115,'TEAM ROSTERS & SUB LIST'!$B:$G,5,FALSE),\"\")","v":""},{"$f":"IFERROR(VLOOKUP(F115,'TEAM ROSTERS & SUB LIST'!$B:$G,2,FALSE)&\" - \"&VLOOKUP(F115,'TEAM ROSTERS & SUB LIST'!$B:$G,3,FALSE),\"\")","v":""},{"$f":"IFERROR(VLOOKUP(F115,'TEAM ROSTERS & SUB LIST'!$B:$G,4,FALSE)&\" - \"&VLOOKUP(F115,'TEAM ROSTERS & SUB LIST'!$B:$G,5,FALSE),\"\")","v":""}]
[null,null,"","","","",{"$f":"IFERROR(VLOOKUP(E116,'TEAM ROSTERS & SUB LIST'!$B:$G,3,FALSE)&\" / \"&VLOOKUP(E116,'TEAM ROSTERS & SUB LIST'!$B:$G,5,FALSE),\"\")","v":""},null,null,{"$f":"IFERROR(VLOOKUP(F116,'TEAM ROSTERS & SUB LIST'!$B:$G,3,FALSE)&\" / \"&VLOOKUP(F116,'TEAM ROSTERS & SUB LIST'!$B:$G,5,FALSE),\"\")","v":""},null,null,"",null,{"$f":"IFERROR(VLOOKUP(E116,'TEAM ROSTERS & SUB LIST'!$B:$G,2,FALSE)&\" - \"&VLOOKUP(E116,'TEAM ROSTERS & SUB LIST'!$B:$G,3,FALSE),\"\")","v":""},{"$f":"IFERROR(VLOOKUP(E116,'TEAM ROSTERS & SUB LIST'!$B:$G,4,FALSE)&\" - \"&VLOOKUP(E116,'TEAM ROSTERS & SUB LIST'!$B:$G,5,FALSE),\"\")","v":""},{"$f":"IFERROR(VLOOKUP(F116,'TEAM ROSTERS & SUB LIST'!$B:$G,2,FALSE)&\" - \"&VLOOKUP(F116,'TEAM ROSTERS & SUB LIST'!$B:$G,3,FALSE),\"\")","v":""},{"$f":"IFERROR(VLOOKUP(F116,'TEAM ROSTERS & SUB LIST'!$B:$G,4,FALSE)&\" - \"&VLOOKUP(F116,'TEAM ROSTERS & SUB LIST'!$B:$G,5,FALSE),\"\")","v":""}]
[null,null,"","","","",{"$f":"IFERROR(VLOOKUP(E117,'TEAM ROSTERS & SUB LIST'!$B:$G,3,FALSE)&\" / \"&VLOOKUP(E117,'TEAM ROSTERS & SUB LIST'!$B:$G,5,FALSE),\"\")","v":""},null,null,{"$f":"IFERROR(VLOOKUP(F117,'TEAM ROSTERS & SUB LIST'!$B:$G,3,FALSE)&\" / \"&VLOOKUP(F117,'TEAM ROSTERS & SUB LIST'!$B:$G,5,FALSE),\"\")","v":""},null,null,"",null,{"$f":"IFERROR(VLOOKUP(E117,'TEAM ROSTERS & SUB LIST'!$B:$G,2,FALSE)&\" - \"&VLOOKUP(E117,'TEAM ROSTERS & SUB LIST'!$B:$G,3,FALSE),\"\")","v":""},{"$f":"IFERROR(VLOOKUP(E117,'TEAM ROSTERS & SUB LIST'!$B:$G,4,FALSE)&\" - \"&VLOOKUP(E117,'TEAM ROSTERS & SUB LIST'!$B:$G,5,FALSE),\"\")","v":""},{"$f":"IFERROR(VLOOKUP(F117,'TEAM ROSTERS & SUB LIST'!$B:$G,2,FALSE)&\" - \"&VLOOKUP(F117,'TEAM ROSTERS & SUB LIST'!$B:$G,3,FALSE),\"\")","v":""},{"$f":"IFERROR(VLOOKUP(F117,'TEAM ROSTERS & SUB LIST'!$B:$G,4,FALSE)&\" - \"&VLOOKUP(F117,'TEAM ROSTERS & SUB LIST'!$B:$G,5,FALSE),\"\")","v":""}]
[null,null,"","","","",{"$f":"IFERROR(VLOOKUP(E118,'TEAM ROSTERS & SUB LIST'!$B:$G,3,FALSE)&\" / \"&VLOOKUP(E118,'TEAM ROSTERS & SUB LIST'!$B:$G,5,FALSE),\"\")","v":""},null,null,{"$f":"IFERROR(VLOOKUP(F118,'TEAM ROSTERS & SUB LIST'!$B:$G,3,FALSE)&\" / \"&VLOOKUP(F118,'TEAM ROSTERS & SUB LIST'!$B:$G,5,FALSE),\"\")","v":""},null,null,"",null,{"$f":"IFERROR(VLOOKUP(E118,'TEAM ROSTERS & SUB LIST'!$B:$G,2,FALSE)&\" - \"&VLOOKUP(E118,'TEAM ROSTERS & SUB LIST'!$B:$G,3,FALSE),\"\")","v":""},{"$f":"IFERROR(VLOOKUP(E118,'TEAM ROSTERS & SUB LIST'!$B:$G,4,FALSE)&\" - \"&VLOOKUP(E118,'TEAM ROSTERS & SUB LIST'!$B:$G,5,FALSE),\"\")","v":""},{"$f":"IFERROR(VLOOKUP(F118,'TEAM ROSTERS & SUB LIST'!$B:$G,2,FALSE)&\" - \"&VLOOKUP(F118,'TEAM ROSTERS & SUB LIST'!$B:$G,3,FALSE),\"\")","v":""},{"$f":"IFERROR(VLOOKUP(F118,'TEAM ROSTERS & SUB LIST'!$B:$G,4,FALSE)&\" - \"&VLOOKUP(F118,'TEAM ROSTERS & SUB LIST'!$B:$G,5,FALSE),\"\")","v":""}]
[null,null,"","","","",{"$f":"IFERROR(VLOOKUP(E119,'TEAM ROSTERS & SUB LIST'!$B:$G,3,FALSE)&\" / \"&VLOOKUP(E119,'TEAM ROSTERS & SUB LIST'!$B:$G,5,FALSE),\"\")","v":""},null,null,{"$f":"IFERROR(VLOOKUP(F119,'TEAM ROSTERS & SUB LIST'!$B:$G,3,FALSE)&\" / \"&VLOOKUP(F119,'TEAM ROSTERS & SUB LIST'!$B:$G,5,FALSE),\"\")","v":""},null,null,"",null,{"$f":"IFERROR(VLOOKUP(E119,'TEAM ROSTERS & SUB LIST'!$B:$G,2,FALSE)&\" - \"&VLOOKUP(E119,'TEAM ROSTERS & SUB LIST'!$B:$G,3,FALSE),\"\")","v":""},{"$f":"IFERROR(VLOOKUP(E119,'TEAM ROSTERS & SUB LIST'!$B:$G,4,FALSE)&\" - \"&VLOOKUP(E119,'TEAM ROSTERS & SUB LIST'!$B:$G,5,FALSE),\"\")","v":""},{"$f":"IFERROR(VLOOKUP(F119,'TEAM ROSTERS & SUB LIST'!$B:$G,2,FALSE)&\" - \"&VLOOKUP(F119,'TEAM ROSTERS & SUB LIST'!$B:$G,3,FALSE),\"\")","v":""},{"$f":"IFERROR(VLOOKUP(F119,'TEAM ROSTERS & SUB LIST'!$B:$G,4,FALSE)&\" - \"&VLOOKUP(F119,'TEAM ROSTERS & SUB LIST'!$B:$G,5,FALSE),\"\")","v":""}]
[null,null,"","","","",{"$f":"IFERROR(VLOOKUP(E120,'TEAM ROSTERS & SUB LIST'!$B:$G,3,FALSE)&\" / \"&VLOOKUP(E120,'TEAM ROSTERS & SUB LIST'!$B:$G,5,FALSE),\"\")","v":""},null,null,{"$f":"IFERROR(VLOOKUP(F120,'TEAM ROSTERS & SUB LIST'!$B:$G,3,FALSE)&\" / \"&VLOOKUP(F120,'TEAM ROSTERS & SUB LIST'!$B:$G,5,FALSE),\"\")","v":""},null,null,"",null,{"$f":"IFERROR(VLOOKUP(E120,'TEAM ROSTERS & SUB LIST'!$B:$G,2,FALSE)&\" - \"&VLOOKUP(E120,'TEAM ROSTERS & SUB LIST'!$B:$G,3,FALSE),\"\")","v":""},{"$f":"IFERROR(VLOOKUP(E120,'TEAM ROSTERS & SUB LIST'!$B:$G,4,FALSE)&\" - \"&VLOOKUP(E120,'TEAM ROSTERS & SUB LIST'!$B:$G,5,FALSE),\"\")","v":""},{"$f":"IFERROR(VLOOKUP(F120,'TEAM ROSTERS & SUB LIST'!$B:$G,2,FALSE)&\" - \"&VLOOKUP(F120,'TEAM ROSTERS & SUB LIST'!$B:$G,3,FALSE),\"\")","v":""},{"$f":"IFERROR(VLOOKUP(F120,'TEAM ROSTERS & SUB LIST'!$B:$G,4,FALSE)&\" - \"&VLOOKUP(F120,'TEAM ROSTERS & SUB LIST'!$B:$G,5,FALSE),\"\")","v":""}]
[]
[]
[]
[]
[]
[]
[]
[]
[null,null,null,null,{"$f":"B76","v":"17A"},{"$f":"B78","v":"17B"},{"$f":"B82","v":"4A"},{"$f":"B84","v":"4B"}]
[null,{"$f":"'TEAM ROSTERS & SUB LIST'!H38","v":"Course"},null,null,{"$f":"'LEAGUE MEMBERSHIP'!$A110","v":"Course"},{"$f":"'LEAGUE MEMBERSHIP'!$A110","v":"Course"},{"$f":"'LEAGUE MEMBERSHIP'!$A110","v":"Course"},{"$f":"'LEAGUE MEMBERSHIP'!$A110","v":"Course"}]
[null,{"$f":"'TEAM ROSTERS & SUB LIST'!H39","v":"DNP"},null,null,{"$f":"'LEAGUE MEMBERSHIP'!$A111","v":"DNP"},{"$f":"'LEAGUE MEMBERSHIP'!$A111","v":"DNP"},{"$f":"'LEAGUE MEMBERSHIP'!$A111","v":"DNP"},{"$f":"'LEAGUE MEMBERSHIP'!$A111","v":"DNP"}]
[null,{"$f":"'TEAM ROSTERS & SUB LIST'!H40&\" - \"&'TEAM ROSTERS & SUB LIST'!I40","v":"Sub1 - P.J. Romano"},null,null,{"$f":"'LEAGUE MEMBERSHIP'!$A112","v":"Sub1"},{"$f":"'LEAGUE MEMBERSHIP'!$A112","v":"Sub1"},{"$f":"'LEAGUE MEMBERSHIP'!$A112","v":"Sub1"},{"$f":"'LEAGUE MEMBERSHIP'!$A112","v":"Sub1"}]
[null,{"$f":"'TEAM ROSTERS & SUB LIST'!H41&\" - \"&'TEAM ROSTERS & SUB LIST'!I41","v":"Sub2 - PJ Fontaine"},null,null,{"$f":"'LEAGUE MEMBERSHIP'!$A113","v":"Sub2"},{"$f":"'LEAGUE MEMBERSHIP'!$A113","v":"Sub2"},{"$f":"'LEAGUE MEMBERSHIP'!$A113","v":"Sub2"},{"$f":"'LEAGUE MEMBERSHIP'!$A113","v":"Sub2"}]
[null,{"$f":"'TEAM ROSTERS & SUB LIST'!H42&\" - \"&'TEAM ROSTERS & SUB LIST'!I42","v":"Sub3 - Jim Hedlund"},null,null,{"$f":"'LEAGUE MEMBERSHIP'!$A114","v":"Sub3"},{"$f":"'LEAGUE MEMBERSHIP'!$A114","v":"Sub3"},{"$f":"'LEAGUE MEMBERSHIP'!$A114","v":"Sub3"},{"$f":"'LEAGUE MEMBERSHIP'!$A114","v":"Sub3"}]
[null,{"$f":"'TEAM ROSTERS & SUB LIST'!H43&\" - \"&'TEAM ROSTERS & SUB LIST'!I43","v":"Sub4 - Don Shank"},null,null,{"$f":"'LEAGUE MEMBERSHIP'!$A115","v":"Sub4"},{"$f":"'LEAGUE MEMBERSHIP'!$A115","v":"Sub4"},{"$f":"'LEAGUE MEMBERSHIP'!$A115","v":"Sub4"},{"$f":"'LEAGUE MEMBERSHIP'!$A115","v":"Sub4"}]
[null,{"$f":"'TEAM ROSTERS & SUB LIST'!H44&\" - \"&'TEAM ROSTERS & SUB LIST'!I44","v":"Sub5 - Tom Farias"},null,null,{"$f":"'LEAGUE MEMBERSHIP'!$A116","v":"Sub5"},{"$f":"'LEAGUE MEMBERSHIP'!$A116","v":"Sub5"},{"$f":"'LEAGUE MEMBERSHIP'!$A116","v":"Sub5"},{"$f":"'LEAGUE MEMBERSHIP'!$A116","v":"Sub5"}]
[null,{"$f":"'TEAM ROSTERS & SUB LIST'!H45&\" - \"&'TEAM ROSTERS & SUB LIST'!I45","v":"Sub6 - Joe Pearson"},null,null,{"$f":"'LEAGUE MEMBERSHIP'!$A117","v":"Sub6"},{"$f":"'LEAGUE MEMBERSHIP'!$A117","v":"Sub6"},{"$f":"'LEAGUE MEMBERSHIP'!$A117","v":"Sub6"},{"$f":"'LEAGUE MEMBERSHIP'!$A117","v":"Sub6"}]
[null,{"$f":"'TEAM ROSTERS & SUB LIST'!H46&\" - \"&'TEAM ROSTERS & SUB LIST'!I46","v":"Sub7 - Dennis St. Jean"},null,null,{"$f":"'LEAGUE MEMBERSHIP'!$A118","v":"Sub7"},{"$f":"'LEAGUE MEMBERSHIP'!$A118","v":"Sub7"},{"$f":"'LEAGUE MEMBERSHIP'!$A118","v":"Sub7"},{"$f":"'LEAGUE MEMBERSHIP'!$A118","v":"Sub7"}]
[null,{"$f":"'TEAM ROSTERS & SUB LIST'!H47&\" - \"&'TEAM ROSTERS & SUB LIST'!I47","v":"Sub8 - Joe Fratticelli"},null,null,{"$f":"'LEAGUE MEMBERSHIP'!$A119","v":"Sub8"},{"$f":"'LEAGUE MEMBERSHIP'!$A119","v":"Sub8"},{"$f":"'LEAGUE MEMBERSHIP'!$A119","v":"Sub8"},{"$f":"'LEAGUE MEMBERSHIP'!$A119","v":"Sub8"}]
[null,{"$f":"'TEAM ROSTERS & SUB LIST'!H48&\" - \"&'TEAM ROSTERS & SUB LIST'!I48","v":"Sub9 - Pete Collette"},null,null,{"$f":"'LEAGUE MEMBERSHIP'!$A120","v":"Sub9"},{"$f":"'LEAGUE MEMBERSHIP'!$A120","v":"Sub9"},{"$f":"'LEAGUE MEMBERSHIP'!$A120","v":"Sub9"},{"$f":"'LEAGUE MEMBERSHIP'!$A120","v":"Sub9"}]
[null,{"$f":"'TEAM ROSTERS & SUB LIST'!H49&\" - \"&'TEAM ROSTERS & SUB LIST'!I49","v":"Sub10 - Ray Henderson"},null,null,{"$f":"'LEAGUE MEMBERSHIP'!$A121","v":"Sub10"},{"$f":"'LEAGUE MEMBERSHIP'!$A121","v":"Sub10"},{"$f":"'LEAGUE MEMBERSHIP'!$A121","v":"Sub10"},{"$f":"'LEAGUE MEMBERSHIP'!$A121","v":"Sub10"}]
[null,{"$f":"'TEAM ROSTERS & SUB LIST'!H50&\" - \"&'TEAM ROSTERS & SUB LIST'!I50","v":"Sub11 - Pete K Normandin"},null,null,{"$f":"'LEAGUE MEMBERSHIP'!$A122","v":"Sub11"},{"$f":"'LEAGUE MEMBERSHIP'!$A122","v":"Sub11"},{"$f":"'LEAGUE MEMBERSHIP'!$A122","v":"Sub11"},{"$f":"'LEAGUE MEMBERSHIP'!$A122","v":"Sub11"}]
[null,{"$f":"'TEAM ROSTERS & SUB LIST'!H51&\" - \"&'TEAM ROSTERS & SUB LIST'!I51","v":"Sub12 - Ron Brassard"},null,null,{"$f":"'LEAGUE MEMBERSHIP'!$A123","v":"Sub12"},{"$f":"'LEAGUE MEMBERSHIP'!$A123","v":"Sub12"},{"$f":"'LEAGUE MEMBERSHIP'!$A123","v":"Sub12"},{"$f":"'LEAGUE MEMBERSHIP'!$A123","v":"Sub12"}]
[null,{"$f":"'TEAM ROSTERS & SUB LIST'!H52&\" - \"&'TEAM ROSTERS & SUB LIST'!I52","v":"Sub13 - Genie Ray Richard"},null,null,{"$f":"'LEAGUE MEMBERSHIP'!$A124","v":"Sub13"},{"$f":"'LEAGUE MEMBERSHIP'!$A124","v":"Sub13"},{"$f":"'LEAGUE MEMBERSHIP'!$A124","v":"Sub13"},{"$f":"'LEAGUE MEMBERSHIP'!$A124","v":"Sub13"}]
[null,{"$f":"'TEAM ROSTERS & SUB LIST'!H53&\" - \"&'TEAM ROSTERS & SUB LIST'!I53","v":"Sub14 - John MacDonald"},null,null,{"$f":"'LEAGUE MEMBERSHIP'!$A125","v":"Sub14"},{"$f":"'LEAGUE MEMBERSHIP'!$A125","v":"Sub14"},{"$f":"'LEAGUE MEMBERSHIP'!$A125","v":"Sub14"},{"$f":"'LEAGUE MEMBERSHIP'!$A125","v":"Sub14"}]
[null,{"$f":"'TEAM ROSTERS & SUB LIST'!H54&\" - \"&'TEAM ROSTERS & SUB LIST'!I54","v":"Sub15 - Darryl Gagne"},null,null,{"$f":"'LEAGUE MEMBERSHIP'!$A126","v":"Sub15"},{"$f":"'LEAGUE MEMBERSHIP'!$A126","v":"Sub15"},{"$f":"'LEAGUE MEMBERSHIP'!$A126","v":"Sub15"},{"$f":"'LEAGUE MEMBERSHIP'!$A126","v":"Sub15"}]
[null,{"$f":"'TEAM ROSTERS & SUB LIST'!H55&\" - \"&'TEAM ROSTERS & SUB LIST'!I55","v":"Sub16 - Becky Bartkus"},null,null,{"$f":"'LEAGUE MEMBERSHIP'!$A127","v":"Sub16"},{"$f":"'LEAGUE MEMBERSHIP'!$A127","v":"Sub16"},{"$f":"'LEAGUE MEMBERSHIP'!$A127","v":"Sub16"},{"$f":"'LEAGUE MEMBERSHIP'!$A127","v":"Sub16"}]
[null,{"$f":"'TEAM ROSTERS & SUB LIST'!H56&\" - \"&'TEAM ROSTERS & SUB LIST'!I56","v":"Sub17 - Dave Cormier"},null,null,{"$f":"'LEAGUE MEMBERSHIP'!$A128","v":"Sub17"},{"$f":"'LEAGUE MEMBERSHIP'!$A128","v":"Sub17"},{"$f":"'LEAGUE MEMBERSHIP'!$A128","v":"Sub17"},{"$f":"'LEAGUE MEMBERSHIP'!$A128","v":"Sub17"}]
[null,{"$f":"'TEAM ROSTERS & SUB LIST'!H57&\" - \"&'TEAM ROSTERS & SUB LIST'!I57","v":"Sub18 - Doug Cormier"},null,null,{"$f":"'LEAGUE MEMBERSHIP'!$A129","v":"Sub18"},{"$f":"'LEAGUE MEMBERSHIP'!$A129","v":"Sub18"},{"$f":"'LEAGUE MEMBERSHIP'!$A129","v":"Sub18"},{"$f":"'LEAGUE MEMBERSHIP'!$A129","v":"Sub18"}]
[null,{"$f":"'TEAM ROSTERS & SUB LIST'!H58&\" - \"&'TEAM ROSTERS & SUB LIST'!I58","v":"Sub19 - Ed Robbins"},null,null,{"$f":"'LEAGUE MEMBERSHIP'!$A130","v":"Sub19"},{"$f":"'LEAGUE MEMBERSHIP'!$A130","v":"Sub19"},{"$f":"'LEAGUE MEMBERSHIP'!$A130","v":"Sub19"},{"$f":"'LEAGUE MEMBERSHIP'!$A130","v":"Sub19"}]
[null,{"$f":"'TEAM ROSTERS & SUB LIST'!H59&\" - \"&'TEAM ROSTERS & SUB LIST'!I59","v":"Sub20 - Mark Louney"},null,null,{"$f":"'LEAGUE MEMBERSHIP'!$A131","v":"Sub20"},{"$f":"'LEAGUE MEMBERSHIP'!$A131","v":"Sub20"},{"$f":"'LEAGUE MEMBERSHIP'!$A131","v":"Sub20"},{"$f":"'LEAGUE MEMBERSHIP'!$A131","v":"Sub20"}]
[null,{"$f":"'TEAM ROSTERS & SUB LIST'!H60&\" - \"&'TEAM ROSTERS & SUB LIST'!I60","v":"Sub21 - Paul Stedman"},null,null,{"$f":"'LEAGUE MEMBERSHIP'!$A132","v":"Sub21"},{"$f":"'LEAGUE MEMBERSHIP'!$A132","v":"Sub21"},{"$f":"'LEAGUE MEMBERSHIP'!$A132","v":"Sub21"},{"$f":"'LEAGUE MEMBERSHIP'!$A132","v":"Sub21"}]
[null,{"$f":"'TEAM ROSTERS & SUB LIST'!H61&\" - \"&'TEAM ROSTERS & SUB LIST'!I61","v":"Sub22 - Jan Hedlund"},null,null,{"$f":"'LEAGUE MEMBERSHIP'!$A133","v":"Sub22"},{"$f":"'LEAGUE MEMBERSHIP'!$A133","v":"Sub22"},{"$f":"'LEAGUE MEMBERSHIP'!$A133","v":"Sub22"},{"$f":"'LEAGUE MEMBERSHIP'!$A133","v":"Sub22"}]
[null,{"$f":"'TEAM ROSTERS & SUB LIST'!H62&\" - \"&'TEAM ROSTERS & SUB LIST'!I62","v":"Sub23 - Brenda Louney"},null,null,{"$f":"'LEAGUE MEMBERSHIP'!$A134","v":"Sub23"},{"$f":"'LEAGUE MEMBERSHIP'!$A134","v":"Sub23"},{"$f":"'LEAGUE MEMBERSHIP'!$A134","v":"Sub23"},{"$f":"'LEAGUE MEMBERSHIP'!$A134","v":"Sub23"}]
[null,{"$f":"'TEAM ROSTERS & SUB LIST'!H63&\" - \"&'TEAM ROSTERS & SUB LIST'!I63","v":"Sub24 - Kyle Butterfield"},null,null,{"$f":"'LEAGUE MEMBERSHIP'!$A135","v":"Sub24"},{"$f":"'LEAGUE MEMBERSHIP'!$A135","v":"Sub24"},{"$f":"'LEAGUE MEMBERSHIP'!$A135","v":"Sub24"},{"$f":"'LEAGUE MEMBERSHIP'!$A135","v":"Sub24"}]
[null,{"$f":"'TEAM ROSTERS & SUB LIST'!H64&\" - \"&'TEAM ROSTERS & SUB LIST'!I64","v":"Sub25 - Dave Flood"},null,null,{"$f":"'LEAGUE MEMBERSHIP'!$A136","v":"Sub25"},{"$f":"'LEAGUE MEMBERSHIP'!$A136","v":"Sub25"},{"$f":"'LEAGUE MEMBERSHIP'!$A136","v":"Sub25"},{"$f":"'LEAGUE MEMBERSHIP'!$A136","v":"Sub25"}]
[null,{"$f":"'TEAM ROSTERS & SUB LIST'!H65&\" - \"&'TEAM ROSTERS & SUB LIST'!I65","v":"Sub26 - Ann Goodwin"},null,null,{"$f":"'LEAGUE MEMBERSHIP'!$A137","v":"Sub26"},{"$f":"'LEAGUE MEMBERSHIP'!$A137","v":"Sub26"},{"$f":"'LEAGUE MEMBERSHIP'!$A137","v":"Sub26"},{"$f":"'LEAGUE MEMBERSHIP'!$A137","v":"Sub26"}]
[null,{"$f":"'TEAM ROSTERS & SUB LIST'!H66&\" - \"&'TEAM ROSTERS & SUB LIST'!I66","v":"Sub27 - Gary Bittner"},null,null,{"$f":"'LEAGUE MEMBERSHIP'!$A138","v":"Sub27"},{"$f":"'LEAGUE MEMBERSHIP'!$A138","v":"Sub27"},{"$f":"'LEAGUE MEMBERSHIP'!$A138","v":"Sub27"},{"$f":"'LEAGUE MEMBERSHIP'!$A138","v":"Sub27"}]
[null,{"$f":"'TEAM ROSTERS & SUB LIST'!H67&\" - \"&'TEAM ROSTERS & SUB LIST'!I67","v":"Sub28 - Scott Leavenworth"},null,null,{"$f":"'LEAGUE MEMBERSHIP'!$A139","v":"Sub28"},{"$f":"'LEAGUE MEMBERSHIP'!$A139","v":"Sub28"},{"$f":"'LEAGUE MEMBERSHIP'!$A139","v":"Sub28"},{"$f":"'LEAGUE MEMBERSHIP'!$A139","v":"Sub28"}]
[null,{"$f":"'TEAM ROSTERS & SUB LIST'!H68&\" - \"&'TEAM ROSTERS & SUB LIST'!I68","v":"Sub29 - Dave DiGiovanni"},null,null,{"$f":"'LEAGUE MEMBERSHIP'!$A140","v":"Sub29"},{"$f":"'LEAGUE MEMBERSHIP'!$A140","v":"Sub29"},{"$f":"'LEAGUE MEMBERSHIP'!$A140","v":"Sub29"},{"$f":"'LEAGUE MEMBERSHIP'!$A140","v":"Sub29"}]
[null,{"$f":"'TEAM ROSTERS & SUB LIST'!H69&\" - \"&'TEAM ROSTERS & SUB LIST'!I69","v":"Sub30 - Alessandro Conte"},null,null,{"$f":"'LEAGUE MEMBERSHIP'!$A141","v":"Sub30"},{"$f":"'LEAGUE MEMBERSHIP'!$A141","v":"Sub30"},{"$f":"'LEAGUE MEMBERSHIP'!$A141","v":"Sub30"},{"$f":"'LEAGUE MEMBERSHIP'!$A141","v":"Sub30"}]
[]
[]
[]
[]
[]
[]
[]
[]
[]
[]
[]
[]
[]
[null,"17 v 4"]
[null,"Week 9"]
[null,"2017-08-30"]
[null,"FRONT"]
[null,"16:00:00"]
[null,{"$f":"LEFT(SUBSTITUTE(B175,\" v \",\",\"),FIND(\",\",SUBSTITUTE(B175,\" v \",\",\"))-1)","v":"17"}]
[null,{"$f":"RIGHT(SUBSTITUTE(B175,\" v \",\",\"),LEN(SUBSTITUTE(B175,\" v \",\",\"))-FIND(\",\",SUBSTITUTE(B175,\" v \",\",\")))","v":"4"}]
[null,{"$f":"\"Team \"&B180&\" v Team \"&B181","v":"Team 17 v Team 4"}]

{"sheet":"SCHEDULE","index":7,"n_rows":179,"n_cols":9,"rows_kept":179,"cut":false,"hidden":false,"merged":[]}
[]
[]
[]
[]
[]
[]
[]
[]
[]
[]
[]
[]
[]
[]
[]
[]
[]
[]
[]
[]
[]
[]
[]
[]
[]
[]
[]
[]
[]
[]
[]
[]
[]
[]
[]
[]
[]
[]
[]
[]
[]
[]
[]
[]
[]
[]
[]
[]
[]
[]
[]
[]
[]
[]
[]
[]
[]
[]
[]
[]
[]
[]
[]
[]
[]
[]
[]
[]
[]
[]
[]
[]
[]
[]
[]
[]
[]
[]
[]
[]
[]
[]
[]
[]
[]
[]
[]
[]
[]
[]
[]
[]
[]
[]
[]
["No. Weeks"]
[19]
["No. Teams",null,null,null,null,null,null,"x"]
[20,10,null,null,null,null,null,"x",{"$f":"TEXT(G99, \"mm/dd/yy\")","v":"01/00/00"}]
[null,"Team2",null,null,null,null,null,"x"]
[null,null,null,null,null,null,null,"x"]
[null,null,null,null,null,{"$f":"D102&\" v \"&E102","v":" v "}]
[null,null,null,null,null," v "]
[null,null,null,null,null," v "]
[null,null,null,null,null," v "]
[null,null,null,null,null," v "]
[null,null,null,null,null," v "]
[null,null,null,null,null," v "]
[null,null,null,null,null," v "]
[null,null,null,null,null," v "]
[null,null,null,null,null," v "]
[null,null,null,null,null," v "]
[null,null,null,null,null,{"$f":"D113&\" v \"&E113","v":" v "}]
[null,null,null,null,null," v "]
[null,null,null,null,null," v "]
[null,null,null,null,null," v "]
["AM or PM",null,null,null,null," v "]
["AM",null,null,null,null," v "]
["PM",null,null,null,null," v "]
[]
["Start Date","2017-04-26"]
[]
["Tee Time Spacing",null,null,null,null,null,"Week"]
[8,"00:08:00",null,null,null,null,"Date"]
[10,"00:10:00",null,null,null,null,"Side"]
[12,"00:12:00",null,null,null,null,"Tee Time"]
[14,"00:14:00"]
[15,"00:15:00"]
["Interval",8]
["Halves?","Yes"]
["Yes"]
["No"]
["Side","FRONT"]
["FRONT"]
["BACK"]
[]
["First Tee Tiime","04:00:00"]
["PM or AM","PM"]
["Adj. Tee Time",{"$f":"IF(B138=\"PM\",IF(B137<0.5,B137+0.5,B137),B137)","v":"16:00:00"}]
["Match 2",{"$f":"B139+VLOOKUP($B$129,$A$124:$B$128,2,FALSE)","v":"16:08:00"}]
["Match 3","16:16:00"]
["Match 4","16:24:00"]
["Match 5","16:32:00"]
["Match 6","16:40:00"]
["Match 7","16:48:00"]
["Match 8","16:56:00"]
["Match 9","17:04:00"]
["Match 10","17:12:00"]
["Match 11","17:20:00"]
["Match 12","17:28:00"]
["Match 13","17:36:00"]
["Match 14","17:44:00"]
["Match 15","17:52:00"]
["Match 16","18:00:00"]
["Match 17","18:08:00"]
["Match 18","18:16:00"]
[]
[]
[]
[]
[]
[]
[]
[]
[]
[]
[]
[]
[]
[]
[]
[]
[]
[]
[null,"8 v 12"]
[null,"Week 4"]
[null,"2015-07-03"]
[null,"BACK"]
[null,0.71874999999999967]

{"sheet":"SCHEDULE (2)","index":8,"n_rows":154,"n_cols":12,"rows_kept":154,"cut":false,"hidden":false,"merged":[[8,1,8,11],[25,1,25,10]]}
[null,null,null,null,null,null,null,null,null,null,null,"1st Half"]
[null,null,null,null,null,null,null,null,null,null,null,"2nd Half"]
[]
[]
[]
[]
[]
[]
[null,"``"]
["","Week","Week 1","Week 2","Week 3","Week 4","Week 5","Week 6","Week 7","Week 8","Week 9","Week 10"]
["","Date","04/26/17","05/03/17","05/10/17","05/17/17","05/24/17","05/31/17","06/07/17","06/14/17","06/21/17","06/28/17"]
["","Side","FRONT","BACK","FRONT","BACK","FRONT","BACK","FRONT","BACK","FRONT","BACK"]
["","Tee Time"]
["","16:00:00","1 v 12","12 v 5","1 v 14","3 v 6","12 v 20","4 v 9","17 v 19","8 v 9","18 v 9","6 v 16"]
["","16:08:00","2 v 14","14 v 7","12 v 16","2 v 7","5 v 6","14 v 16","14 v 9","5 v 19","16 v 7","3 v 13"]
["","16:16:00","6 v 18","11 v 4","13 v 15","14 v 20","1 v 16","5 v 8","16 v 20","4 v 18","13 v 4","10 v 20"]
["","16:24:00","4 v 16","18 v 20","7 v 8","12 v 9","13 v 19","13 v 17","13 v 8","1 v 13","1 v 20","4 v 14"]
["","16:32:00","11 v 13","13 v 6","2 v 18","11 v 8","14 v 18","12 v 18","11 v 6","6 v 20","14 v 5","9 v 19"]
["","16:40:00","8 v 20","2 v 3","3 v 19","4 v 5","3 v 8","3 v 10","2 v 5","12 v 14","11 v 2","5 v 15"]
["","16:48:00","9 v 10","16 v 9","6 v 9","13 v 10","2 v 9","6 v 7","1 v 18","2 v 16","19 v 10","8 v 18"]
["","16:56:00","7 v 19","17 v 10","5 v 10","1 v 17","4 v 7","11 v 19","3 v 4","3 v 17","15 v 6","2 v 12"]
["","17:04:00","3 v 15","1 v 19","4 v 20","15 v 19","15 v 17","2 v 20","15 v 10","7 v 10","17 v 8","7 v 17"]
["","17:12:00","5 v 17","15 v 8","11 v 17","16 v 18","11 v 10","1 v 15","12 v 7","11 v 15","12 v 3","1 v 11"]
[""]
[""]
["","Schedule - 2017 - Second Half"]
["","Week","Week 1","Week 2","Week 3","Week 4","Week 5","Week 6","Week 7","Week 8","Week 9"]
["","Date","07/05/17","07/12/17","07/19/17","07/26/17","08/02/17","08/09/17","08/16/17","08/23/17","08/30/17"]
["","Side","FRONT","BACK","FRONT","BACK","FRONT","BACK","FRONT","BACK","FRONT"]
["","Tee Time"]
["","16:00:00","14 v 3","5 v 13","9 v 7","7 v 11","10 v 4","17 v 14","17 v 16","19 v 18","17 v 4"]
["","16:08:00","1 v 10","7 v 15","1 v 8","18 v 17","16 v 13","20 v 11","10 v 12","5 v 11","1 v 9"]
["","16:16:00","12 v 11","3 v 11","10 v 6","20 v 15","9 v 5","18 v 13","1 v 5","8 v 14","19 v 6"]
["","16:24:00","19 v 8","10 v 18","15 v 12","5 v 3","18 v 11","8 v 4","19 v 14","9 v 15","18 v 5"]
["","16:32:00","18 v 7","8 v 16","18 v 3","10 v 14","1 v 7","10 v 2","9 v 11","10 v 16","15 v 2"]
["","16:40:00","15 v 4","1 v 2","16 v 11","8 v 12","8 v 6","16 v 15","20 v 13","4 v 2","14 v 11"]
["","16:48:00","13 v 2","6 v 14","20 v 5","1 v 4","15 v 14","1 v 6","18 v 15","7 v 13","16 v 3"]
["","16:56:00","17 v 6","20 v 19","14 v 13","19 v 16","19 v 2","9 v 3","6 v 4","1 v 3","13 v 12"]
["","17:04:00","20 v 9","9 v 17","17 v 2","9 v 13","17 v 12","19 v 12","7 v 3","20 v 17","20 v 7"]
["","17:12:00","16 v 5","4 v 12","19 v 4","6 v 2","20 v 3","7 v 5","8 v 2","6 v 12","10 v 8"]
[""]
[""]
[""]
[""]
[""]
[""]
[""]
[""]
[""]
[""]
[""]
[""]
[""]
[""]
[""]
[""]
[""]
[""]
[""]
[""]
[""]
[""]
[""]
[""]
[""]
[""]
[""]
[""]
[""]
[""]
[""]
[""]
["1st Half"]
["2nd Half"]
["Week 1","$I$31","$I$35","7 v 3"]
["Week 2","$I$40","$I$39","9 v 11"]
["Week 3"]
["Week 4"]
["Week 5"]
["Week 6"]
["Week 7"]
["Week 8"]
["Week 9"]
["Week 10"]
[""]
[""]
[""]
[""]
[""]
[""]
[""]
[""]
[""]
[""]
[""]
[""]
[""]
[""]
[""]
[""]
[""]
[""]
[""]
[""]
[""]
[""]
[""]
[""]
[""]
[""]
[""]
[""]
[""]
[""]
[""]
[""]
[""]
[""]
[""]
[""]
[]
[]
[]
[]
[]
[]
[]
[]
[]
[]
[]
[]
[]
[]
[]
[]
[]
[]
[]
[]
[]
[]
[]
[]
[]
[]
[]
[]
[]
["1 v 7"]
["1st Half"]
["2015-07-24"]
["1st Half","Week 7"]
[0.625]

{"sheet":"ARCHIVED HCPS","index":9,"n_rows":425,"n_cols":42,"rows_kept":425,"cut":false,"hidden":false,"merged":[[6,5,6,9]]}
[null,null,null,null,null,null,null,null,null,"Inactive Members"]
[null,null,null,null,null,null,null,null,null,{"$f":"'COURSE & LEAGUE DETAILS'!B2&\" - \"&'COURSE & LEAGUE DETAILS'!F2","v":"Romano Golf League - 2017"}]
[]
[]
[]
[]
["Last Name","First Name","M / F","TelNo","Hcp.","Prior Scores"]
["Dyment","Mark","M",null,10,"2009-09-02","2009-08-26","2009-08-05","2009-07-29","2009-07-15",{"$f":"B8&\" \"&A8","v":"Mark Dyment"}]
[null,null,null,null,null,56,43,47,50,49," "]
["Money","David","M",null,15,"2009-08-26","2009-08-19","2009-08-12","2009-08-05","2009-07-29","David Money"]
[null,null,null,null,null,58,57,51,55,55," "]
["Normandin, Jr.","Pete","M",null,11,"2009-07-29","2009-07-22","2009-07-15","2009-07-08","2009-06-24","Pete Normandin, Jr."]
[null,null,null,null,null,47,48,47,54,52," "]
["Robinson","Doug","M",null,10,"2009-09-09","2009-09-02","2009-08-26","2009-08-19","2009-08-12","Doug Robinson"]
[null,null,null,null,null,50,47,48,50,48," "]
["Baker","Bruce","M",null,14,"'08 Score","'08 Score","'08 Score","'08 Score","'08 Score","Bruce Baker"]
[null,null,null,null,null,58,54,53,50,54," "]
["Fisher","Frank","M",null,7,"2011-08-24","2011-08-17","2011-08-10","2011-08-03","2011-07-27","Frank Fisher"]
[null,null,null,null,null,41,40,55,41,45," "]
["Buhts","Chris","M",null,8,"2011-08-24","2011-08-17","2011-08-10","2011-08-03","2011-07-20","Chris Buhts"]
[null,null,null,null,null,51,47,46,45,43," "]
["Vitone","Dan","M",null,12,"2011-08-17","2011-08-03","2011-06-29","2011-06-15","2011-06-08","Dan Vitone"]
[null,null,null,null,null,55,48,53,54,48," "]
["Bowes","Jack","M",null,18,"2009-05-20","2009-05-13","2009-05-06","2009-04-29","Calc.","Jack Bowes"]
[null,null,null,null,null,60,60,53,63,56," "]
["Baker","Cindy","F",null,16,"2010-07-28","2010-06-23","2010-05-05","'08 Score","'08 Score","Cindy Baker"]
[null,null,null,null,null,52,60,57,51,58," "]
["Bobusia","Mike","M",null,6,"2010-08-25","2010-08-18","2010-08-11","2010-08-04","2010-07-28","Mike Bobusia"]
[null,null,null,null,null,42,42,49,44,40," "]
["Gamache","Mike","M",null,12,"2011-08-24","2011-08-17","2011-08-10","2011-07-27","2011-07-20","Mike Gamache"]
[null,null,null,null,null,52,55,45,52,50," "]
["Stedmab","Paul","M",null,0,"Calc.","Calc.","Calc.","Calc.","Calc.","Paul Stedmab"]
[null,null,null,null,null,36,36,36,36,36," "]
["Henderson","Zack","M",null,8,"2012-08-29","2012-08-01","2012-06-20","Calc.","Calc.","Calc."]
[null,null,null,null,null,55,53,51,36,36,36]
["Currier","Kyle","M",null,6,"Calc.","Calc.","Calc.","Calc.","Calc.",{"$f":"B36&\" \"&A36","v":"Kyle Currier"}]
[null,null,null,null,null,44,44,44,44,44,{"$f":"B37&\" \"&A37","v":" "}]
["Boisvert","Norman","M",null,20,"2011-07-06","2010-08-18","2010-08-11","2010-08-04","2010-07-21",{"$f":"B38&\" \"&A38","v":"Norman Boisvert"},"Calc.","Calc."]
[null,null,null,null,null,65,60,60,60,61,{"$f":"B39&\" \"&A39","v":" "},36,36]
["Candelet","Gary","M",null,9,"2012-08-22","2012-08-15","2012-08-08","2012-08-01","2012-07-18",41073,"2012-05-23","2012-05-16","2012-05-09","2011-08-24","2011-08-17","2011-08-10","2011-08-03","2011-07-20"]
[null,null,null,null,null,47,49,51,41,48,46,49,50,52,47,54,59,54,48]
["Egan","Rick","M",null,14,"2009-06-17","'08 Score","'08 Score","'08 Score","'08 Score",{"$f":"B42&\" \"&A42","v":"Rick Egan"}]
[null,null,null,null,null,53,50,58,50,55,{"$f":"B43&\" \"&A43","v":" "}]
["Hyre","Dave","M",null,9,"2012-08-01","2012-07-25","2012-07-18","2012-07-11","2012-06-27",41080,"2012-06-13","2012-05-30","2012-05-23","2012-05-16","2012-05-09","2012-05-02","2012-04-25","2011-08-24","2011-08-17","2011-08-10","2011-07-27","2011-07-20"]
[null,null,null,null,null,46,56,45,48,41,51,47,45,46,44,45,42,53,49,43,60,54,45]
["Scapparone","Steve","M",null,10,"2012-08-01","2012-07-25","2012-07-18","2012-07-11","2012-06-27",41073,"2012-05-30","2012-05-23","2012-05-16","2012-05-09","2012-05-02","2012-04-25","2011-08-24","2011-08-17","2011-08-10","2011-08-03","2011-07-27"]
[null,null,null,null,null,50,48,45,55,46,45,47,53,47,53,51,50,46,48,53,52,52]
["DiPasquale","Yogi","M",null,7,"2009-07-22","2009-07-15","Calc.","Calc.","Calc.",{"$f":"B48&\" \"&A48","v":"Yogi DiPasquale"}]
[null,null,null,null,null,46,40,45,45,45,{"$f":"B49&\" \"&A49","v":" "}]
["Romano, Jr.","Ralph","M",null,19,"2013-08-21","2013-08-07","2013-07-31","2013-07-24","2013-07-03",41451,"2013-06-19","2013-06-05","2013-05-29","2013-05-22","2013-05-15","2013-05-01","2009-09-09","2009-09-02","2009-08-26","2009-08-19","2009-08-12"]
[null,null,null,null,null,64,55,61,56,63,49,58,58,54,57,62,57,58,57,55,58,47]
["St. Jean","David","M",null,10,"2012-09-05","2012-08-29","2012-08-22","2012-08-15","2012-08-08",41122,"2012-07-25","2012-07-11","2012-06-27","2012-06-20","2012-06-13","2012-05-30","2012-05-23","2012-05-16","2012-05-09","2012-05-02","2012-04-25","2011-08-24","2011-08-17","2011-08-10","2011-08-03","2011-07-27"]
[null,null,null,null,null,46,46,47,53,51,38,48,46,43,46,43,44,46,53,44,49,57,51,53,52,46,43]
["Normandin","Pete Jr.","M",null,0,"Calc.","Calc.","Calc.","Calc.","Calc.",{"$f":"B54&\" \"&A54","v":"Pete Jr. Normandin"}]
[null,null,null,null,null,36,36,36,36,36,{"$f":"B55&\" \"&A55","v":" "}]
["Lee","Matt","M",null,1,"2013-08-07","Calc.","Calc.","Calc.","Calc.","Calc."]
[null,null,null,null,null,43,36,36,36,36,36]
["Melansom","Jay","M",null,1,"2013-08-21","Calc.","Calc.","Calc.","Calc.","Calc."]
[null,null,null,null,null,40,36,36,36,36,36]
["McCarthy","Shane","M",null,4,"2013-07-03","Calc.","Calc.","Calc.","Calc.","Calc."]
[null,null,null,null,null,51,39,39,39,39,39]
["Lockhart","Lester","M",null,9,"2013-08-07","2013-07-31","2013-07-24","2013-07-17","2013-07-03",41451,"2013-06-19","2013-06-12","2013-06-05","2013-05-29","2013-05-22","2013-05-15","2012-09-05","2012-08-29","2012-08-15","2012-08-08","2012-08-01","2012-07-25","2012-07-18","2012-07-11","2012-06-27","2012-06-20","2012-06-13","2012-05-30","2012-05-23","2012-05-16","2012-05-09","2012-05-02","2011-08-17","2011-08-10","2011-08-03","2011-07-27","2011-07-20"]
[null,null,null,null,null,48,47,45,48,51,46,48,44,48,47,47,44,47,43,44,44,48,47,44,46,40,48,47,48,52,46,44,44,45,52,50,48,46]
["Bittner","Gary","M",null,5,"2013-08-28","2013-08-21","2013-08-07","2013-07-31","2013-07-24",41472,"2013-07-03","2013-06-26","2013-06-19","2013-06-12","2013-06-05","2013-05-29","2013-05-22","2013-05-15","2013-05-01","2012-09-05","2012-08-29","2012-08-22","2012-08-15","2012-08-08","2012-07-25","2012-07-18","2012-07-11","2012-06-27","2012-06-20","2012-06-13","2012-05-30","2012-05-23","2012-05-16","2012-05-09","2012-05-02","2012-04-25","2011-08-24","2011-08-10","2011-08-03","2011-07-27","2011-07-20"]
[null,null,null,null,null,43,38,42,43,45,44,49,45,47,43,50,43,46,45,50,48,42,45,49,48,45,42,43,45,48,46,44,47,47,49,42,50,49,47,51,46,51]
["DeCarolis","Joey","M",null,6,"2013-08-28","2013-08-21","2013-08-14","2013-08-07","2013-07-31",41479,"2013-07-17","2013-07-03","2013-06-26","2013-06-19","2013-06-12","2013-06-05","2013-05-29","2013-05-22","2013-05-15","2013-05-01","2012-09-05","2012-08-29","2012-08-22","2012-08-15","2012-08-08","2012-08-01","2012-07-25","2012-07-18","2012-07-11","2012-06-27","2012-06-20","2012-06-13","2012-05-30","2012-05-23","2012-05-16","Calc.","Calc.","Calc.","Calc.","Calc."]
[null,null,null,null,null,42,44,42,45,45,41,46,45,47,44,50,47,42,40,37,50,43,38,39,52,47,46,51,49,44,43,48,41,45,44,37,46,46,46,46,46]
["Sunderland","Debbie","F",null,10,"2013-08-28","2013-08-21","2013-08-14","2013-07-31","2013-07-24",41472,"2013-07-03","2013-06-26","2013-06-19","2013-06-12","2013-06-05","2013-05-22","2013-05-15","2013-05-01","2012-09-05","2012-08-29","2012-08-22","2012-08-15","2012-08-08","2012-08-01","2012-07-25","2012-07-18","2012-06-27","2012-06-20","2012-06-13","2012-05-30","2012-05-23","2012-05-16","2012-05-09","2012-05-02","2012-04-25","2011-08-24","2011-08-17","2011-07-27","2011-07-20","2011-07-06"]
[null,null,null,null,null,49,47,50,48,50,47,48,41,42,46,47,46,46,48,49,42,48,49,50,43,51,47,47,50,52,46,46,47,47,49,52,48,50,52,46,44]
["Sunderland","Mike","M",null,5,"2013-08-28","2013-08-21","2013-08-14","2013-07-31","2013-07-24",41472,"2013-07-03","2013-06-26","2013-06-19","2013-06-12","2013-06-05","2013-05-22","2013-05-15","2013-05-01","2012-09-05","2012-08-29","2012-08-22","2012-08-15","2012-08-08","2012-08-01","2012-07-25","2012-07-18","2012-06-27","2012-06-20","2012-06-13","2012-05-30","2012-05-23","2012-05-16","2012-05-09","2012-05-02","2012-04-25","2011-08-24","2011-08-17","2011-08-03","2011-07-27","2011-07-20"]
[null,null,null,null,null,43,36,48,41,45,43,42,40,49,41,43,41,47,41,43,41,42,45,41,43,43,44,43,42,45,41,44,47,45,44,40,47,51,41,46,46]
["Szewczyk","Victor","M",null,8,"2011-07-20","2011-07-13","2011-07-06","2011-06-29","2011-06-15",{"$f":"B72&\" \"&A72","v":"Victor Szewczyk"}]
[null,null,null,null,null,46,49,45,46,47," "]
["Soucy","Mark","M",null,11,"2015-05-06","2015-04-29","Calc.","Calc.","Calc.","Calc.","Calc."]
[null,null,null,null,null,54,56,47,47,47,47,47]
["Stedman","Paul","M",null,4,"2012-08-22","2012-08-15","2012-08-08","2012-07-25","2012-07-18",41101,41087,41080,41073,"Calc."]
[null,null,null,null,null,41,40,40,39,43,39,42,49,39,36]
["Passios","Deb","F",null,15,"2012-08-29","2012-08-22","2012-08-15","2012-08-08","2012-08-01",41115,41108,41101,41087,41080]
[null,null,null,null,null,56,59,55,55,51,60,55,55,60,61]
["DeCarolis","Deb","F",null,10,"2015-05-06","2015-04-29","2013-08-28","2013-08-21","2013-08-14",41493,41486,41479,41472,41458]
[null,null,null,null,null,53,46,48,45,50,46,51,38,57,47]
["Lawrence","Steve","M",null,12,"Calc","Calc","Calc","Calc","Calc"]
[null,null,null,null,null,51,51,51,51,51]
["Normandin","Jono","M",null,5,"2013-05-01","2012-08-15","2012-08-08","2012-08-01","2012-06-27",40352,39981,"Calc.","Calc.","Calc."]
[null,null,null,null,null,41,44,44,42,41,49,46,45,45,45]
["Barry","Chris","M",null,11,"2011-08-03","2011-06-15","2011-05-25","Calc.","Calc."]
[null,null,null,null,null,60,56,62,36,36]
["Currier","Kyle","M",null,9,"2013-08-28","2013-08-14","2013-08-07","2013-07-17","2013-06-26",41444,41437,41430,41423,41416]
[null,null,null,null,null,52,48,47,44,43,43,49,44,48,46]
["Williamson","Adam","M",null,2,"2013-08-28","2013-08-14","2013-08-07","2013-07-31","2013-07-24",41451,41444,41437,41430,41423]
[null,null,null,null,null,37,43,39,38,38,40,40,37,45,36]
["Lawrence","Steve","M",null,8,"Calc","Calc","Calc","Calc","Calc"]
[null,null,null,null,null,46,46,46,46,46]
["Duffy","Basrry","M",null,9,"Calc","Calc","Calc","Calc","Calc"]
[null,null,null,null,null,47,47,47,47,47]
["Duffy","Barry","M",null,9,"Calc","Calc","Calc","Calc","Calc"]
[null,null,null,null,null,47,47,47,47,47]
["LeBlanc","Paul","M",null,8,"2015-09-02","2015-08-19","2015-08-12","2015-08-05","2015-07-29",42207,42200,42193,42186,42179]
[null,null,null,null,null,42,41,51,53,46,49,50,43,46,43]
["Henderson","Audrey","F",null,15,"2013-06-19","2012-09-05","2012-08-22","2012-08-15","2012-08-08",41087,41059,41052,41045,41038]
[null,null,null,null,null,58,52,61,51,53,54,58,57,53,65]
["Forbes","Mike","M",null,12,"2009-04-29","'08 Score","'08 Score","'08 Score","'08 Score"]
[null,null,null,null,null,61,47,43,56,47]
["DePasquale","Yogi","M",null,7,"Calc.","Calc.","Calc.","Calc.","Calc."]
[null,null,null,null,null,45,45,45,45,45]
["Elie","John","M",null,15,"2013-08-28","2013-08-21","2013-08-14","2013-08-07","2013-07-31",41479,41472,41458,41451,41444]
[null,null,null,null,null,61,57,50,53,55,50,57,54,45,66]
["Friberg","Jon","M",null,7,"2012-07-25","2012-07-11","2010-08-25","2010-08-18","2010-08-11",40387,40380]
[null,null,null,null,null,44,44,49,43,45,44,51]
["Louney","Brenda","F",null,10,"Calc.","Calc.","Calc.","Calc.","Calc."]
[null,null,null,null,null,49,49,49,49,49]
["Duffy","Barry","M",null,17,"08/31/16","08/24/16","08/17/16","08/10/16","08/03/16","07/13/16","06/29/16","06/22/16","06/15/16","06/01/16"]
[null,null,null,null,null,62,46,61,57,59,59,51,54,52,63]
["Jordan","Shayne","M",null,5,"08/31/16","08/24/16","08/17/16","08/10/16","07/27/16","07/20/16","07/13/16","07/06/16","06/29/16","06/22/16"]
[null,null,null,null,null,47,39,49,36,43,39,43,46,42,44]
["Cuifetti","Sal","M",null,12,"08/31/16","08/24/16","08/17/16","08/10/16","08/03/16","07/27/16","07/20/16","07/13/16","07/06/16","06/29/16"]
[null,null,null,null,null,52,50,50,49,54,52,53,57,45,47]
["Eckstrom","Carol","F",null,18,"08/31/16","08/24/16","08/17/16","08/10/16","08/03/16","07/27/16","07/20/16","07/13/16","06/29/16","06/22/16"]
[null,null,null,null,null,58,53,60,52,67,62,63,52,54,62]
["Eckstrom","Ron","M",null,2,"08/31/16","08/24/16","08/17/16","08/10/16","08/03/16","07/27/16","07/20/16","07/13/16","06/29/16","06/22/16"]
[null,null,null,null,null,42,35,38,39,39,36,45,36,41,37]
["Erskine","Jeff","M",null,8,"2013-08-14","2012-09-05","2012-08-01","2012-06-20","2012-05-30",41052,41031,40779,40772,40758]
[null,null,null,null,null,48,46,42,51,45,47,43,52,49,49]
["Wallace","Zachary","M",null,12,"2013-08-28","2013-08-21","2013-08-14","2013-08-07","2013-07-31",41479,41472,41458,41451,41437]
[null,null,null,null,null,51,57,50,43,53,45,45,52,43,42]
["Lockhart","Lester","M",null,13,"08/31/16","08/24/16","08/17/16","08/10/16","08/03/16","07/20/16","07/13/16","07/06/16","06/29/16","06/22/16"]
[null,null,null,null,null,50,56,54,51,50,55,56,55,46,49]
["DiGiovasnni","Dave","M",null,5,"05/24/17","Calc","Calc","Calc","Calc","Calc"]
[null,null,null,null,null,44,42,42,42,42,42]
["Richard","Jeff","M",null,13,"2015-06-17","2015-05-27","2013-08-21","2013-05-29","2012-08-29",41129,41122,41115,41108,41080]
[null,null,null,null,null,55,52,54,49,53,56,56,56,57,58]
[null,null,null,null,null,null,null,null,null,null,{"$f":"B132&\" \"&A132","v":" "}]
[null,null,null,null,null,null,null,null,null,null," "]
[null,null,null,null,null,null,null,null,null,null," "]
[null,null,null,null,null,null,null,null,null,null," "]
[null,null,null,null,null,null,null,null,null,null," "]
[null,null,null,null,null,null,null,null,null,null," "]
[null,null,null,null,null,null,null,null,null,null," "]
[null,null,null,null,null,null,null,null,null,null," "]
[null,null,null,null,null,null,null,null,null,null," "]
[null,null,null,null,null,null,null,null,null,null," "]
[null,null,null,null,null,null,null,null,null,null," "]
[null,null,null,null,null,null,null,null,null,null," "]
[null,null,null,null,null,null,null,null,null,null," "]
[null,null,null,null,null,null,null,null,null,null," "]
[null,null,null,null,null,null,null,null,null,null," "]
[null,null,null,null,null,null,null,null,null,null," "]
[null,null,null,null,null,null,null,null,null,null," "]
[null,null,null,null,null,null,null,null,null,null," "]
[null,null,null,null,null,null,null,null,null,null," "]
[null,null,null,null,null,null,null,null,null,null," "]
[null,null,null,null,null,null,null,null,null,null," "]
[null,null,null,null,null,null,null,null,null,null," "]
[null,null,null,null,null,null,null,null,null,null," "]
[null,null,null,null,null,null,null,null,null,null," "]
[null,null,null,null,null,null,null,null,null,null," "]
[null,null,null,null,null,null,null,null,null,null," "]
[null,null,null,null,null,null,null,null,null,null," "]
[null,null,null,null,null,null,null,null,null,null," "]
[null,null,null,null,null,null,null,null,null,null," "]
[null,null,null,null,null,null,null,null,null,null," "]
[null,null,null,null,null,null,null,null,null,null," "]
[null,null,null,null,null,null,null,null,null,null," "]
[null,null,null,null,null,null,null,null,null,null," "]
[null,null,null,null,null,null,null,null,null,null," "]
[null,null,null,null,null,null,null,null,null,null," "]
[null,null,null,null,null,null,null,null,null,null," "]
[null,null,null,null,null,null,null,null,null,null," "]
[null,null,null,null,null,null,null,null,null,null," "]
[null,null,null,null,null,null,null,null,null,null," "]
[null,null,null,null,null,null,null,null,null,null," "]
[null,null,null,null,null,null,null,null,null,null," "]
[null,null,null,null,null,null,null,null,null,null," "]
[null,null,null,null,null,null,null,null,null,null," "]
[null,null,null,null,null,null,null,null,null,null," "]
[null,null,null,null,null,null,null,null,null,null," "]
[null,null,null,null,null,null,null,null,null,null," "]
[null,null,null,null,null,null,null,null,null,null," "]
[null,null,null,null,null,null,null,null,null,null," "]
[null,null,null,null,null,null,null,null,null,null," "]
[null,null,null,null,null,null,null,null,null,null," "]
[null,null,null,null,null,null,null,null,null,null," "]
[null,null,null,null,null,null,null,null,null,null," "]
[null,null,null,null,null,null,null,null,null,null," "]
[null,null,null,null,null,null,null,null,null,null," "]
[null,null,null,null,null,null,null,null,null,null," "]
[null,null,null,null,null,null,null,null,null,null," "]
[null,null,null,null,null,null,null,null,null,null,{"$f":"B188&\" \"&A188","v":" "}]
[null,null,null,null,null,null,null,null,null,null," "]
[null,null,null,null,null,null,null,null,null,null," "]
[null,null,null,null,null,null,null,null,null,null," "]
[null,null,null,null,null,null,null,null,null,null," "]
[null,null,null,null,null,null,null,null,null,null," "]
[null,null,null,null,null,null,null,null,null,null," "]
[null,null,null,null,null,null,null,null,null,null," "]
[null,null,null,null,null,null,null,null,null,null," "]
[null,null,null,null,null,null,null,null,null,null," "]
[null,null,null,null,null,null,null,null,null,null," "]
[null,null,null,null,null,null,null,null,null,null," "]
[null,null,null,null,null,null,null,null,null,null," "]
[null,null,null,null,null,null,null,null,null,null," "]
[null,null,null,null,null,null,null,null,null,null," "]
[null,null,null,null,null,null,null,null,null,null," "]
[null,null,null,null,null,null,null,null,null,null," "]
[null,null,null,null,null,null,null,null,null,null," "]
[null,null,null,null,null,null,null,null,null,null," "]
[null,null,null,null,null,null,null,null,null,null," "]
[null,null,null,null,null,null,null,null,null,null," "]
[null,null,null,null,null,null,null,null,null,null," "]
[null,null,null,null,null,null,null,null,null,null," "]
[null,null,null,null,null,null,null,null,null,null," "]
[null,null,null,null,null,null,null,null,null,null," "]
[null,null,null,null,null,null,null,null,null,null," "]
[null,null,null,null,null,null,null,null,null,null," "]
[null,null,null,null,null,null,null,null,null,null," "]
[null,null,null,null,null,null,null,null,null,null," "]
[null,null,null,null,null,null,null,null,null,null," "]
[null,null,null,null,null,null,null,null,null,null," "]
[null,null,null,null,null,null,null,null,null,null," "]
[null,null,null,null,null,null,null,null,null,null," "]
[null,null,null,null,null,null,null,null,null,null," "]
[null,null,null,null,null,null,null,null,null,null," "]
[null,null,null,null,null,null,null,null,null,null," "]
[null,null,null,null,null,null,null,null,null,null," "]
[null,null,null,null,null,null,null,null,null,null," "]
[null,null,null,null,null,null,null,null,null,null," "]
[null,null,null,null,null,null,null,null,null,null," "]
[null,null,null,null,null,null,null,null,null,null," "]
[null,null,null,null,null,null,null,null,null,null," "]
[null,null,null,null,null,null,null,null,null,null," "]
[null,null,null,null,null,null,null,null,null,null," "]
[null,null,null,null,null,null,null,null,null,null," "]
[null,null,null,null,null,null,null,null,null,null," "]
[null,null,null,null,null,null,null,null,null,null," "]
[null,null,null,null,null,null,null,null,null,null," "]
[null,null,null,null,null,null,null,null,null,null," "]
[null,null,null,null,null,null,null,null,null,null," "]
[null,null,null,null,null,null,null,null,null,null," "]
[null,null,null,null,null,null,null,null,null,null," "]
[null,null,null,null,null,null,null,null,null,null," "]
[null,null,null,null,null,null,null,null,null,null," "]
[null,null,null,null,null,null,null,null,null,null," "]
[null,null,null,null,null,null,null,null,null,null," "]
[null,null,null,null,null,null,null,null,null,null," "]
[null,null,null,null,null,null,null,null,null,null," "]
[null,null,null,null,null,null,null,null,null,null," "]
[null,null,null,null,null,null,null,null,null,null," "]
[null,null,null,null,null,null,null,null,null,null," "]
[null,null,null,null,null,null,null,null,null,null," "]
[null,null,null,null,null,null,null,null,null,null," "]
[null,null,null,null,null,null,null,null,null,null," "]
[null,null,null,null,null,null,null,null,null,null,{"$f":"B252&\" \"&A252","v":" "}]
[null,null,null,null,null,null,null,null,null,null," "]
[null,null,null,null,null,null,null,null,null,null," "]
[null,null,null,null,null,null,null,null,null,null," "]
[null,null,null,null,null,null,null,null,null,null," "]
[null,null,null,null,null,null,null,null,null,null," "]
[null,null,null,null,null,null,null,null,null,null," "]
[null,null,null,null,null,null,null,null,null,null," "]
[null,null,null,null,null,null,null,null,null,null," "]
[null,null,null,null,null,null,null,null,null,null," "]
[null,null,null,null,null,null,null,null,null,null," "]
[null,null,null,null,null,null,null,null,null,null," "]
[null,null,null,null,null,null,null,null,null,null," "]
[null,null,null,null,null,null,null,null,null,null," "]
[null,null,null,null,null,null,null,null,null,null," "]
[null,null,null,null,null,null,null,null,null,null," "]
[null,null,null,null,null,null,null,null,null,null," "]
[null,null,null,null,null,null,null,null,null,null," "]
[null,null,null,null,null,null,null,null,null,null," "]
[null,null,null,null,null,null,null,null,null,null," "]
[null,null,null,null,null,null,null,null,null,null," "]
[null,null,null,null,null,null,null,null,null,null," "]
[null,null,null,null,null,null,null,null,null,null," "]
[null,null,null,null,null,null,null,null,null,null," "]
[null,null,null,null,null,null,null,null,null,null," "]
[null,null,null,null,null,null,null,null,null,null," "]
[null,null,null,null,null,null,null,null,null,null," "]
[null,null,null,null,null,null,null,null,null,null," "]
[null,null,null,null,null,null,null,null,null,null," "]
[null,null,null,null,null,null,null,null,null,null," "]
[null,null,null,null,null,null,null,null,null,null," "]
[null,null,null,null,null,null,null,null,null,null," "]
[null,null,null,null,null,null,null,null,null,null," "]
[null,null,null,null,null,null,null,null,null,null," "]
[null,null,null,null,null,null,null,null,null,null," "]
[null,null,null,null,null,null,null,null,null,null," "]
[null,null,null,null,null,null,null,null,null,null," "]
[null,null,null,null,null,null,null,null,null,null," "]
[null,null,null,null,null,null,null,null,null,null," "]
[null,null,null,null,null,null,null,null,null,null," "]
[null,null,null,null,null,null,null,null,null,null," "]
[null,null,null,null,null,null,null,null,null,null," "]
[null,null,null,null,null,null,null,null,null,null," "]
[null,null,null,null,null,null,null,null,null,null," "]
[null,null,null,null,null,null,null,null,null,null," "]
[null,null,null,null,null,null,null,null,null,null," "]
[null,null,null,null,null,null,null,null,null,null," "]
[null,null,null,null,null,null,null,null,null,null," "]
[null,null,null,null,null,null,null,null,null,null," "]
[null,null,null,null,null,null,null,null,null,null," "]
[null,null,null,null,null,null,null,null,null,null," "]
[null,null,null,null,null,null,null,null,null,null," "]
[null,null,null,null,null,null,null,null,null,null," "]
[null,null,null,null,null,null,null,null,null,null," "]
[null,null,null,null,null,null,null,null,null,null," "]
[null,null,null,null,null,null,null,null,null,null," "]
[null,null,null,null,null,null,null,null,null,null," "]
[null,null,null,null,null,null,null,null,null,null," "]
[null,null,null,null,null,null,null,null,null,null," "]
[null,null,null,null,null,null,null,null,null,null," "]
[null,null,null,null,null,null,null,null,null,null," "]
[null,null,null,null,null,null,null,null,null,null," "]
[null,null,null,null,null,null,null,null,null,null," "]
[null,null,null,null,null,null,null,null,null,null," "]
[null,null,null,null,null,null,null,null,null,null,{"$f":"B316&\" \"&A316","v":" "}]
[null,null,null,null,null,null,null,null,null,null," "]
[null,null,null,null,null,null,null,null,null,null," "]
[null,null,null,null,null,null,null,null,null,null," "]
[null,null,null,null,null,null,null,null,null,null," "]
[null,null,null,null,null,null,null,null,null,null," "]
[null,null,null,null,null,null,null,null,null,null," "]
[null,null,null,null,null,null,null,null,null,null," "]
[null,null,null,null,null,null,null,null,null,null," "]
[null,null,null,null,null,null,null,null,null,null," "]
[null,null,null,null,null,null,null,null,null,null," "]
[null,null,null,null,null,null,null,null,null,null," "]
[null,null,null,null,null,null,null,null,null,null," "]
[null,null,null,null,null,null,null,null,null,null," "]
[null,null,null,null,null,null,null,null,null,null," "]
[null,null,null,null,null,null,null,null,null,null," "]
[null,null,null,null,null,null,null,null,null,null," "]
[null,null,null,null,null,null,null,null,null,null," "]
[null,null,null,null,null,null,null,null,null,null," "]
[null,null,null,null,null,null,null,null,null,null," "]
[null,null,null,null,null,null,null,null,null,null," "]
[null,null,null,null,null,null,null,null,null,null," "]
[null,null,null,null,null,null,null,null,null,null," "]
[null,null,null,null,null,null,null,null,null,null," "]
[null,null,null,null,null,null,null,null,null,null," "]
[null,null,null,null,null,null,null,null,null,null," "]
[null,null,null,null,null,null,null,null,null,null," "]
[null,null,null,null,null,null,null,null,null,null," "]
[null,null,null,null,null,null,null,null,null,null," "]
[null,null,null,null,null,null,null,null,null,null," "]
[null,null,null,null,null,null,null,null,null,null," "]
[null,null,null,null,null,null,null,null,null,null," "]
[null,null,null,null,null,null,null,null,null,null," "]
[null,null,null,null,null,null,null,null,null,null," "]
[null,null,null,null,null,null,null,null,null,null," "]
[null,null,null,null,null,null,null,null,null,null," "]
[null,null,null,null,null,null,null,null,null,null," "]
[null,null,null,null,null,null,null,null,null,null," "]
[null,null,null,null,null,null,null,null,null,null," "]
[null,null,null,null,null,null,null,null,null,null," "]
[null,null,null,null,null,null,null,null,null,null," "]
[null,null,null,null,null,null,null,null,null,null," "]
[null,null,null,null,null,null,null,null,null,null," "]
[null,null,null,null,null,null,null,null,null,null," "]
[null,null,null,null,null,null,null,null,null,null," "]
[null,null,null,null,null,null,null,null,null,null," "]
[null,null,null,null,null,null,null,null,null,null," "]
[null,null,null,null,null,null,null,null,null,null," "]
[null,null,null,null,null,null,null,null,null,null," "]
[null,null,null,null,null,null,null,null,null,null," "]
[null,null,null,null,null,null,null,null,null,null," "]
[null,null,null,null,null,null,null,null,null,null," "]
[null,null,null,null,null,null,null,null,null,null," "]
[null,null,null,null,null,null,null,null,null,null," "]
[null,null,null,null,null,null,null,null,null,null," "]
[null,null,null,null,null,null,null,null,null,null," "]
[null,null,null,null,null,null,null,null,null,null," "]
[null,null,null,null,null,null,null,null,null,null," "]
[null,null,null,null,null,null,null,null,null,null," "]
[null,null,null,null,null,null,null,null,null,null," "]
[null,null,null,null,null,null,null,null,null,null," "]
[null,null,null,null,null,null,null,null,null,null," "]
[null,null,null,null,null,null,null,null,null,null," "]
[null,null,null,null,null,null,null,null,null,null," "]
[null,null,null,null,null,null,null,null,null,null,{"$f":"B380&\" \"&A380","v":" "}]
[null,null,null,null,null,null,null,null,null,null," "]
[null,null,null,null,null,null,null,null,null,null," "]
[null,null,null,null,null,null,null,null,null,null," "]
[null,null,null,null,null,null,null,null,null,null," "]
[null,null,null,null,null,null,null,null,null,null," "]
[null,null,null,null,null,null,null,null,null,null," "]
[null,null,null,null,null,null,null,null,null,null," "]
[null,null,null,null,null,null,null,null,null,null," "]
[null,null,null,null,null,null,null,null,null,null," "]
[null,null,null,null,null,null,null,null,null,null," "]
[null,null,null,null,null,null,null,null,null,null," "]
[null,null,null,null,null,null,null,null,null,null," "]
[null,null,null,null,null,null,null,null,null,null," "]
[null,null,null,null,null,null,null,null,null,null," "]
[null,null,null,null,null,null,null,null,null,null," "]
[null,null,null,null,null,null,null,null,null,null," "]
[null,null,null,null,null,null,null,null,null,null," "]
[null,null,null,null,null,null,null,null,null,null," "]
[null,null,null,null,null,null,null,null,null,null," "]
[null,null,null,null,null,null,null,null,null,null," "]
[null,null,null,null,null,null,null,null,null,null," "]
[null,null,null,null,null,null,null,null,null,null," "]
[null,null,null,null,null,null,null,null,null,null," "]
[null,null,null,null,null,null,null,null,null,null," "]
[null,null,null,null,null,null,null,null,null,null," "]
[null,null,null,null,null,null,null,null,null,null," "]
[null,null,null,null,null,null,null,null,null,null," "]
[null,null,null,null,null,null,null,null,null,null," "]
[null,null,null,null,null,null,null,null,null,null," "]
[null,null,null,null,null,null,null,null,null,null," "]
[null,null,null,null,null,null,null,null,null,null," "]
[null,null,null,null,null,null,null,null,null,null," "]
[null,null,null,null,null,null,null,null,null,null," "]
[null,null,null,null,null,null,null,null,null,null," "]
[null,null,null,null,null,null,null,null,null,null," "]
[null,null,null,null,null,null,null,null,null,null," "]
[null,null,null,null,null,null,null,null,null,null," "]
[null,null,null,null,null,null,null,null,null,null," "]
[null,null,null,null,null,null,null,null,null,null," "]
[null,null,null,null,null,null,null,null,null,null," "]
[null,null,null,null,null,null,null,null,null,null," "]
[null,null,null,null,null,null,null,null,null,null," "]
[null,null,null,null,null,null,null,null,null,null," "]
[null,null,null,null,null,null,null,null,null,null," "]
[null,null,null,null,null,null,null,null,null,null,{"$f":"B425&\" \"&A425","v":" "}]

{"sheet":"STANDINGS - 2017","index":10,"n_rows":69,"n_cols":10,"rows_kept":69,"cut":false,"hidden":false,"merged":[]}
[]
[null,null,null,null,null,null,"08/23/17"]
[]
[]
[]
[]
[null,null,null,null,null,"Standings - First Half - 2017"]
[]
[]
[]
[null,null,{"$f":"RANK(J11,$J$11:$J$45)","v":1},{"$f":"IF(C11=C10,C11&\"T\",IF(C11=C12,C11&\"T\",C11))","v":1},"Team 08",{"$f":"\"- \"&VLOOKUP(E11,'TEAM ROSTERS & SUB LIST'!B:F,3,FALSE)&\" / \"&VLOOKUP(E11,'TEAM ROSTERS & SUB LIST'!B:F,5,FALSE)","v":"- Steve Lawrence / Mike Benson"},null,null,null,{"$f":"VLOOKUP(E11,'POINTS - 2017'!$B$11:$D$44,2,FALSE)","v":49}]
[null,null,{"$f":"RANK(J12,$J$11:$J$45)","v":2},{"$f":"IF(C12=C11,C12&\"T\",IF(C12=C13,C12&\"T\",C12))","v":2},"Team 02",{"$f":"\"- \"&VLOOKUP(E12,'TEAM ROSTERS & SUB LIST'!B:F,3,FALSE)&\" / \"&VLOOKUP(E12,'TEAM ROSTERS & SUB LIST'!B:F,5,FALSE)","v":"- Jono Normandin / Nathan Wallace"},null,null,null,{"$f":"VLOOKUP(E12,'POINTS - 2017'!$B$11:$D$44,2,FALSE)","v":48.5}]
[null,null,3,3,"Team 15",{"$f":"\"- \"&VLOOKUP(E13,'TEAM ROSTERS & SUB LIST'!B:F,3,FALSE)&\" / \"&VLOOKUP(E13,'TEAM ROSTERS & SUB LIST'!B:F,5,FALSE)","v":"- Gary Leavenworth / Patty Leavenworth"},null,null,null,{"$f":"VLOOKUP(E13,'POINTS - 2017'!$B$11:$D$44,2,FALSE)","v":44.5}]
[null,null,4,4,"Team 03",{"$f":"\"- \"&VLOOKUP(E14,'TEAM ROSTERS & SUB LIST'!B:F,3,FALSE)&\" / \"&VLOOKUP(E14,'TEAM ROSTERS & SUB LIST'!B:F,5,FALSE)","v":"- Pete Romano / Don Frigoletto"},null,null,null,{"$f":"VLOOKUP(E14,'POINTS - 2017'!$B$11:$D$44,2,FALSE)","v":44}]
[null,null,5,"5T","Team 06",{"$f":"\"- \"&VLOOKUP(E15,'TEAM ROSTERS & SUB LIST'!B:F,3,FALSE)&\" / \"&VLOOKUP(E15,'TEAM ROSTERS & SUB LIST'!B:F,5,FALSE)","v":"- Vance Butterfield / Bob Schleyer"},null,null,null,{"$f":"VLOOKUP(E15,'POINTS - 2017'!$B$11:$D$44,2,FALSE)","v":42.5}]
[null,null,5,"5T","Team 14",{"$f":"\"- \"&VLOOKUP(E16,'TEAM ROSTERS & SUB LIST'!B:F,3,FALSE)&\" / \"&VLOOKUP(E16,'TEAM ROSTERS & SUB LIST'!B:F,5,FALSE)","v":"- Paul Fontaine / Ralph Romano III"},null,null,null,{"$f":"VLOOKUP(E16,'POINTS - 2017'!$B$11:$D$44,2,FALSE)","v":42.5}]
[null,null,7,7,"Team 20",{"$f":"\"- \"&VLOOKUP(E17,'TEAM ROSTERS & SUB LIST'!B:F,3,FALSE)&\" / \"&VLOOKUP(E17,'TEAM ROSTERS & SUB LIST'!B:F,5,FALSE)","v":"- Sheila Sundstrom / Ray Hoy"},null,null,null,{"$f":"VLOOKUP(E17,'POINTS - 2017'!$B$11:$D$44,2,FALSE)","v":42}]
[null,null,8,8,"Team 18",{"$f":"\"- \"&VLOOKUP(E18,'TEAM ROSTERS & SUB LIST'!B:F,3,FALSE)&\" / \"&VLOOKUP(E18,'TEAM ROSTERS & SUB LIST'!B:F,5,FALSE)","v":"- Norm Gamache / Michelle Bouvier"},null,null,null,{"$f":"VLOOKUP(E18,'POINTS - 2017'!$B$11:$D$44,2,FALSE)","v":41}]
[null,null,9,"9T","Team 11",{"$f":"\"- \"&VLOOKUP(E19,'TEAM ROSTERS & SUB LIST'!B:F,3,FALSE)&\" / \"&VLOOKUP(E19,'TEAM ROSTERS & SUB LIST'!B:F,5,FALSE)","v":"- Jim Haskins / Anthony Conte"},null,null,null,{"$f":"VLOOKUP(E19,'POINTS - 2017'!$B$11:$D$44,2,FALSE)","v":40.5}]
[null,null,9,"9T","Team 12",{"$f":"\"- \"&VLOOKUP(E20,'TEAM ROSTERS & SUB LIST'!B:F,3,FALSE)&\" / \"&VLOOKUP(E20,'TEAM ROSTERS & SUB LIST'!B:F,5,FALSE)","v":"- Sal Ciufetti / Kevin Nivala"},null,null,null,{"$f":"VLOOKUP(E20,'POINTS - 2017'!$B$11:$D$44,2,FALSE)","v":40.5}]
[null,null,11,11,"Team 07",{"$f":"\"- \"&VLOOKUP(E21,'TEAM ROSTERS & SUB LIST'!B:F,3,FALSE)&\" / \"&VLOOKUP(E21,'TEAM ROSTERS & SUB LIST'!B:F,5,FALSE)","v":"- John Fairbanks / Debbie Fairbanks"},null,null,null,{"$f":"VLOOKUP(E21,'POINTS - 2017'!$B$11:$D$44,2,FALSE)","v":40}]
[null,null,12,12,"Team 10",{"$f":"\"- \"&VLOOKUP(E22,'TEAM ROSTERS & SUB LIST'!B:F,3,FALSE)&\" / \"&VLOOKUP(E22,'TEAM ROSTERS & SUB LIST'!B:F,5,FALSE)","v":"- Ron Ekstrom / Beth Romano"},null,null,null,{"$f":"VLOOKUP(E22,'POINTS - 2017'!$B$11:$D$44,2,FALSE)","v":39}]
[null,null,13,13,"Team 04",{"$f":"\"- \"&VLOOKUP(E23,'TEAM ROSTERS & SUB LIST'!B:F,3,FALSE)&\" / \"&VLOOKUP(E23,'TEAM ROSTERS & SUB LIST'!B:F,5,FALSE)","v":"- Peg Romano / Lynn Laroche"},null,null,null,{"$f":"VLOOKUP(E23,'POINTS - 2017'!$B$11:$D$44,2,FALSE)","v":38.5}]
[null,null,14,14,"Team 17",{"$f":"\"- \"&VLOOKUP(E24,'TEAM ROSTERS & SUB LIST'!B:F,3,FALSE)&\" / \"&VLOOKUP(E24,'TEAM ROSTERS & SUB LIST'!B:F,5,FALSE)","v":"- Carol Ekstrom / Mike Dauphinais"},null,null,null,{"$f":"VLOOKUP(E24,'POINTS - 2017'!$B$11:$D$44,2,FALSE)","v":37}]
[null,null,15,15,"Team 13",{"$f":"\"- \"&VLOOKUP(E25,'TEAM ROSTERS & SUB LIST'!B:F,3,FALSE)&\" / \"&VLOOKUP(E25,'TEAM ROSTERS & SUB LIST'!B:F,5,FALSE)","v":"- Tim Hurley / Walter Drake"},null,null,null,{"$f":"VLOOKUP(E25,'POINTS - 2017'!$B$11:$D$44,2,FALSE)","v":36.5}]
[null,null,16,16,"Team 09",{"$f":"\"- \"&VLOOKUP(E26,'TEAM ROSTERS & SUB LIST'!B:F,3,FALSE)&\" / \"&VLOOKUP(E26,'TEAM ROSTERS & SUB LIST'!B:F,5,FALSE)","v":"- Mike Doane / John Cassin"},null,null,null,{"$f":"VLOOKUP(E26,'POINTS - 2017'!$B$11:$D$44,2,FALSE)","v":36}]
[null,null,17,17,"Team 05",{"$f":"\"- \"&VLOOKUP(E27,'TEAM ROSTERS & SUB LIST'!B:F,3,FALSE)&\" / \"&VLOOKUP(E27,'TEAM ROSTERS & SUB LIST'!B:F,5,FALSE)","v":"- Dennis Normandin / Mark Normandin"},null,null,null,{"$f":"VLOOKUP(E27,'POINTS - 2017'!$B$11:$D$44,2,FALSE)","v":35.5}]
[null,null,18,18,"Team 01",{"$f":"\"- \"&VLOOKUP(E28,'TEAM ROSTERS & SUB LIST'!B:F,3,FALSE)&\" / \"&VLOOKUP(E28,'TEAM ROSTERS & SUB LIST'!B:F,5,FALSE)","v":"- John Normandin / Pete Normandin"},null,null,null,{"$f":"VLOOKUP(E28,'POINTS - 2017'!$B$11:$D$44,2,FALSE)","v":33.5}]
[null,null,19,19,"Team 16",{"$f":"\"- \"&VLOOKUP(E29,'TEAM ROSTERS & SUB LIST'!B:F,3,FALSE)&\" / \"&VLOOKUP(E29,'TEAM ROSTERS & SUB LIST'!B:F,5,FALSE)","v":"- Kevin O'Loughlin / Mike Romano"},null,null,null,{"$f":"VLOOKUP(E29,'POINTS - 2017'!$B$11:$D$44,2,FALSE)","v":32.5}]
[null,null,20,20,"Team 19",{"$f":"\"- \"&VLOOKUP(E30,'TEAM ROSTERS & SUB LIST'!B:F,3,FALSE)&\" / \"&VLOOKUP(E30,'TEAM ROSTERS & SUB LIST'!B:F,5,FALSE)","v":"- John Pavone / Ernie Beliveau"},null,null,null,{"$f":"VLOOKUP(E30,'POINTS - 2017'!$B$11:$D$44,2,FALSE)","v":31.5}]
[]
[]
[]
[]
[]
[]
[]
[]
[]
[]
[]
[]
[]
[]
[]
[]
[null,null,null,null,null,"Standings - Second Half - 2017"]
[]
[]
[null,null,{"$f":"RANK(J50,$J$50:$J$84)","v":1},{"$f":"IF(C50=C49,C50&\"T\",IF(C50=C51,C50&\"T\",C50))","v":1},"Team 10",{"$f":"\"- \"&VLOOKUP(E50,'TEAM ROSTERS & SUB LIST'!B:F,3,FALSE)&\" / \"&VLOOKUP(E50,'TEAM ROSTERS & SUB LIST'!B:F,5,FALSE)","v":"- Ron Ekstrom / Beth Romano"},null,null,null,{"$f":"VLOOKUP(E50,'POINTS - 2017'!$B$11:$D$44,3,FALSE)","v":44}]
[null,null,{"$f":"RANK(J51,$J$50:$J$84)","v":2},{"$f":"IF(C51=C50,C51&\"T\",IF(C51=C52,C51&\"T\",C51))","v":"2T"},"Team 11",{"$f":"\"- \"&VLOOKUP(E51,'TEAM ROSTERS & SUB LIST'!B:F,3,FALSE)&\" / \"&VLOOKUP(E51,'TEAM ROSTERS & SUB LIST'!B:F,5,FALSE)","v":"- Jim Haskins / Anthony Conte"},null,null,null,{"$f":"VLOOKUP(E51,'POINTS - 2017'!$B$11:$D$44,3,FALSE)","v":37}]
[null,null,2,"2T","Team 14",{"$f":"\"- \"&VLOOKUP(E52,'TEAM ROSTERS & SUB LIST'!B:F,3,FALSE)&\" / \"&VLOOKUP(E52,'TEAM ROSTERS & SUB LIST'!B:F,5,FALSE)","v":"- Paul Fontaine / Ralph Romano III"},null,null,null,{"$f":"VLOOKUP(E52,'POINTS - 2017'!$B$11:$D$44,3,FALSE)","v":37}]
[null,null,4,"4T","Team 07",{"$f":"\"- \"&VLOOKUP(E53,'TEAM ROSTERS & SUB LIST'!B:F,3,FALSE)&\" / \"&VLOOKUP(E53,'TEAM ROSTERS & SUB LIST'!B:F,5,FALSE)","v":"- John Fairbanks / Debbie Fairbanks"},null,null,null,{"$f":"VLOOKUP(E53,'POINTS - 2017'!$B$11:$D$44,3,FALSE)","v":36.5}]
[null,null,4,"4T","Team 15",{"$f":"\"- \"&VLOOKUP(E54,'TEAM ROSTERS & SUB LIST'!B:F,3,FALSE)&\" / \"&VLOOKUP(E54,'TEAM ROSTERS & SUB LIST'!B:F,5,FALSE)","v":"- Gary Leavenworth / Patty Leavenworth"},null,null,null,{"$f":"VLOOKUP(E54,'POINTS - 2017'!$B$11:$D$44,3,FALSE)","v":36.5}]
[null,null,6,"6T","Team 08",{"$f":"\"- \"&VLOOKUP(E55,'TEAM ROSTERS & SUB LIST'!B:F,3,FALSE)&\" / \"&VLOOKUP(E55,'TEAM ROSTERS & SUB LIST'!B:F,5,FALSE)","v":"- Steve Lawrence / Mike Benson"},null,null,null,{"$f":"VLOOKUP(E55,'POINTS - 2017'!$B$11:$D$44,3,FALSE)","v":32}]
[null,null,6,"6T","Team 13",{"$f":"\"- \"&VLOOKUP(E56,'TEAM ROSTERS & SUB LIST'!B:F,3,FALSE)&\" / \"&VLOOKUP(E56,'TEAM ROSTERS & SUB LIST'!B:F,5,FALSE)","v":"- Tim Hurley / Walter Drake"},null,null,null,{"$f":"VLOOKUP(E56,'POINTS - 2017'!$B$11:$D$44,3,FALSE)","v":32}]
[null,null,6,"6T","Team 20",{"$f":"\"- \"&VLOOKUP(E57,'TEAM ROSTERS & SUB LIST'!B:F,3,FALSE)&\" / \"&VLOOKUP(E57,'TEAM ROSTERS & SUB LIST'!B:F,5,FALSE)","v":"- Sheila Sundstrom / Ray Hoy"},null,null,null,{"$f":"VLOOKUP(E57,'POINTS - 2017'!$B$11:$D$44,3,FALSE)","v":32}]
[null,null,9,9,"Team 06",{"$f":"\"- \"&VLOOKUP(E58,'TEAM ROSTERS & SUB LIST'!B:F,3,FALSE)&\" / \"&VLOOKUP(E58,'TEAM ROSTERS & SUB LIST'!B:F,5,FALSE)","v":"- Vance Butterfield / Bob Schleyer"},null,null,null,{"$f":"VLOOKUP(E58,'POINTS - 2017'!$B$11:$D$44,3,FALSE)","v":31.5}]
[null,null,10,"10T","Team 03",{"$f":"\"- \"&VLOOKUP(E59,'TEAM ROSTERS & SUB LIST'!B:F,3,FALSE)&\" / \"&VLOOKUP(E59,'TEAM ROSTERS & SUB LIST'!B:F,5,FALSE)","v":"- Pete Romano / Don Frigoletto"},null,null,null,{"$f":"VLOOKUP(E59,'POINTS - 2017'!$B$11:$D$44,3,FALSE)","v":31}]
[null,null,10,"10T","Team 05",{"$f":"\"- \"&VLOOKUP(E60,'TEAM ROSTERS & SUB LIST'!B:F,3,FALSE)&\" / \"&VLOOKUP(E60,'TEAM ROSTERS & SUB LIST'!B:F,5,FALSE)","v":"- Dennis Normandin / Mark Normandin"},null,null,null,{"$f":"VLOOKUP(E60,'POINTS - 2017'!$B$11:$D$44,3,FALSE)","v":31}]
[null,null,12,12,"Team 17",{"$f":"\"- \"&VLOOKUP(E61,'TEAM ROSTERS & SUB LIST'!B:F,3,FALSE)&\" / \"&VLOOKUP(E61,'TEAM ROSTERS & SUB LIST'!B:F,5,FALSE)","v":"- Carol Ekstrom / Mike Dauphinais"},null,null,null,{"$f":"VLOOKUP(E61,'POINTS - 2017'!$B$11:$D$44,3,FALSE)","v":28.5}]
[null,null,13,13,"Team 02",{"$f":"\"- \"&VLOOKUP(E62,'TEAM ROSTERS & SUB LIST'!B:F,3,FALSE)&\" / \"&VLOOKUP(E62,'TEAM ROSTERS & SUB LIST'!B:F,5,FALSE)","v":"- Jono Normandin / Nathan Wallace"},null,null,null,{"$f":"VLOOKUP(E62,'POINTS - 2017'!$B$11:$D$44,3,FALSE)","v":28}]
[null,null,14,"14T","Team 01",{"$f":"\"- \"&VLOOKUP(E63,'TEAM ROSTERS & SUB LIST'!B:F,3,FALSE)&\" / \"&VLOOKUP(E63,'TEAM ROSTERS & SUB LIST'!B:F,5,FALSE)","v":"- John Normandin / Pete Normandin"},null,null,null,{"$f":"VLOOKUP(E63,'POINTS - 2017'!$B$11:$D$44,3,FALSE)","v":27.5}]
[null,null,14,"14T","Team 16",{"$f":"\"- \"&VLOOKUP(E64,'TEAM ROSTERS & SUB LIST'!B:F,3,FALSE)&\" / \"&VLOOKUP(E64,'TEAM ROSTERS & SUB LIST'!B:F,5,FALSE)","v":"- Kevin O'Loughlin / Mike Romano"},null,null,null,{"$f":"VLOOKUP(E64,'POINTS - 2017'!$B$11:$D$44,3,FALSE)","v":27.5}]
[null,null,16,"16T","Team 09",{"$f":"\"- \"&VLOOKUP(E65,'TEAM ROSTERS & SUB LIST'!B:F,3,FALSE)&\" / \"&VLOOKUP(E65,'TEAM ROSTERS & SUB LIST'!B:F,5,FALSE)","v":"- Mike Doane / John Cassin"},null,null,null,{"$f":"VLOOKUP(E65,'POINTS - 2017'!$B$11:$D$44,3,FALSE)","v":26.5}]
[null,null,16,"16T","Team 19",{"$f":"\"- \"&VLOOKUP(E66,'TEAM ROSTERS & SUB LIST'!B:F,3,FALSE)&\" / \"&VLOOKUP(E66,'TEAM ROSTERS & SUB LIST'!B:F,5,FALSE)","v":"- John Pavone / Ernie Beliveau"},null,null,null,{"$f":"VLOOKUP(E66,'POINTS - 2017'!$B$11:$D$44,3,FALSE)","v":26.5}]
[null,null,18,18,"Team 04",{"$f":"\"- \"&VLOOKUP(E67,'TEAM ROSTERS & SUB LIST'!B:F,3,FALSE)&\" / \"&VLOOKUP(E67,'TEAM ROSTERS & SUB LIST'!B:F,5,FALSE)","v":"- Peg Romano / Lynn Laroche"},null,null,null,{"$f":"VLOOKUP(E67,'POINTS - 2017'!$B$11:$D$44,3,FALSE)","v":26}]
[null,null,19,19,"Team 18",{"$f":"\"- \"&VLOOKUP(E68,'TEAM ROSTERS & SUB LIST'!B:F,3,FALSE)&\" / \"&VLOOKUP(E68,'TEAM ROSTERS & SUB LIST'!B:F,5,FALSE)","v":"- Norm Gamache / Michelle Bouvier"},null,null,null,{"$f":"VLOOKUP(E68,'POINTS - 2017'!$B$11:$D$44,3,FALSE)","v":24.5}]
[null,null,20,20,"Team 12",{"$f":"\"- \"&VLOOKUP(E69,'TEAM ROSTERS & SUB LIST'!B:F,3,FALSE)&\" / \"&VLOOKUP(E69,'TEAM ROSTERS & SUB LIST'!B:F,5,FALSE)","v":"- Sal Ciufetti / Kevin Nivala"},null,null,null,{"$f":"VLOOKUP(E69,'POINTS - 2017'!$B$11:$D$44,3,FALSE)","v":13}]

{"sheet":"POINTS - 2017","index":11,"n_rows":30,"n_cols":23,"rows_kept":30,"cut":false,"hidden":false,"merged":[]}
[{"$f":"'SCORE ENTRY WORKSHEET'!N13","v":"08/23/17"}]
[{"$f":"'SCORE ENTRY WORKSHEET'!C21","v":"Team 19"}]
[{"$f":"'SCORE ENTRY WORKSHEET'!M21","v":0},null,null,null,null,null,"POINTS - 2017"]
[{"$f":"'SCORE ENTRY WORKSHEET'!C22","v":"Team 18"}]
[{"$f":"'SCORE ENTRY WORKSHEET'!M22","v":0}]
[]
[]
[]
[]
[null,"Team No.","Total Points - H1","Total Points - H2","04/26/17","05/03/17","05/10/17","05/17/17","05/24/17","05/31/17","06/07/17","06/14/17","06/21/17","06/28/17","07/05/17","07/12/17","07/19/17","07/26/17","08/02/17","08/09/17","08/16/17","08/23/17","08/30/17"]
[null,"Team 01",{"$f":"SUM(E11:N11)","v":33.5},{"$f":"SUM(O11:W11)","v":27.5},null,3.5,4,2,4,5,3,4.5,3.5,4,2.5,4,3.5,5.5,null,3.5,3,5.5]
[null,"Team 02",{"$f":"SUM(E12:N12)","v":48.5},{"$f":"SUM(O12:W12)","v":28},null,4.5,4.5,3.5,5.5,6,7.5,6,6,5,5,5,4.5,4.5,null,2.5,0.5,6]
[null,"Team 03",44,31,null,4.5,4.5,5.5,4,4.5,7.5,4.5,4,5,2,4,6,8,null,4,3.5,3.5]
[null,"Team 04",38.5,26,null,4,4,5,4.5,4.5,1.5,8,2.5,4.5,4,4.5,2,3.5,null,6.5,2.5,3]
[null,"Team 05",35.5,31,null,4,5,4,5,4,1.5,4,3.5,4.5,4.5,5.5,5.5,1,null,5.5,6,3]
[null,"Team 06",42.5,31.5,null,4,6.5,3.5,4,5,5,6,3.5,5,4,2,4,4.5,null,5.5,6.5,5]
[null,"Team 07",40,36.5,null,5,2,5.5,4.5,4,5,4,5.5,4.5,5,5,6,5,null,3.5,5.5,6.5]
[null,"Team 08",49,32,null,6,7,5,5,5,6.5,3.5,5.5,5.5,5.5,3,5.5,5.5,null,2.5,8.5,1.5]
[null,"Team 09",36,26.5,null,6,2.5,4.5,3.5,4.5,4,5.5,0,5.5,3,5,3,5,null,5,4,1.5]
[null,"Team 10",39,44,null,3.5,4,5.5,3.5,4.5,3.5,5,5.5,4,6.5,5.5,5,7,null,6.5,6,7.5]
[null,"Team 11",40.5,37,null,5,5.5,4,5.5,6,4,2.5,3,5,5,5,7.5,4,null,4.5,5,6]
[null,"Team 12",40.5,13,null,5,7,4.5,3.5,5,4,2.5,5,4,4,4.5,4.5,0,null,0,0,0]
[null,"Team 13",36.5,32,null,5,5.5,3.5,0,5,2.5,4.5,6.5,4,4,3.5,6.5,4,null,6,5.5,2.5]
[null,"Team 14",42.5,37,null,4,5,2.5,5,4.5,5,6.5,5.5,4.5,7,7,2.5,2,null,4.5,6.5,7.5]
[null,"Team 15",44.5,36.5,null,3,3.5,7.5,4.5,4,5.5,6.5,5.5,4.5,5,4,4.5,7,null,3.5,5,7.5]
[null,"Team 16",32.5,27.5,null,3,2,2.5,5,4.5,5,3,3.5,4,4.5,6,1.5,2.5,null,5.5,6,1.5]
[null,"Team 17",37,28.5,null,5.5,3.5,7,4.5,4,4.5,0,3.5,4.5,5,4,4.5,4,null,4.5,3,3.5]
[null,"Team 18",41,24.5,null,4.5,4.5,6.5,4,4,6,1,7,3.5,0,3.5,3,5,null,3,4,6]
[null,"Team 19",31.5,26.5,null,5.5,4.5,1.5,5,3,0,5,3.5,3.5,3.5,2,7,6.5,null,2,2.5,3]
[null,"Team 20",42,32,null,4.5,5,6.5,5.5,3,4,3,5.5,5,6,7,3.5,2,null,4.5,3.5,5.5]

{"sheet":"MATCH RESULTS - 2017","index":12,"n_rows":20,"n_cols":21,"rows_kept":20,"cut":false,"hidden":false,"merged":[]}
[{"$f":"'SCORE ENTRY WORKSHEET'!N13","v":"08/23/17"}]
[{"$f":"'SCORE ENTRY WORKSHEET'!N15","v":"5:12 PM"}]
[{"$f":"RIGHT(VLOOKUP('SCORE ENTRY WORKSHEET'!$C$21,'TEAM ROSTERS & SUB LIST'!$B$8:$F$41,3,FALSE),LEN(VLOOKUP('SCORE ENTRY WORKSHEET'!$C$21,'TEAM ROSTERS & SUB LIST'!$B$8:$F$41,3,FALSE))-FIND(\" \",VLOOKUP('SCORE ENTRY WORKSHEET'!$C$21,'TEAM ROSTERS & SUB LIST'!$B$8:$F$41,3,FALSE)))&\"/\"&RIGHT(VLOOKUP('SCORE ENTRY WORKSHEET'!$C$21,'TEAM ROSTERS & SUB LIST'!$B$8:$F$41,5,FALSE),LEN(VLOOKUP('SCORE ENTRY WORKSHEET'!$C$21,'TEAM ROSTERS & SUB LIST'!$B$8:$F$41,5,FALSE))-FIND(\" \",VLOOKUP('SCORE ENTRY WORKSHEET'!$C$21,'TEAM ROSTERS & SUB LIST'!$B$8:$F$41,5,FALSE)))","v":"Pavone/Beliveau"},null,null,"MATCH RESULTS - 2017"]
[{"$f":"'SCORE ENTRY WORKSHEET'!M21","v":0}]
[{"$f":"RIGHT(VLOOKUP('SCORE ENTRY WORKSHEET'!$C$22,'TEAM ROSTERS & SUB LIST'!$B$8:$F$41,3,FALSE),LEN(VLOOKUP('SCORE ENTRY WORKSHEET'!$C$22,'TEAM ROSTERS & SUB LIST'!$B$8:$F$41,3,FALSE))-FIND(\" \",VLOOKUP('SCORE ENTRY WORKSHEET'!$C$22,'TEAM ROSTERS & SUB LIST'!$B$8:$F$41,3,FALSE)))&\"/\"&RIGHT(VLOOKUP('SCORE ENTRY WORKSHEET'!$C$22,'TEAM ROSTERS & SUB LIST'!$B$8:$F$41,5,FALSE),LEN(VLOOKUP('SCORE ENTRY WORKSHEET'!$C$22,'TEAM ROSTERS & SUB LIST'!$B$8:$F$41,5,FALSE))-FIND(\" \",VLOOKUP('SCORE ENTRY WORKSHEET'!$C$22,'TEAM ROSTERS & SUB LIST'!$B$8:$F$41,5,FALSE)))","v":"Gamache/Bouvier"}]
[{"$f":"'SCORE ENTRY WORKSHEET'!M22","v":0}]
[{"$f":"IF($A$4=$A$6,$A$3&\" & \"&$A$5&\", tie \"&TEXT($A$4,\"0.0\")&\" - \"&TEXT($A$6,\"0.0\"),IF($A$4>$A$6,$A$3&\" d. \"&$A$5&\", \"&TEXT($A$4,\"0.0\")&\" - \"&TEXT($A$6,\"0.0\"),IF($A$6>$A$4,$A$5&\" d. \"&$A$3&\", \"&TEXT($A$6,\"0.0\")&\" - \"&TEXT($A$4,\"0.0\"))))","v":"Pavone/Beliveau & Gamache/Bouvier, tie 0.0 - 0.0"}]
[]
[]
[null,"Date","04/26/17","05/03/17","05/10/17","05/17/17","05/24/17","05/31/17","06/07/17","06/14/17","06/21/17","06/28/17","07/05/17","07/12/17","07/19/17","07/26/17","08/02/17","08/09/17","08/16/17","08/23/17","08/30/17"]
[null,"4:00 PM",null,"Ciufetti/Nivala d. Normandin/Normandin, 5.0 - 4.0","Fontaine/Romano III d. Normandin/Normandin, 5.0 - 4.0","Romano/Frigoletto d. Butterfield/Schleyer, 5.5 - 3.5","Sundstrom/Hoy d. Ciufetti/Nivala, 5.5 - 3.5","Romano/Laroche & Doane/Cassin, tie 4.5 - 4.5","Ekstrom/Dauphinais d. Pavone/Beliveau, 4.5 - 0.0","Doane/Cassin d. Lawrence/Benson, 5.5 - 3.5","Gamache/Bouvier d. Doane/Cassin, 7.0 - 0.0","Butterfield/Schleyer d. O'Loughlin/Romano, 5.0 - 4.0","Fontaine/Romano III d. Romano/Frigoletto, 7.0 - 2.0","Normandin/Normandin d. Hurley/Drake, 5.5 - 3.5","Fairbanks/Fairbanks d. Doane/Cassin, 6.0 - 3.0","Fairbanks/Fairbanks d. Haskins/Conte, 5.0 - 4.0",null,"Ekstrom/Dauphinais & Fontaine/Romano III, tie 4.5 - 4.5","O'Loughlin/Romano d. Ekstrom/Dauphinais, 6.0 - 3.0","Gamache/Bouvier d. Pavone/Beliveau, 6.0 - 3.0"]
[null,"4:08 PM",null,"Fairbanks/Fairbanks d. Fontaine/Romano III, 5.0 - 4.0","Ciufetti/Nivala d. O'Loughlin/Romano, 7.0 - 2.0","Fairbanks/Fairbanks d. Normandin/Wallace, 5.5 - 3.5","Normandin/Normandin d. Butterfield/Schleyer, 5.0 - 4.0","Fontaine/Romano III & O'Loughlin/Romano, tie 4.5 - 4.5","Fontaine/Romano III d. Doane/Cassin, 5.0 - 4.0","Pavone/Beliveau d. Normandin/Normandin, 5.0 - 4.0","Fairbanks/Fairbanks d. O'Loughlin/Romano, 5.5 - 3.5","Romano/Frigoletto d. Hurley/Drake, 5.0 - 4.0","Ekstrom/Romano d. Normandin/Normandin, 6.5 - 2.5","Fairbanks/Fairbanks d. Leavenworth/Leavenworth, 5.0 - 4.0","Lawrence/Benson d. Normandin/Normandin, 5.5 - 3.5","Gamache/Bouvier d. Ekstrom/Dauphinais, 5.0 - 4.0",null,"Sundstrom/Hoy & Haskins/Conte, tie 4.5 - 4.5","Ekstrom/Romano d. Ciufetti/Nivala, 6.0 - 0.0","Haskins/Conte d. Normandin/Normandin, 6.0 - 3.0"]
[null,"4:16 PM",null,"Haskins/Conte d. Romano/Laroche, 5.0 - 4.0","Hurley/Drake d. Leavenworth/Leavenworth, 5.5 - 3.5","Sundstrom/Hoy d. Fontaine/Romano III, 6.5 - 2.5","O'Loughlin/Romano d. Normandin/Normandin, 5.0 - 4.0","Lawrence/Benson d. Normandin/Normandin, 5.0 - 4.0","O'Loughlin/Romano d. Sundstrom/Hoy, 5.0 - 4.0","Romano/Laroche d. Gamache/Bouvier, 8.0 - 1.0","Hurley/Drake d. Romano/Laroche, 6.5 - 2.5","Sundstrom/Hoy d. Ekstrom/Romano, 5.0 - 4.0","Haskins/Conte d. Ciufetti/Nivala, 5.0 - 4.0","Haskins/Conte d. Romano/Frigoletto, 5.0 - 4.0","Ekstrom/Romano d. Butterfield/Schleyer, 5.0 - 4.0","Leavenworth/Leavenworth d. Sundstrom/Hoy, 7.0 - 2.0",null,"Hurley/Drake d. Gamache/Bouvier, 6.0 - 3.0","Normandin/Normandin d. Normandin/Normandin, 6.0 - 3.0","Fontaine/Romano III d. Lawrence/Benson, 7.5 - 1.5"]
[null,"4:24 PM",null,"Gamache/Bouvier & Sundstrom/Hoy, tie 4.5 - 4.5","Lawrence/Benson d. Fairbanks/Fairbanks, 7.0 - 2.0","Ciufetti/Nivala & Doane/Cassin, tie 4.5 - 4.5","Pavone/Beliveau d. Hurley/Drake, 5.0 - 0.0","Hurley/Drake d. Ekstrom/Dauphinais, 5.0 - 4.0","Lawrence/Benson d. Hurley/Drake, 6.5 - 2.5","Normandin/Normandin & Hurley/Drake, tie 4.5 - 4.5","Sundstrom/Hoy d. Normandin/Normandin, 5.5 - 3.5","Romano/Laroche & Fontaine/Romano III, tie 4.5 - 4.5","Lawrence/Benson d. Pavone/Beliveau, 5.5 - 3.5","Ekstrom/Romano d. Gamache/Bouvier, 5.5 - 3.5","Leavenworth/Leavenworth & Ciufetti/Nivala, tie 4.5 - 4.5","Romano/Frigoletto d. Normandin/Normandin, 8.0 - 1.0",null,"Romano/Laroche d. Lawrence/Benson, 6.5 - 2.5","Fontaine/Romano III d. Pavone/Beliveau, 6.5 - 2.5","Leavenworth/Leavenworth d. Doane/Cassin, 7.5 - 1.5"]
[null,"4:32 PM",null,"Hurley/Drake d. Butterfield/Schleyer, 5.0 - 4.0","Normandin/Wallace & Gamache/Bouvier, tie 4.5 - 4.5","Lawrence/Benson d. Haskins/Conte, 5.0 - 4.0","Fontaine/Romano III d. Gamache/Bouvier, 5.0 - 4.0","Ciufetti/Nivala d. Gamache/Bouvier, 5.0 - 4.0","Butterfield/Schleyer d. Haskins/Conte, 5.0 - 4.0","Butterfield/Schleyer d. Sundstrom/Hoy, 6.0 - 3.0","Fontaine/Romano III d. Normandin/Normandin, 5.5 - 3.5","Doane/Cassin d. Pavone/Beliveau, 5.5 - 3.5","Fairbanks/Fairbanks d. Gamache/Bouvier, 5.0 - 0.0","O'Loughlin/Romano d. Lawrence/Benson, 6.0 - 3.0","Romano/Frigoletto d. Gamache/Bouvier, 6.0 - 3.0","Ekstrom/Romano d. Fontaine/Romano III, 7.0 - 2.0",null,"Ekstrom/Romano d. Normandin/Wallace, 6.5 - 2.5","Haskins/Conte d. Doane/Cassin, 5.0 - 4.0","Ekstrom/Romano d. O'Loughlin/Romano, 7.5 - 1.5"]
[null,"4:40 PM",null,"Normandin/Wallace & Romano/Frigoletto, tie 4.5 - 4.5","Romano/Frigoletto & Pavone/Beliveau, tie 4.5 - 4.5","Romano/Laroche d. Normandin/Normandin, 5.0 - 4.0","Lawrence/Benson d. Romano/Frigoletto, 5.0 - 4.0","Romano/Frigoletto & Ekstrom/Romano, tie 4.5 - 4.5","Normandin/Wallace d. Normandin/Normandin, 7.5 - 1.5","Fontaine/Romano III d. Ciufetti/Nivala, 6.5 - 2.5","Normandin/Wallace d. Haskins/Conte, 6.0 - 3.0","Normandin/Normandin & Leavenworth/Leavenworth, tie 4.5 - 4.5","Leavenworth/Leavenworth d. Romano/Laroche, 5.0 - 4.0","Normandin/Wallace d. Normandin/Normandin, 5.0 - 4.0","Haskins/Conte d. O'Loughlin/Romano, 7.5 - 1.5","Lawrence/Benson d. Ciufetti/Nivala, 5.5 - 0.0",null,"O'Loughlin/Romano d. Leavenworth/Leavenworth, 5.5 - 3.5","Hurley/Drake d. Sundstrom/Hoy, 5.5 - 3.5","Normandin/Wallace d. Romano/Laroche, 6.0 - 3.0"]
[null,"4:48 PM",null,"Doane/Cassin d. O'Loughlin/Romano, 6.0 - 3.0","Butterfield/Schleyer d. Doane/Cassin, 6.5 - 2.5","Ekstrom/Romano d. Hurley/Drake, 5.5 - 3.5","Normandin/Wallace d. Doane/Cassin, 5.5 - 3.5","Butterfield/Schleyer d. Fairbanks/Fairbanks, 5.0 - 4.0","Gamache/Bouvier d. Normandin/Normandin, 6.0 - 3.0","Normandin/Wallace d. O'Loughlin/Romano, 6.0 - 3.0","Ekstrom/Romano d. Pavone/Beliveau, 5.5 - 3.5","Lawrence/Benson d. Gamache/Bouvier, 5.5 - 3.5","Normandin/Wallace d. Hurley/Drake, 5.0 - 4.0","Fontaine/Romano III d. Butterfield/Schleyer, 7.0 - 2.0","Normandin/Normandin d. Sundstrom/Hoy, 5.5 - 3.5","Normandin/Normandin d. Romano/Laroche, 5.5 - 3.5",null,"Butterfield/Schleyer d. Normandin/Normandin, 5.5 - 3.5","Leavenworth/Leavenworth d. Gamache/Bouvier, 5.0 - 4.0","Fairbanks/Fairbanks d. Hurley/Drake, 6.5 - 2.5"]
[null,"4:56 PM",null,"Ekstrom/Dauphinais d. Ekstrom/Romano, 5.5 - 3.5","Normandin/Normandin d. Ekstrom/Romano, 5.0 - 4.0","Ekstrom/Dauphinais d. Normandin/Normandin, 7.0 - 2.0","Romano/Laroche & Fairbanks/Fairbanks, tie 4.5 - 4.5","Haskins/Conte d. Pavone/Beliveau, 6.0 - 3.0","Romano/Frigoletto d. Romano/Laroche, 7.5 - 1.5","Romano/Frigoletto d. Ekstrom/Dauphinais, 4.5 - 0.0","Leavenworth/Leavenworth d. Butterfield/Schleyer, 5.5 - 3.5","Normandin/Wallace d. Ciufetti/Nivala, 5.0 - 4.0","Ekstrom/Dauphinais d. Butterfield/Schleyer, 5.0 - 4.0","Sundstrom/Hoy d. Pavone/Beliveau, 7.0 - 2.0","Hurley/Drake d. Fontaine/Romano III, 6.5 - 2.5","Pavone/Beliveau d. O'Loughlin/Romano, 6.5 - 2.5",null,"Doane/Cassin d. Romano/Frigoletto, 5.0 - 4.0","Butterfield/Schleyer d. Romano/Laroche, 6.5 - 2.5","Normandin/Normandin d. Romano/Frigoletto, 5.5 - 3.5"]
[null,"5:04 PM",null,"Pavone/Beliveau d. Normandin/Normandin, 5.5 - 3.5","Sundstrom/Hoy d. Romano/Laroche, 5.0 - 4.0","Leavenworth/Leavenworth d. Pavone/Beliveau, 7.5 - 1.5","Leavenworth/Leavenworth & Ekstrom/Dauphinais, tie 4.5 - 4.5","Normandin/Wallace d. Sundstrom/Hoy, 6.0 - 3.0","Leavenworth/Leavenworth d. Ekstrom/Romano, 5.5 - 3.5","Ekstrom/Romano d. Fairbanks/Fairbanks, 5.0 - 4.0","Lawrence/Benson d. Ekstrom/Dauphinais, 5.5 - 3.5","Fairbanks/Fairbanks & Ekstrom/Dauphinais, tie 4.5 - 4.5","Sundstrom/Hoy d. Doane/Cassin, 6.0 - 3.0","Doane/Cassin d. Ekstrom/Dauphinais, 5.0 - 4.0","Ekstrom/Dauphinais & Normandin/Wallace, tie 4.5 - 4.5","Doane/Cassin d. Hurley/Drake, 5.0 - 4.0",null,"Pavone/Beliveau d. Ciufetti/Nivala, 2.0 - 0.0","Fairbanks/Fairbanks d. Romano/Frigoletto, 5.5 - 3.5","Sundstrom/Hoy d. Ekstrom/Dauphinais, 5.5 - 3.5"]
[null,"5:12 PM",null,"Lawrence/Benson d. Leavenworth/Leavenworth, 6.0 - 3.0","Haskins/Conte d. Ekstrom/Dauphinais, 5.5 - 3.5","Gamache/Bouvier d. O'Loughlin/Romano, 6.5 - 2.5","Haskins/Conte d. Ekstrom/Romano, 5.5 - 3.5","Normandin/Normandin d. Leavenworth/Leavenworth, 5.0 - 4.0","Fairbanks/Fairbanks d. Ciufetti/Nivala, 5.0 - 4.0","Leavenworth/Leavenworth d. Haskins/Conte, 6.5 - 2.5","Ciufetti/Nivala d. Romano/Frigoletto, 5.0 - 4.0","Haskins/Conte d. Normandin/Normandin, 5.0 - 4.0","O'Loughlin/Romano & Normandin/Normandin, tie 4.5 - 4.5","Romano/Laroche & Ciufetti/Nivala, tie 4.5 - 4.5","Pavone/Beliveau d. Romano/Laroche, 7.0 - 2.0","Butterfield/Schleyer & Normandin/Wallace, tie 4.5 - 4.5",null,"Normandin/Normandin d. Fairbanks/Fairbanks, 5.5 - 3.5","Lawrence/Benson d. Normandin/Wallace, 8.5 - 0.5","Butterfield/Schleyer d. Ciufetti/Nivala, 5.0 - 0.0"]

{"sheet":"STANDINGS - 2016","index":13,"n_rows":69,"n_cols":10,"rows_kept":69,"cut":false,"hidden":false,"merged":[]}
[]
[null,null,null,null,null,null,"08/31/16"]
[]
[]
[]
[]
[null,null,null,null,null,"Standings - First Half - 2016"]
[]
[]
[]
[null,null,{"$f":"RANK(J11,$J$11:$J$45)","v":1},{"$f":"IF(C11=C10,C11&\"T\",IF(C11=C12,C11&\"T\",C11))","v":1},"Team 14",{"$f":"\"- \"&VLOOKUP(E11,'TEAM ROSTERS & SUB LIST'!B:F,3,FALSE)&\" / \"&VLOOKUP(E11,'TEAM ROSTERS & SUB LIST'!B:F,5,FALSE)","v":"- Paul Fontaine / Ralph Romano III"},null,null,null,{"$f":"VLOOKUP(E11,'POINTS - 2016'!$B$11:$D$44,2,FALSE)","v":53.5}]
[null,null,{"$f":"RANK(J12,$J$11:$J$45)","v":2},{"$f":"IF(C12=C11,C12&\"T\",IF(C12=C13,C12&\"T\",C12))","v":2},"Team 11",{"$f":"\"- \"&VLOOKUP(E12,'TEAM ROSTERS & SUB LIST'!B:F,3,FALSE)&\" / \"&VLOOKUP(E12,'TEAM ROSTERS & SUB LIST'!B:F,5,FALSE)","v":"- Jim Haskins / Anthony Conte"},null,null,null,{"$f":"VLOOKUP(E12,'POINTS - 2016'!$B$11:$D$44,2,FALSE)","v":50.5}]
[null,null,3,3,"Team 10",{"$f":"\"- \"&VLOOKUP(E13,'TEAM ROSTERS & SUB LIST'!B:F,3,FALSE)&\" / \"&VLOOKUP(E13,'TEAM ROSTERS & SUB LIST'!B:F,5,FALSE)","v":"- Ron Ekstrom / Beth Romano"},null,null,null,{"$f":"VLOOKUP(E13,'POINTS - 2016'!$B$11:$D$44,2,FALSE)","v":50}]
[null,null,4,4,"Team 19",{"$f":"\"- \"&VLOOKUP(E14,'TEAM ROSTERS & SUB LIST'!B:F,3,FALSE)&\" / \"&VLOOKUP(E14,'TEAM ROSTERS & SUB LIST'!B:F,5,FALSE)","v":"- John Pavone / Ernie Beliveau"},null,null,null,{"$f":"VLOOKUP(E14,'POINTS - 2016'!$B$11:$D$44,2,FALSE)","v":49}]
[null,null,5,5,"Team 03",{"$f":"\"- \"&VLOOKUP(E15,'TEAM ROSTERS & SUB LIST'!B:F,3,FALSE)&\" / \"&VLOOKUP(E15,'TEAM ROSTERS & SUB LIST'!B:F,5,FALSE)","v":"- Pete Romano / Don Frigoletto"},null,null,null,{"$f":"VLOOKUP(E15,'POINTS - 2016'!$B$11:$D$44,2,FALSE)","v":47.5}]
[null,null,6,"6T","Team 02",{"$f":"\"- \"&VLOOKUP(E16,'TEAM ROSTERS & SUB LIST'!B:F,3,FALSE)&\" / \"&VLOOKUP(E16,'TEAM ROSTERS & SUB LIST'!B:F,5,FALSE)","v":"- Jono Normandin / Nathan Wallace"},null,null,null,{"$f":"VLOOKUP(E16,'POINTS - 2016'!$B$11:$D$44,2,FALSE)","v":46}]
[null,null,6,"6T","Team 09",{"$f":"\"- \"&VLOOKUP(E17,'TEAM ROSTERS & SUB LIST'!B:F,3,FALSE)&\" / \"&VLOOKUP(E17,'TEAM ROSTERS & SUB LIST'!B:F,5,FALSE)","v":"- Mike Doane / John Cassin"},null,null,null,{"$f":"VLOOKUP(E17,'POINTS - 2016'!$B$11:$D$44,2,FALSE)","v":46}]
[null,null,6,"6T","Team 15",{"$f":"\"- \"&VLOOKUP(E18,'TEAM ROSTERS & SUB LIST'!B:F,3,FALSE)&\" / \"&VLOOKUP(E18,'TEAM ROSTERS & SUB LIST'!B:F,5,FALSE)","v":"- Gary Leavenworth / Patty Leavenworth"},null,null,null,{"$f":"VLOOKUP(E18,'POINTS - 2016'!$B$11:$D$44,2,FALSE)","v":46}]
[null,null,9,9,"Team 20",{"$f":"\"- \"&VLOOKUP(E19,'TEAM ROSTERS & SUB LIST'!B:F,3,FALSE)&\" / \"&VLOOKUP(E19,'TEAM ROSTERS & SUB LIST'!B:F,5,FALSE)","v":"- Sheila Sundstrom / Ray Hoy"},null,null,null,{"$f":"VLOOKUP(E19,'POINTS - 2016'!$B$11:$D$44,2,FALSE)","v":44.5}]
[null,null,10,"10T","Team 16",{"$f":"\"- \"&VLOOKUP(E20,'TEAM ROSTERS & SUB LIST'!B:F,3,FALSE)&\" / \"&VLOOKUP(E20,'TEAM ROSTERS & SUB LIST'!B:F,5,FALSE)","v":"- Kevin O'Loughlin / Mike Romano"},null,null,null,{"$f":"VLOOKUP(E20,'POINTS - 2016'!$B$11:$D$44,2,FALSE)","v":44}]
[null,null,10,"10T","Team 17",{"$f":"\"- \"&VLOOKUP(E21,'TEAM ROSTERS & SUB LIST'!B:F,3,FALSE)&\" / \"&VLOOKUP(E21,'TEAM ROSTERS & SUB LIST'!B:F,5,FALSE)","v":"- Carol Ekstrom / Mike Dauphinais"},null,null,null,{"$f":"VLOOKUP(E21,'POINTS - 2016'!$B$11:$D$44,2,FALSE)","v":44}]
[null,null,12,12,"Team 06",{"$f":"\"- \"&VLOOKUP(E22,'TEAM ROSTERS & SUB LIST'!B:F,3,FALSE)&\" / \"&VLOOKUP(E22,'TEAM ROSTERS & SUB LIST'!B:F,5,FALSE)","v":"- Vance Butterfield / Bob Schleyer"},null,null,null,{"$f":"VLOOKUP(E22,'POINTS - 2016'!$B$11:$D$44,2,FALSE)","v":43}]
[null,null,13,13,"Team 13",{"$f":"\"- \"&VLOOKUP(E23,'TEAM ROSTERS & SUB LIST'!B:F,3,FALSE)&\" / \"&VLOOKUP(E23,'TEAM ROSTERS & SUB LIST'!B:F,5,FALSE)","v":"- Tim Hurley / Walter Drake"},null,null,null,{"$f":"VLOOKUP(E23,'POINTS - 2016'!$B$11:$D$44,2,FALSE)","v":42}]
[null,null,14,14,"Team 05",{"$f":"\"- \"&VLOOKUP(E24,'TEAM ROSTERS & SUB LIST'!B:F,3,FALSE)&\" / \"&VLOOKUP(E24,'TEAM ROSTERS & SUB LIST'!B:F,5,FALSE)","v":"- Dennis Normandin / Mark Normandin"},null,null,null,{"$f":"VLOOKUP(E24,'POINTS - 2016'!$B$11:$D$44,2,FALSE)","v":41}]
[null,null,15,15,"Team 18",{"$f":"\"- \"&VLOOKUP(E25,'TEAM ROSTERS & SUB LIST'!B:F,3,FALSE)&\" / \"&VLOOKUP(E25,'TEAM ROSTERS & SUB LIST'!B:F,5,FALSE)","v":"- Norm Gamache / Michelle Bouvier"},null,null,null,{"$f":"VLOOKUP(E25,'POINTS - 2016'!$B$11:$D$44,2,FALSE)","v":40}]
[null,null,16,"16T","Team 04",{"$f":"\"- \"&VLOOKUP(E26,'TEAM ROSTERS & SUB LIST'!B:F,3,FALSE)&\" / \"&VLOOKUP(E26,'TEAM ROSTERS & SUB LIST'!B:F,5,FALSE)","v":"- Peg Romano / Lynn Laroche"},null,null,null,{"$f":"VLOOKUP(E26,'POINTS - 2016'!$B$11:$D$44,2,FALSE)","v":39.5}]
[null,null,16,"16T","Team 08",{"$f":"\"- \"&VLOOKUP(E27,'TEAM ROSTERS & SUB LIST'!B:F,3,FALSE)&\" / \"&VLOOKUP(E27,'TEAM ROSTERS & SUB LIST'!B:F,5,FALSE)","v":"- Steve Lawrence / Mike Benson"},null,null,null,{"$f":"VLOOKUP(E27,'POINTS - 2016'!$B$11:$D$44,2,FALSE)","v":39.5}]
[null,null,16,"16T","Team 12",{"$f":"\"- \"&VLOOKUP(E28,'TEAM ROSTERS & SUB LIST'!B:F,3,FALSE)&\" / \"&VLOOKUP(E28,'TEAM ROSTERS & SUB LIST'!B:F,5,FALSE)","v":"- Sal Ciufetti / Kevin Nivala"},null,null,null,{"$f":"VLOOKUP(E28,'POINTS - 2016'!$B$11:$D$44,2,FALSE)","v":39.5}]
[null,null,19,19,"Team 07",{"$f":"\"- \"&VLOOKUP(E29,'TEAM ROSTERS & SUB LIST'!B:F,3,FALSE)&\" / \"&VLOOKUP(E29,'TEAM ROSTERS & SUB LIST'!B:F,5,FALSE)","v":"- John Fairbanks / Debbie Fairbanks"},null,null,null,{"$f":"VLOOKUP(E29,'POINTS - 2016'!$B$11:$D$44,2,FALSE)","v":39}]
[null,null,20,20,"Team 01",{"$f":"\"- \"&VLOOKUP(E30,'TEAM ROSTERS & SUB LIST'!B:F,3,FALSE)&\" / \"&VLOOKUP(E30,'TEAM ROSTERS & SUB LIST'!B:F,5,FALSE)","v":"- John Normandin / Pete Normandin"},null,null,null,{"$f":"VLOOKUP(E30,'POINTS - 2016'!$B$11:$D$44,2,FALSE)","v":36.5}]
[]
[]
[]
[]
[]
[]
[]
[]
[]
[]
[]
[]
[]
[]
[]
[]
[null,null,null,null,null,"Standings - Second Half - 2016"]
[]
[]
[null,null,{"$f":"RANK(J50,$J$50:$J$84)","v":1},{"$f":"IF(C50=C49,C50&\"T\",IF(C50=C51,C50&\"T\",C50))","v":1},"Team 10",{"$f":"\"- \"&VLOOKUP(E50,'TEAM ROSTERS & SUB LIST'!B:F,3,FALSE)&\" / \"&VLOOKUP(E50,'TEAM ROSTERS & SUB LIST'!B:F,5,FALSE)","v":"- Ron Ekstrom / Beth Romano"},null,null,null,{"$f":"VLOOKUP(E50,'POINTS - 2016'!$B$11:$D$44,3,FALSE)","v":48}]
[null,null,{"$f":"RANK(J51,$J$50:$J$84)","v":2},{"$f":"IF(C51=C50,C51&\"T\",IF(C51=C52,C51&\"T\",C51))","v":2},"Team 14",{"$f":"\"- \"&VLOOKUP(E51,'TEAM ROSTERS & SUB LIST'!B:F,3,FALSE)&\" / \"&VLOOKUP(E51,'TEAM ROSTERS & SUB LIST'!B:F,5,FALSE)","v":"- Paul Fontaine / Ralph Romano III"},null,null,null,{"$f":"VLOOKUP(E51,'POINTS - 2016'!$B$11:$D$44,3,FALSE)","v":47.5}]
[null,null,3,3,"Team 17",{"$f":"\"- \"&VLOOKUP(E52,'TEAM ROSTERS & SUB LIST'!B:F,3,FALSE)&\" / \"&VLOOKUP(E52,'TEAM ROSTERS & SUB LIST'!B:F,5,FALSE)","v":"- Carol Ekstrom / Mike Dauphinais"},null,null,null,{"$f":"VLOOKUP(E52,'POINTS - 2016'!$B$11:$D$44,3,FALSE)","v":47}]
[null,null,4,4,"Team 15",{"$f":"\"- \"&VLOOKUP(E53,'TEAM ROSTERS & SUB LIST'!B:F,3,FALSE)&\" / \"&VLOOKUP(E53,'TEAM ROSTERS & SUB LIST'!B:F,5,FALSE)","v":"- Gary Leavenworth / Patty Leavenworth"},null,null,null,{"$f":"VLOOKUP(E53,'POINTS - 2016'!$B$11:$D$44,3,FALSE)","v":46.5}]
[null,null,5,5,"Team 07",{"$f":"\"- \"&VLOOKUP(E54,'TEAM ROSTERS & SUB LIST'!B:F,3,FALSE)&\" / \"&VLOOKUP(E54,'TEAM ROSTERS & SUB LIST'!B:F,5,FALSE)","v":"- John Fairbanks / Debbie Fairbanks"},null,null,null,{"$f":"VLOOKUP(E54,'POINTS - 2016'!$B$11:$D$44,3,FALSE)","v":43}]
[null,null,6,6,"Team 11",{"$f":"\"- \"&VLOOKUP(E55,'TEAM ROSTERS & SUB LIST'!B:F,3,FALSE)&\" / \"&VLOOKUP(E55,'TEAM ROSTERS & SUB LIST'!B:F,5,FALSE)","v":"- Jim Haskins / Anthony Conte"},null,null,null,{"$f":"VLOOKUP(E55,'POINTS - 2016'!$B$11:$D$44,3,FALSE)","v":42.5}]
[null,null,7,7,"Team 05",{"$f":"\"- \"&VLOOKUP(E56,'TEAM ROSTERS & SUB LIST'!B:F,3,FALSE)&\" / \"&VLOOKUP(E56,'TEAM ROSTERS & SUB LIST'!B:F,5,FALSE)","v":"- Dennis Normandin / Mark Normandin"},null,null,null,{"$f":"VLOOKUP(E56,'POINTS - 2016'!$B$11:$D$44,3,FALSE)","v":42}]
[null,null,8,8,"Team 12",{"$f":"\"- \"&VLOOKUP(E57,'TEAM ROSTERS & SUB LIST'!B:F,3,FALSE)&\" / \"&VLOOKUP(E57,'TEAM ROSTERS & SUB LIST'!B:F,5,FALSE)","v":"- Sal Ciufetti / Kevin Nivala"},null,null,null,{"$f":"VLOOKUP(E57,'POINTS - 2016'!$B$11:$D$44,3,FALSE)","v":40.5}]
[null,null,9,"9T","Team 16",{"$f":"\"- \"&VLOOKUP(E58,'TEAM ROSTERS & SUB LIST'!B:F,3,FALSE)&\" / \"&VLOOKUP(E58,'TEAM ROSTERS & SUB LIST'!B:F,5,FALSE)","v":"- Kevin O'Loughlin / Mike Romano"},null,null,null,{"$f":"VLOOKUP(E58,'POINTS - 2016'!$B$11:$D$44,3,FALSE)","v":40}]
[null,null,9,"9T","Team 18",{"$f":"\"- \"&VLOOKUP(E59,'TEAM ROSTERS & SUB LIST'!B:F,3,FALSE)&\" / \"&VLOOKUP(E59,'TEAM ROSTERS & SUB LIST'!B:F,5,FALSE)","v":"- Norm Gamache / Michelle Bouvier"},null,null,null,{"$f":"VLOOKUP(E59,'POINTS - 2016'!$B$11:$D$44,3,FALSE)","v":40}]
[null,null,11,11,"Team 20",{"$f":"\"- \"&VLOOKUP(E60,'TEAM ROSTERS & SUB LIST'!B:F,3,FALSE)&\" / \"&VLOOKUP(E60,'TEAM ROSTERS & SUB LIST'!B:F,5,FALSE)","v":"- Sheila Sundstrom / Ray Hoy"},null,null,null,{"$f":"VLOOKUP(E60,'POINTS - 2016'!$B$11:$D$44,3,FALSE)","v":39.5}]
[null,null,12,"12T","Team 03",{"$f":"\"- \"&VLOOKUP(E61,'TEAM ROSTERS & SUB LIST'!B:F,3,FALSE)&\" / \"&VLOOKUP(E61,'TEAM ROSTERS & SUB LIST'!B:F,5,FALSE)","v":"- Pete Romano / Don Frigoletto"},null,null,null,{"$f":"VLOOKUP(E61,'POINTS - 2016'!$B$11:$D$44,3,FALSE)","v":38.5}]
[null,null,12,"12T","Team 04",{"$f":"\"- \"&VLOOKUP(E62,'TEAM ROSTERS & SUB LIST'!B:F,3,FALSE)&\" / \"&VLOOKUP(E62,'TEAM ROSTERS & SUB LIST'!B:F,5,FALSE)","v":"- Peg Romano / Lynn Laroche"},null,null,null,{"$f":"VLOOKUP(E62,'POINTS - 2016'!$B$11:$D$44,3,FALSE)","v":38.5}]
[null,null,14,14,"Team 08",{"$f":"\"- \"&VLOOKUP(E63,'TEAM ROSTERS & SUB LIST'!B:F,3,FALSE)&\" / \"&VLOOKUP(E63,'TEAM ROSTERS & SUB LIST'!B:F,5,FALSE)","v":"- Steve Lawrence / Mike Benson"},null,null,null,{"$f":"VLOOKUP(E63,'POINTS - 2016'!$B$11:$D$44,3,FALSE)","v":37.5}]
[null,null,15,15,"Team 09",{"$f":"\"- \"&VLOOKUP(E64,'TEAM ROSTERS & SUB LIST'!B:F,3,FALSE)&\" / \"&VLOOKUP(E64,'TEAM ROSTERS & SUB LIST'!B:F,5,FALSE)","v":"- Mike Doane / John Cassin"},null,null,null,{"$f":"VLOOKUP(E64,'POINTS - 2016'!$B$11:$D$44,3,FALSE)","v":37}]
[null,null,16,16,"Team 01",{"$f":"\"- \"&VLOOKUP(E65,'TEAM ROSTERS & SUB LIST'!B:F,3,FALSE)&\" / \"&VLOOKUP(E65,'TEAM ROSTERS & SUB LIST'!B:F,5,FALSE)","v":"- John Normandin / Pete Normandin"},null,null,null,{"$f":"VLOOKUP(E65,'POINTS - 2016'!$B$11:$D$44,3,FALSE)","v":36.5}]
[null,null,17,17,"Team 06",{"$f":"\"- \"&VLOOKUP(E66,'TEAM ROSTERS & SUB LIST'!B:F,3,FALSE)&\" / \"&VLOOKUP(E66,'TEAM ROSTERS & SUB LIST'!B:F,5,FALSE)","v":"- Vance Butterfield / Bob Schleyer"},null,null,null,{"$f":"VLOOKUP(E66,'POINTS - 2016'!$B$11:$D$44,3,FALSE)","v":36}]
[null,null,18,18,"Team 13",{"$f":"\"- \"&VLOOKUP(E67,'TEAM ROSTERS & SUB LIST'!B:F,3,FALSE)&\" / \"&VLOOKUP(E67,'TEAM ROSTERS & SUB LIST'!B:F,5,FALSE)","v":"- Tim Hurley / Walter Drake"},null,null,null,{"$f":"VLOOKUP(E67,'POINTS - 2016'!$B$11:$D$44,3,FALSE)","v":34.5}]
[null,null,19,19,"Team 19",{"$f":"\"- \"&VLOOKUP(E68,'TEAM ROSTERS & SUB LIST'!B:F,3,FALSE)&\" / \"&VLOOKUP(E68,'TEAM ROSTERS & SUB LIST'!B:F,5,FALSE)","v":"- John Pavone / Ernie Beliveau"},null,null,null,{"$f":"VLOOKUP(E68,'POINTS - 2016'!$B$11:$D$44,3,FALSE)","v":30}]
[null,null,20,20,"Team 02",{"$f":"\"- \"&VLOOKUP(E69,'TEAM ROSTERS & SUB LIST'!B:F,3,FALSE)&\" / \"&VLOOKUP(E69,'TEAM ROSTERS & SUB LIST'!B:F,5,FALSE)","v":"- Jono Normandin / Nathan Wallace"},null,null,null,{"$f":"VLOOKUP(E69,'POINTS - 2016'!$B$11:$D$44,3,FALSE)","v":28.5}]

{"sheet":"POINTS - 2016","index":14,"n_rows":30,"n_cols":23,"rows_kept":30,"cut":false,"hidden":false,"merged":[]}
[{"$f":"'SCORE ENTRY WORKSHEET'!N13","v":"08/23/17"}]
[{"$f":"'SCORE ENTRY WORKSHEET'!C21","v":"Team 19"}]
[{"$f":"'SCORE ENTRY WORKSHEET'!M21","v":0},null,null,null,null,null,"POINTS - 2016"]
[{"$f":"'SCORE ENTRY WORKSHEET'!C22","v":"Team 18"}]
[{"$f":"'SCORE ENTRY WORKSHEET'!M22","v":0}]
[]
[]
[]
[]
[null,"Team No.","Total Points - H1","Total Points - H2","04/27/16","05/04/16","05/11/16","05/18/16","05/25/16","06/01/16","06/08/16","06/15/16","06/22/16","06/29/16","07/06/16","07/13/16","07/20/16","07/27/16","08/03/16","08/10/16","08/17/16","08/24/16","08/31/16"]
[null,"Team 01",{"$f":"SUM(E11:N11)","v":36.5},{"$f":"SUM(O11:W11)","v":36.5},3,4.5,3,3.5,3.5,3.5,3,1.5,5.5,5.5,4.5,5,4.5,3,4,4.5,3,4,4]
[null,"Team 02",{"$f":"SUM(E12:N12)","v":46},{"$f":"SUM(O12:W12)","v":28.5},4.5,4.5,6.5,5.5,6,2.5,3,5.5,4.5,3.5,5.5,2.5,0,0,5,2.5,4.5,3.5,5]
[null,"Team 03",47.5,38.5,3.5,4,6,7,5.5,3,6,2,4.5,6,2,6.5,5,4.5,3.5,6,6,1.5,3.5]
[null,"Team 04",39.5,38.5,3.5,2.5,2.5,5.5,1,5,3.5,5.5,5,5.5,3.5,4,4,4,4,4,6.5,5,3.5]
[null,"Team 05",41,42,5,0,3.5,2,5.5,7.5,5,4.5,4.5,3.5,4,4,5,5,6,3,4,5.5,5.5]
[null,"Team 06",43,36,3.5,5.5,3,3.5,8,5.5,4.5,0,4.5,5,3.5,6,3.5,4.5,3,3,3.5,4,5]
[null,"Team 07",39,43,3.5,4.5,4.5,4.5,3.5,0,6,4,4,4.5,3.5,5.5,6.5,4,5,6,4.5,2,6]
[null,"Team 08",39.5,37.5,5,3,1.5,4,3,4,4.5,7.5,4.5,2.5,3,3.5,3,4,5.5,6,4.5,2.5,5.5]
[null,"Team 09",46,37,5,5.5,5,3.5,4.5,6,4,5,3.5,4,4,0,3,5,4,5,5.5,6.5,4]
[null,"Team 10",50,48,5,3.5,5.5,3.5,7,6.5,5.5,5.5,4.5,3.5,6,5.5,5,6.5,5,3,5,7,5]
[null,"Team 11",50.5,42.5,6,5,5.5,4.5,4.5,4.5,5,5,4,6.5,3.5,5,5.5,5,4,5.5,5,4,5]
[null,"Team 12",39.5,40.5,4.5,6.5,6,5,2,4,2,3.5,3.5,2.5,7,5,2.5,4,3.5,3.5,6,4,5]
[null,"Team 13",42,34.5,5.5,5,4.5,5.5,2.5,3.5,4.5,0,5.5,5.5,5.5,3,6,2.5,5.5,0,3,5,4]
[null,"Team 14",53.5,47.5,5.5,3.5,7.5,5.5,4.5,6.5,5.5,7,5,3,5,3.5,6,7,5,6,6,5,4]
[null,"Team 15",46,46.5,4,4.5,4,5.5,6.5,4.5,3.5,5.5,4.5,3.5,5.5,5.5,4,6.5,4,4.5,6,5,5.5]
[null,"Team 16",44,40,5.5,6,3.5,6,0,4.5,4.5,4,4.5,5.5,5.5,7,3.5,5,5,0,3,5.5,5.5]
[null,"Team 17",44,47,5.5,3.5,4,5,5,2.5,7,3.5,4,4,6,3.5,5,6,5,6.5,4,7.5,3.5]
[null,"Team 18",40,40,4,5.5,2.5,0,2.5,5.5,4,7,4.5,4.5,5,4.5,4.5,4,4,5.5,4.5,4,4]
[null,"Team 19",49,30,4,5.5,6.5,3,4.5,5,6,3.5,4.5,6.5,3,4,4,2.5,3.5,3.5,3,3.5,3]
[null,"Team 20",44.5,39.5,4,3.5,5,3.5,6.5,4.5,3,4.5,5,5,4.5,4.5,5.5,2,5.5,6.5,2.5,5,3.5]

{"sheet":"MATCH RESULTS - 2016","index":15,"n_rows":20,"n_cols":21,"rows_kept":20,"cut":false,"hidden":false,"merged":[]}
[{"$f":"'SCORE ENTRY WORKSHEET'!N13","v":"08/23/17"}]
[{"$f":"'SCORE ENTRY WORKSHEET'!N15","v":"5:12 PM"}]
[{"$f":"RIGHT(VLOOKUP('SCORE ENTRY WORKSHEET'!$C$21,'TEAM ROSTERS & SUB LIST'!$B$8:$F$41,3,FALSE),LEN(VLOOKUP('SCORE ENTRY WORKSHEET'!$C$21,'TEAM ROSTERS & SUB LIST'!$B$8:$F$41,3,FALSE))-FIND(\" \",VLOOKUP('SCORE ENTRY WORKSHEET'!$C$21,'TEAM ROSTERS & SUB LIST'!$B$8:$F$41,3,FALSE)))&\"/\"&RIGHT(VLOOKUP('SCORE ENTRY WORKSHEET'!$C$21,'TEAM ROSTERS & SUB LIST'!$B$8:$F$41,5,FALSE),LEN(VLOOKUP('SCORE ENTRY WORKSHEET'!$C$21,'TEAM ROSTERS & SUB LIST'!$B$8:$F$41,5,FALSE))-FIND(\" \",VLOOKUP('SCORE ENTRY WORKSHEET'!$C$21,'TEAM ROSTERS & SUB LIST'!$B$8:$F$41,5,FALSE)))","v":"Pavone/Beliveau"},null,null,"MATCH RESULTS - 2016"]
[{"$f":"'SCORE ENTRY WORKSHEET'!M21","v":0}]
[{"$f":"RIGHT(VLOOKUP('SCORE ENTRY WORKSHEET'!$C$22,'TEAM ROSTERS & SUB LIST'!$B$8:$F$41,3,FALSE),LEN(VLOOKUP('SCORE ENTRY WORKSHEET'!$C$22,'TEAM ROSTERS & SUB LIST'!$B$8:$F$41,3,FALSE))-FIND(\" \",VLOOKUP('SCORE ENTRY WORKSHEET'!$C$22,'TEAM ROSTERS & SUB LIST'!$B$8:$F$41,3,FALSE)))&\"/\"&RIGHT(VLOOKUP('SCORE ENTRY WORKSHEET'!$C$22,'TEAM ROSTERS & SUB LIST'!$B$8:$F$41,5,FALSE),LEN(VLOOKUP('SCORE ENTRY WORKSHEET'!$C$22,'TEAM ROSTERS & SUB LIST'!$B$8:$F$41,5,FALSE))-FIND(\" \",VLOOKUP('SCORE ENTRY WORKSHEET'!$C$22,'TEAM ROSTERS & SUB LIST'!$B$8:$F$41,5,FALSE)))","v":"Gamache/Bouvier"}]
[{"$f":"'SCORE ENTRY WORKSHEET'!M22","v":0}]
[{"$f":"IF($A$4=$A$6,$A$3&\" & \"&$A$5&\", tie \"&TEXT($A$4,\"0.0\")&\" - \"&TEXT($A$6,\"0.0\"),IF($A$4>$A$6,$A$3&\" d. \"&$A$5&\", \"&TEXT($A$4,\"0.0\")&\" - \"&TEXT($A$6,\"0.0\"),IF($A$6>$A$4,$A$5&\" d. \"&$A$3&\", \"&TEXT($A$6,\"0.0\")&\" - \"&TEXT($A$4,\"0.0\"))))","v":"Pavone/Beliveau & Gamache/Bouvier, tie 0.0 - 0.0"}]
[]
[]
[null,"Date","04/27/16","05/04/16","05/11/16","05/18/16","05/25/16","06/01/16","06/08/16","06/15/16","06/22/16","06/29/16","07/06/16","07/13/16","07/20/16","07/27/16","08/03/16","08/10/16","08/17/16","08/24/16","08/31/16"]
[null,"4:00 PM","Haskins/Conte d. Lockhart/Normandin, 6.0 - 3.0","Butterfield/Schleyer d. Fontaine/Romano III, 5.5 - 3.5","Cuifetti/Nivala d. Butterfield/Schleyer, 6.0 - 3.0","Fairbanks/Fairbanks & Haskins/Conte, tie 4.5 - 4.5","Pavone/Beliveau & Fontaine/Romano III, tie 4.5 - 4.5","Romano/Laroche d. Lawrence/Benson, 5.0 - 4.0","Pavone/Beliveau d. Flood/Duffy, 6.0 - 3.0","Doane/Cassin d. Fairbanks/Fairbanks, 5.0 - 4.0","Fontaine/Romano III d. Haskins/Conte, 5.0 - 4.0","Jordan/Hoy d. Doane/Cassin, 5.0 - 4.0","Lockhart/Normandin & Jordan/Hoy, tie 4.5 - 4.5","Haskins/Conte d. Romano/Laroche, 5.0 - 4.0","Fairbanks/Fairbanks d. Cuifetti/Nivala, 6.5 - 2.5","Eckstrom/Dauphinais d. Lockhart/Normandin, 6.0 - 3.0","Fairbanks/Fairbanks d. Romano/Laroche, 5.0 - 4.0","Fairbanks/Fairbanks d. Butterfield/Schleyer, 6.0 - 3.0","Flood/Duffy & Gamache/Bouvier, tie 4.5 - 4.5","Normandin/Normandin d. Pavone/Beliveau, 5.5 - 3.5","Cuifetti/Nivala d. Lockhart/Normandin, 5.0 - 4.0"]
[null,"4:08 PM","Fontaine/Romano III d. Romano/Laroche, 5.5 - 3.5","Pavone/Beliveau d. Jordan/Hoy, 5.5 - 3.5","Fontaine/Romano III d. Lawrence/Benson, 7.5 - 1.5","Romano/Laroche d. Lockhart/Normandin, 5.5 - 3.5","Butterfield/Schleyer d. Romano/Laroche, 8.0 - 1.0","Butterfield/Schleyer d. Lockhart/Normandin, 5.5 - 3.5","Eckstrom/Dauphinais d. Cuifetti/Nivala, 7.0 - 2.0","Romano/Laroche d. Pavone/Beliveau, 5.5 - 3.5","Louney/Romano & Romano/Frigoletto, tie 4.5 - 4.5","Lockhart/Normandin d. Eckstrom/Romano, 5.5 - 3.5","Fontaine/Romano III d. Normandin/Normandin, 5.0 - 4.0","Louney/Romano d. Doane/Cassin, 7.0 - 0.0","Lockhart/Normandin & Gamache/Bouvier, tie 4.5 - 4.5","Fairbanks/Fairbanks d. Flood/Duffy, 4.0 - 0.0","Normandin/Normandin d. Butterfield/Schleyer, 6.0 - 3.0","Lockhart/Normandin & Leavenworth/Leavenworth, tie 4.5 - 4.5","Fontaine/Romano III d. Lockhart/Normandin, 6.0 - 3.0","Jordan/Hoy d. Butterfield/Schleyer, 5.0 - 4.0","Louney/Romano d. Romano/Laroche, 5.5 - 3.5"]
[null,"4:16 PM","Flood/Duffy & Cuifetti/Nivala, tie 4.5 - 4.5","Lockhart/Normandin & Flood/Duffy, tie 4.5 - 4.5","Romano/Frigoletto d. Lockhart/Normandin, 6.0 - 3.0","Eckstrom/Dauphinais d. Gamache/Bouvier, 5.0 - 0.0","Eckstrom/Dauphinais d. Louney/Romano, 5.0 - 0.0","Fontaine/Romano III d. Eckstrom/Dauphinais, 6.5 - 2.5","Fairbanks/Fairbanks d. Lockhart/Normandin, 6.0 - 3.0","Fontaine/Romano III d. Hurley/Drake, 7.0 - 0.0","Lockhart/Normandin d. Doane/Cassin, 5.5 - 3.5","Gamache/Bouvier & Fairbanks/Fairbanks, tie 4.5 - 4.5","Leavenworth/Leavenworth d. Butterfield/Schleyer, 5.5 - 3.5","Lockhart/Normandin d. Pavone/Beliveau, 5.0 - 4.0","Fontaine/Romano III d. Doane/Cassin, 6.0 - 3.0","Louney/Romano d. Gamache/Bouvier, 5.0 - 4.0","Louney/Romano d. Lockhart/Normandin, 5.0 - 4.0","Gamache/Bouvier d. Cuifetti/Nivala, 5.5 - 3.5","Haskins/Conte d. Eckstrom/Dauphinais, 5.0 - 4.0","Fontaine/Romano III d. Cuifetti/Nivala, 5.0 - 4.0","Flood/Duffy d. Fontaine/Romano III, 5.0 - 4.0"]
[null,"4:24 PM","Eckstrom/Romano d. Jordan/Hoy, 5.0 - 4.0","Doane/Cassin d. Eckstrom/Dauphinais, 5.5 - 3.5","Eckstrom/Romano d. Louney/Romano, 5.5 - 3.5","Flood/Duffy d. Butterfield/Schleyer, 5.5 - 3.5","Normandin/Normandin d. Lockhart/Normandin, 5.5 - 3.5","Eckstrom/Romano d. Flood/Duffy, 6.5 - 2.5","Normandin/Normandin d. Doane/Cassin, 5.0 - 4.0","Gamache/Bouvier d. Romano/Frigoletto, 7.0 - 2.0","Jordan/Hoy d. Fairbanks/Fairbanks, 5.0 - 4.0","Romano/Frigoletto d. Fontaine/Romano III, 6.0 - 3.0","Louney/Romano d. Fairbanks/Fairbanks, 5.5 - 3.5","Fairbanks/Fairbanks d. Fontaine/Romano III, 5.5 - 3.5","Haskins/Conte d. Butterfield/Schleyer, 5.5 - 3.5","Normandin/Normandin d. Romano/Laroche, 5.0 - 4.0","Eckstrom/Romano d. Haskins/Conte, 5.0 - 4.0","Fontaine/Romano III d. Louney/Romano, 6.0 - 0.0","Romano/Laroche d. Jordan/Hoy, 6.5 - 2.5","Hurley/Drake d. Lockhart/Normandin, 5.0 - 4.0","Lawrence/Benson d. Jordan/Hoy, 5.5 - 3.5"]
[null,"4:32 PM","Lawrence/Benson d. Gamache/Bouvier, 5.0 - 4.0","Hurley/Drake d. Normandin/Normandin, 5.0 - 0.0","Doane/Cassin d. Leavenworth/Leavenworth, 5.0 - 4.0","Fontaine/Romano III d. Eckstrom/Romano, 5.5 - 3.5","Eckstrom/Romano d. Cuifetti/Nivala, 7.0 - 2.0","Jordan/Hoy & Haskins/Conte, tie 4.5 - 4.5","Lawrence/Benson & Butterfield/Schleyer, tie 4.5 - 4.5","Haskins/Conte d. Louney/Romano, 5.0 - 4.0","Gamache/Bouvier & Normandin/Normandin, tie 4.5 - 4.5","Romano/Laroche d. Leavenworth/Leavenworth, 5.5 - 3.5","Hurley/Drake d. Romano/Laroche, 5.5 - 3.5","Gamache/Bouvier & Jordan/Hoy, tie 4.5 - 4.5","Hurley/Drake d. Lawrence/Benson, 6.0 - 3.0","Eckstrom/Romano d. Hurley/Drake, 6.5 - 2.5","Hurley/Drake d. Pavone/Beliveau, 5.5 - 3.5","Doane/Cassin d. Romano/Laroche, 5.0 - 4.0","Leavenworth/Leavenworth d. Hurley/Drake, 6.0 - 3.0","Leavenworth/Leavenworth d. Haskins/Conte, 5.0 - 4.0","Eckstrom/Romano d. Doane/Cassin, 5.0 - 4.0"]
[null,"4:40 PM","Normandin/Normandin d. Leavenworth/Leavenworth, 5.0 - 4.0","Fairbanks/Fairbanks & Leavenworth/Leavenworth, tie 4.5 - 4.5","Flood/Duffy d. Romano/Laroche, 6.5 - 2.5","Cuifetti/Nivala d. Lawrence/Benson, 5.0 - 4.0","Doane/Cassin & Haskins/Conte, tie 4.5 - 4.5","Doane/Cassin d. Romano/Frigoletto, 6.0 - 3.0","Fontaine/Romano III d. Leavenworth/Leavenworth, 5.5 - 3.5","Jordan/Hoy & Normandin/Normandin, tie 4.5 - 4.5","Romano/Laroche d. Eckstrom/Dauphinais, 5.0 - 4.0","Butterfield/Schleyer d. Eckstrom/Dauphinais, 5.0 - 4.0","Gamache/Bouvier d. Doane/Cassin, 5.0 - 4.0","Eckstrom/Romano d. Eckstrom/Dauphinais, 5.5 - 3.5","Jordan/Hoy d. Louney/Romano, 5.5 - 3.5","Doane/Cassin d. Cuifetti/Nivala, 5.0 - 4.0","Fontaine/Romano III d. Gamache/Bouvier, 5.0 - 4.0","Eckstrom/Dauphinais d. Hurley/Drake, 6.5 - 0.0","Eckstrom/Romano d. Normandin/Normandin, 5.0 - 4.0","Eckstrom/Dauphinais d. Romano/Frigoletto, 7.5 - 1.5","Fairbanks/Fairbanks d. Pavone/Beliveau, 6.0 - 3.0"]
[null,"4:48 PM","Hurley/Drake d. Romano/Frigoletto, 5.5 - 3.5","Cuifetti/Nivala d. Romano/Laroche, 6.5 - 2.5","Pavone/Beliveau d. Gamache/Bouvier, 6.5 - 2.5","Leavenworth/Leavenworth d. Jordan/Hoy, 5.5 - 3.5","Leavenworth/Leavenworth d. Gamache/Bouvier, 6.5 - 2.5","Louney/Romano & Leavenworth/Leavenworth, tie 4.5 - 4.5","Louney/Romano & Hurley/Drake, tie 4.5 - 4.5","Flood/Duffy d. Eckstrom/Dauphinais, 5.5 - 3.5","Leavenworth/Leavenworth & Flood/Duffy, tie 4.5 - 4.5","Hurley/Drake d. Flood/Duffy, 5.5 - 3.5","Flood/Duffy d. Haskins/Conte, 5.5 - 3.5","Leavenworth/Leavenworth d. Lawrence/Benson, 5.5 - 3.5","Normandin/Normandin d. Flood/Duffy, 5.0 - 0.0","Fontaine/Romano III d. Jordan/Hoy, 7.0 - 2.0","Eckstrom/Dauphinais d. Leavenworth/Leavenworth, 5.0 - 4.0","Romano/Frigoletto d. Eckstrom/Romano, 6.0 - 3.0","Doane/Cassin d. Butterfield/Schleyer, 5.5 - 3.5","Doane/Cassin d. Lawrence/Benson, 6.5 - 2.5","Leavenworth/Leavenworth d. Romano/Frigoletto, 5.5 - 3.5"]
[null,"4:56 PM","Eckstrom/Dauphinais d. Fairbanks/Fairbanks, 5.5 - 3.5","Louney/Romano d. Lawrence/Benson, 6.0 - 3.0","Fairbanks/Fairbanks & Hurley/Drake, tie 4.5 - 4.5","Hurley/Drake d. Doane/Cassin, 5.5 - 3.5","Romano/Frigoletto d. Fairbanks/Fairbanks, 5.5 - 3.5","Pavone/Beliveau d. Cuifetti/Nivala, 5.0 - 4.0","Haskins/Conte d. Gamache/Bouvier, 5.0 - 4.0","Eckstrom/Romano d. Butterfield/Schleyer, 5.5 - 0.0","Hurley/Drake d. Cuifetti/Nivala, 5.5 - 3.5","Louney/Romano d. Normandin/Normandin, 5.5 - 3.5","Eckstrom/Dauphinais d. Lawrence/Benson, 6.0 - 3.0","Butterfield/Schleyer d. Hurley/Drake, 6.0 - 3.0","Romano/Frigoletto d. Romano/Laroche, 5.0 - 4.0","Leavenworth/Leavenworth d. Pavone/Beliveau, 6.5 - 2.5","Jordan/Hoy d. Cuifetti/Nivala, 5.5 - 3.5","Jordan/Hoy d. Flood/Duffy, 6.5 - 2.5","Fairbanks/Fairbanks & Lawrence/Benson, tie 4.5 - 4.5","Louney/Romano d. Flood/Duffy, 5.5 - 3.5","Butterfield/Schleyer d. Gamache/Bouvier, 5.0 - 4.0"]
[null,"5:04 PM","Doane/Cassin d. Pavone/Beliveau, 5.0 - 4.0","Haskins/Conte d. Romano/Frigoletto, 5.0 - 4.0","Jordan/Hoy d. Eckstrom/Dauphinais, 5.0 - 4.0","Romano/Frigoletto d. Normandin/Normandin, 7.0 - 2.0","Jordan/Hoy d. Hurley/Drake, 6.5 - 2.5","Gamache/Bouvier d. Hurley/Drake, 5.5 - 3.5","Romano/Frigoletto d. Jordan/Hoy, 6.0 - 3.0","Lawrence/Benson d. Lockhart/Normandin, 7.5 - 1.5","Eckstrom/Romano & Lawrence/Benson, tie 4.5 - 4.5","Pavone/Beliveau d. Lawrence/Benson, 6.5 - 2.5","Cuifetti/Nivala d. Romano/Frigoletto, 7.0 - 2.0","Romano/Frigoletto d. Flood/Duffy, 6.5 - 2.5","Eckstrom/Dauphinais d. Pavone/Beliveau, 5.0 - 4.0","Haskins/Conte d. Lawrence/Benson, 5.0 - 4.0","Lawrence/Benson d. Romano/Frigoletto, 5.5 - 3.5","Lawrence/Benson d. Normandin/Normandin, 6.0 - 3.0","Romano/Frigoletto d. Pavone/Beliveau, 6.0 - 3.0","Romano/Laroche d. Gamache/Bouvier, 5.0 - 4.0","Haskins/Conte d. Hurley/Drake, 5.0 - 4.0"]
[null,"5:12 PM","Louney/Romano d. Butterfield/Schleyer, 5.5 - 3.5","Gamache/Bouvier d. Eckstrom/Romano, 5.5 - 3.5","Haskins/Conte d. Normandin/Normandin, 5.5 - 3.5","Louney/Romano d. Pavone/Beliveau, 6.0 - 3.0","Flood/Duffy d. Lawrence/Benson, 6.0 - 3.0","Normandin/Normandin d. Fairbanks/Fairbanks, 7.5 - 0.0","Eckstrom/Romano d. Romano/Laroche, 5.5 - 3.5","Leavenworth/Leavenworth d. Cuifetti/Nivala, 5.5 - 3.5","Pavone/Beliveau & Butterfield/Schleyer, tie 4.5 - 4.5","Haskins/Conte d. Cuifetti/Nivala, 6.5 - 2.5","Eckstrom/Romano d. Pavone/Beliveau, 6.0 - 3.0","Cuifetti/Nivala d. Normandin/Normandin, 5.0 - 4.0","Eckstrom/Romano d. Leavenworth/Leavenworth, 5.0 - 4.0","Romano/Frigoletto & Butterfield/Schleyer, tie 4.5 - 4.5","Flood/Duffy d. Doane/Cassin, 5.0 - 4.0","Haskins/Conte d. Pavone/Beliveau, 5.5 - 3.5","Cuifetti/Nivala d. Louney/Romano, 6.0 - 3.0","Eckstrom/Romano d. Fairbanks/Fairbanks, 7.0 - 2.0","Normandin/Normandin d. Eckstrom/Dauphinais, 5.5 - 3.5"]

{"sheet":"INDIVIDUAL SCORES","index":16,"n_rows":484,"n_cols":38,"rows_kept":484,"cut":false,"hidden":false,"merged":[[44,15,44,17],[44,1,44,3],[43,15,43,17],[43,1,43,3],[6,29,6,31],[21,1,21,13],[21,15,21,27],[23,1,23,3],[24,1,24,3]]}
[]
[]
[]
[]
[]
[]
[null,null,null,null,null,null,null,null,null,null,null,null,null,null,null,null,null,null,null,null,null,null,null,{"$f":"11-COUNTBLANK(N26:N42)","v":-6},null,null,null,null,null,"Double-Click on Player Name"]
[null,null,null,null,null,null,null,null,null,null,null,null,null,null,null,null,null,null,null,null,null,null,null,{"$f":"11-COUNTBLANK(AB26:AB42)","v":-5},null,null,null,null,null,{"$f":"AI8&\" - \"&AJ8","v":"1A - John Normandin"},null,{"$f":"AK8&\" - \"&AL8","v":"1B - Pete Normandin"},null,null,"1A",{"$f":"IFERROR(VLOOKUP(AI8,'TEAM ROSTERS & SUB LIST'!C$8:D$27,2,FALSE),\"\")","v":"John Normandin"},"1B",{"$f":"IFERROR(VLOOKUP(AK8,'TEAM ROSTERS & SUB LIST'!E$8:F$27,2,FALSE),\"\")","v":"Pete Normandin"}]
[null,null,null,null,null,null,null,null,null,null,null,null,null,null,null,null,null,null,null,null,null,null,null,null,null,null,null,null,null,"2A - Jono Normandin",null,"2B - Nathan Wallace",null,null,"2A",{"$f":"IFERROR(VLOOKUP(AI9,'TEAM ROSTERS & SUB LIST'!C$8:D$27,2,FALSE),\"\")","v":"Jono Normandin"},"2B",{"$f":"IFERROR(VLOOKUP(AK9,'TEAM ROSTERS & SUB LIST'!E$8:F$27,2,FALSE),\"\")","v":"Nathan Wallace"}]
[null,null,null,null,null,null,null,null,null,null,null,null,null,null,null,null,null,null,null,null,null,null,null,null,null,null,null,null,null,"3A - Pete Romano",null,"3B - Don Frigoletto",null,null,"3A",{"$f":"IFERROR(VLOOKUP(AI10,'TEAM ROSTERS & SUB LIST'!C$8:D$27,2,FALSE),\"\")","v":"Pete Romano"},"3B",{"$f":"IFERROR(VLOOKUP(AK10,'TEAM ROSTERS & SUB LIST'!E$8:F$27,2,FALSE),\"\")","v":"Don Frigoletto"}]
[null,null,null,null,null,null,null,null,null,null,null,null,null,null,null,null,null,null,null,null,null,null,null,null,null,null,null,null,null,"4A - Peg Romano",null,"4B - Lynn Laroche",null,null,"4A",{"$f":"IFERROR(VLOOKUP(AI11,'TEAM ROSTERS & SUB LIST'!C$8:D$27,2,FALSE),\"\")","v":"Peg Romano"},"4B",{"$f":"IFERROR(VLOOKUP(AK11,'TEAM ROSTERS & SUB LIST'!E$8:F$27,2,FALSE),\"\")","v":"Lynn Laroche"}]
[null,null,null,null,null,null,null,null,null,null,null,null,null,null,null,null,null,null,null,null,null,null,null,null,null,null,null,null,null,"5A - Dennis Normandin",null,"5B - Mark Normandin",null,null,"5A",{"$f":"IFERROR(VLOOKUP(AI12,'TEAM ROSTERS & SUB LIST'!C$8:D$27,2,FALSE),\"\")","v":"Dennis Normandin"},"5B",{"$f":"IFERROR(VLOOKUP(AK12,'TEAM ROSTERS & SUB LIST'!E$8:F$27,2,FALSE),\"\")","v":"Mark Normandin"}]
[null,null,null,null,null,null,null,null,null,null,null,null,null,null,null,null,null,null,null,null,null,null,null,null,null,null,null,null,null,"6A - Vance Butterfield",null,"6B - Bob Schleyer",null,null,"6A",{"$f":"IFERROR(VLOOKUP(AI13,'TEAM ROSTERS & SUB LIST'!C$8:D$27,2,FALSE),\"\")","v":"Vance Butterfield"},"6B",{"$f":"IFERROR(VLOOKUP(AK13,'TEAM ROSTERS & SUB LIST'!E$8:F$27,2,FALSE),\"\")","v":"Bob Schleyer"}]
[null,null,null,null,null,null,null,null,null,null,null,null,null,null,null,null,null,null,null,null,null,null,null,null,null,null,null,null,null,"7A - John Fairbanks",null,"7B - Debbie Fairbanks",null,null,"7A",{"$f":"IFERROR(VLOOKUP(AI14,'TEAM ROSTERS & SUB LIST'!C$8:D$27,2,FALSE),\"\")","v":"John Fairbanks"},"7B",{"$f":"IFERROR(VLOOKUP(AK14,'TEAM ROSTERS & SUB LIST'!E$8:F$27,2,FALSE),\"\")","v":"Debbie Fairbanks"}]
[null,null,null,null,null,null,null,null,null,null,null,null,null,null,null,null,null,null,null,null,null,null,null,null,null,null,null,null,null,"8A - Steve Lawrence",null,"8B - Mike Benson",null,null,"8A",{"$f":"IFERROR(VLOOKUP(AI15,'TEAM ROSTERS & SUB LIST'!C$8:D$27,2,FALSE),\"\")","v":"Steve Lawrence"},"8B",{"$f":"IFERROR(VLOOKUP(AK15,'TEAM ROSTERS & SUB LIST'!E$8:F$27,2,FALSE),\"\")","v":"Mike Benson"}]
[null,null,null,null,null,null,null,null,null,null,null,null,null,null,null,null,null,null,null,null,null,null,null,null,null,null,null,null,null,{"$f":"AI16&\" - \"&AJ16","v":"9A - Mike Doane"},null,"9B - John Cassin",null,null,"9A",{"$f":"IFERROR(VLOOKUP(AI16,'TEAM ROSTERS & SUB LIST'!C$8:D$27,2,FALSE),\"\")","v":"Mike Doane"},"9B",{"$f":"IFERROR(VLOOKUP(AK16,'TEAM ROSTERS & SUB LIST'!E$8:F$27,2,FALSE),\"\")","v":"John Cassin"}]
[null,null,null,null,null,null,null,null,null,null,null,null,null,null,null,null,null,null,null,null,null,null,null,null,null,null,null,null,null,{"$f":"AI17&\" - \"&AJ17","v":"10A - Ron Ekstrom"},null,"10B - Beth Romano",null,null,"10A",{"$f":"IFERROR(VLOOKUP(AI17,'TEAM ROSTERS & SUB LIST'!C$8:D$27,2,FALSE),\"\")","v":"Ron Ekstrom"},"10B",{"$f":"IFERROR(VLOOKUP(AK17,'TEAM ROSTERS & SUB LIST'!E$8:F$27,2,FALSE),\"\")","v":"Beth Romano"}]
[null,null,null,null,null,null,null,null,null,null,null,null,null,null,null,null,null,null,null,null,null,null,null,null,null,null,null,null,null,"11A - Jim Haskins",null,"11B - Anthony Conte",null,null,"11A",{"$f":"IFERROR(VLOOKUP(AI18,'TEAM ROSTERS & SUB LIST'!C$8:D$27,2,FALSE),\"\")","v":"Jim Haskins"},"11B",{"$f":"IFERROR(VLOOKUP(AK18,'TEAM ROSTERS & SUB LIST'!E$8:F$27,2,FALSE),\"\")","v":"Anthony Conte"}]
[null,null,null,null,null,null,null,null,null,null,null,null,null,null,null,null,null,null,null,null,null,null,null,null,null,null,null,null,null,"12A - Sal Ciufetti",null,"12B - Kevin Nivala",null,null,"12A",{"$f":"IFERROR(VLOOKUP(AI19,'TEAM ROSTERS & SUB LIST'!C$8:D$27,2,FALSE),\"\")","v":"Sal Ciufetti"},"12B",{"$f":"IFERROR(VLOOKUP(AK19,'TEAM ROSTERS & SUB LIST'!E$8:F$27,2,FALSE),\"\")","v":"Kevin Nivala"}]
[null,null,null,null,null,null,null,null,null,null,null,null,null,null,null,null,null,null,null,null,null,null,null,null,null,null,null,null,null,"13A - Tim Hurley",null,"13B - Walter Drake",null,null,"13A",{"$f":"IFERROR(VLOOKUP(AI20,'TEAM ROSTERS & SUB LIST'!C$8:D$27,2,FALSE),\"\")","v":"Tim Hurley"},"13B",{"$f":"IFERROR(VLOOKUP(AK20,'TEAM ROSTERS & SUB LIST'!E$8:F$27,2,FALSE),\"\")","v":"Walter Drake"}]
[null,null,null,null,null,null,null,null,null,null,null,null,null,null,null,null,null,null,null,null,null,null,null,null,null,null,null,null,null,"14A - Paul Fontaine",null,"14B - Ralph Romano III",null,null,"14A",{"$f":"IFERROR(VLOOKUP(AI21,'TEAM ROSTERS & SUB LIST'!C$8:D$27,2,FALSE),\"\")","v":"Paul Fontaine"},"14B",{"$f":"IFERROR(VLOOKUP(AK21,'TEAM ROSTERS & SUB LIST'!E$8:F$27,2,FALSE),\"\")","v":"Ralph Romano III"}]
[null,"Front",null,null,null,null,null,null,null,null,null,null,null,null,null,"Back",null,null,null,null,null,null,null,null,null,null,null,null,null,"15A - Gary Leavenworth",null,"15B - Patty Leavenworth",null,null,"15A",{"$f":"IFERROR(VLOOKUP(AI22,'TEAM ROSTERS & SUB LIST'!C$8:D$27,2,FALSE),\"\")","v":"Gary Leavenworth"},"15B",{"$f":"IFERROR(VLOOKUP(AK22,'TEAM ROSTERS & SUB LIST'!E$8:F$27,2,FALSE),\"\")","v":"Patty Leavenworth"}]
[null,"Date","Hcp","Side",{"$f":"'COURSE & LEAGUE DETAILS'!B5","v":1},{"$f":"'COURSE & LEAGUE DETAILS'!C5","v":2},{"$f":"'COURSE & LEAGUE DETAILS'!D5","v":3},{"$f":"'COURSE & LEAGUE DETAILS'!E5","v":4},{"$f":"'COURSE & LEAGUE DETAILS'!F5","v":5},{"$f":"'COURSE & LEAGUE DETAILS'!G5","v":6},{"$f":"'COURSE & LEAGUE DETAILS'!H5","v":7},{"$f":"'COURSE & LEAGUE DETAILS'!I5","v":8},{"$f":"'COURSE & LEAGUE DETAILS'!J5","v":9},"Total",null,"Date","Hcp","Side",{"$f":"'COURSE & LEAGUE DETAILS'!B13","v":10},{"$f":"'COURSE & LEAGUE DETAILS'!C13","v":11},{"$f":"'COURSE & LEAGUE DETAILS'!D13","v":12},{"$f":"'COURSE & LEAGUE DETAILS'!E13","v":13},{"$f":"'COURSE & LEAGUE DETAILS'!F13","v":14},{"$f":"'COURSE & LEAGUE DETAILS'!G13","v":15},{"$f":"'COURSE & LEAGUE DETAILS'!H13","v":16},{"$f":"'COURSE & LEAGUE DETAILS'!I13","v":17},{"$f":"'COURSE & LEAGUE DETAILS'!J13","v":18},"Total",null,"16A - Kevin O'Loughlin",null,"16B - Mike Romano",null,null,"16A",{"$f":"IFERROR(VLOOKUP(AI23,'TEAM ROSTERS & SUB LIST'!C$8:D$27,2,FALSE),\"\")","v":"Kevin O'Loughlin"},"16B",{"$f":"IFERROR(VLOOKUP(AK23,'TEAM ROSTERS & SUB LIST'!E$8:F$27,2,FALSE),\"\")","v":"Mike Romano"}]
[null,"Men's Par",null,null,{"$f":"'COURSE & LEAGUE DETAILS'!B7","v":5},{"$f":"'COURSE & LEAGUE DETAILS'!C7","v":4},{"$f":"'COURSE & LEAGUE DETAILS'!D7","v":5},{"$f":"'COURSE & LEAGUE DETAILS'!E7","v":4},{"$f":"'COURSE & LEAGUE DETAILS'!F7","v":4},{"$f":"'COURSE & LEAGUE DETAILS'!G7","v":3},{"$f":"'COURSE & LEAGUE DETAILS'!H7","v":4},{"$f":"'COURSE & LEAGUE DETAILS'!I7","v":3},{"$f":"'COURSE & LEAGUE DETAILS'!J7","v":4},{"$f":"'COURSE & LEAGUE DETAILS'!K7","v":36},null,null,"Men's Par",null,{"$f":"'COURSE & LEAGUE DETAILS'!B15","v":5},{"$f":"'COURSE & LEAGUE DETAILS'!C15","v":4},{"$f":"'COURSE & LEAGUE DETAILS'!D15","v":4},{"$f":"'COURSE & LEAGUE DETAILS'!E15","v":5},{"$f":"'COURSE & LEAGUE DETAILS'!F15","v":3},{"$f":"'COURSE & LEAGUE DETAILS'!G15","v":4},{"$f":"'COURSE & LEAGUE DETAILS'!H15","v":3},{"$f":"'COURSE & LEAGUE DETAILS'!I15","v":4},{"$f":"'COURSE & LEAGUE DETAILS'!J15","v":4},{"$f":"'COURSE & LEAGUE DETAILS'!K15","v":36},null,"17A - Carol Ekstrom",null,"17B - Mike Dauphinais",null,null,"17A",{"$f":"IFERROR(VLOOKUP(AI24,'TEAM ROSTERS & SUB LIST'!C$8:D$27,2,FALSE),\"\")","v":"Carol Ekstrom"},"17B",{"$f":"IFERROR(VLOOKUP(AK24,'TEAM ROSTERS & SUB LIST'!E$8:F$27,2,FALSE),\"\")","v":"Mike Dauphinais"}]
[null,"Women's Par",null,null,{"$f":"'COURSE & LEAGUE DETAILS'!B10","v":5},{"$f":"'COURSE & LEAGUE DETAILS'!C10","v":4},{"$f":"'COURSE & LEAGUE DETAILS'!D10","v":5},{"$f":"'COURSE & LEAGUE DETAILS'!E10","v":4},{"$f":"'COURSE & LEAGUE DETAILS'!F10","v":4},{"$f":"'COURSE & LEAGUE DETAILS'!G10","v":3},{"$f":"'COURSE & LEAGUE DETAILS'!H10","v":5},{"$f":"'COURSE & LEAGUE DETAILS'!I10","v":3},{"$f":"'COURSE & LEAGUE DETAILS'!J10","v":4},{"$f":"'COURSE & LEAGUE DETAILS'!K10","v":37},null,null,"Women's Par",null,{"$f":"'COURSE & LEAGUE DETAILS'!B18","v":4},{"$f":"'COURSE & LEAGUE DETAILS'!C18","v":4},{"$f":"'COURSE & LEAGUE DETAILS'!D18","v":4},{"$f":"'COURSE & LEAGUE DETAILS'!E18","v":5},{"$f":"'COURSE & LEAGUE DETAILS'!F18","v":3},{"$f":"'COURSE & LEAGUE DETAILS'!G18","v":4},{"$f":"'COURSE & LEAGUE DETAILS'!H18","v":3},{"$f":"'COURSE & LEAGUE DETAILS'!I18","v":4},{"$f":"'COURSE & LEAGUE DETAILS'!J18","v":4},{"$f":"'COURSE & LEAGUE DETAILS'!K18","v":35},null,"18A - Norm Gamache",null,"18B - Michelle Bouvier",null,null,"18A",{"$f":"IFERROR(VLOOKUP(AI25,'TEAM ROSTERS & SUB LIST'!C$8:D$27,2,FALSE),\"\")","v":"Norm Gamache"},"18B",{"$f":"IFERROR(VLOOKUP(AK25,'TEAM ROSTERS & SUB LIST'!E$8:F$27,2,FALSE),\"\")","v":"Michelle Bouvier"}]
[null,null,null,null,null,null,null,null,null,null,null,null,null,null,null,"05/03/17",2,"Back",4,4,6,5,4,5,3,4,6,41,null,"19A - John Pavone",null,"19B - Ernie Beliveau",null,null,"19A",{"$f":"IFERROR(VLOOKUP(AI26,'TEAM ROSTERS & SUB LIST'!C$8:D$27,2,FALSE),\"\")","v":"John Pavone"},"19B",{"$f":"IFERROR(VLOOKUP(AK26,'TEAM ROSTERS & SUB LIST'!E$8:F$27,2,FALSE),\"\")","v":"Ernie Beliveau"}]
[null,null,null,null,null,null,null,null,null,null,null,null,null,null,null,null,null,null,null,null,null,null,null,null,null,null,null,null,null,{"$f":"AI27&\" - \"&AJ27","v":"20A - Sheila Sundstrom"},null,"20B - Ray Hoy",null,null,"20A",{"$f":"IFERROR(VLOOKUP(AI27,'TEAM ROSTERS & SUB LIST'!C$8:D$27,2,FALSE),\"\")","v":"Sheila Sundstrom"},"20B",{"$f":"IFERROR(VLOOKUP(AK27,'TEAM ROSTERS & SUB LIST'!E$8:F$27,2,FALSE),\"\")","v":"Ray Hoy"}]
[null,null,null,null,null,null,null,null,null,null,null,null,null,null,null,null,null,null,null,null,null,null,null,null,null,null,null,null,null,null,null,null,null,null,"21A",{"$f":"IFERROR(VLOOKUP(AI28,'TEAM ROSTERS & SUB LIST'!C$8:D$27,2,FALSE),\"\")","v":""},"21B",{"$f":"IFERROR(VLOOKUP(AK28,'TEAM ROSTERS & SUB LIST'!E$8:F$27,2,FALSE),\"\")","v":""}]
[null,null,null,null,null,null,null,null,null,null,null,null,null,null,null,null,null,null,null,null,null,null,null,null,null,null,null,null,null,null,null,null,null,null,null,null,null,{"$f":"IFERROR(VLOOKUP(AK28,'TEAM ROSTERS & SUB LIST'!E$8:F$27,2,FALSE),\"\")","v":""}]
[null,null,null,null,null,null,null,null,null,null,null,null,null,null,null,null,null,null,null,null,null,null,null,null,null,null,null,null,null,null,null,null,null,null,null,null,null,{"$f":"IFERROR(VLOOKUP(AK29,'TEAM ROSTERS & SUB LIST'!E$8:F$27,2,FALSE),\"\")","v":""}]
[null,null,null,null,null,null,null,null,null,null,null,null,null,null,null,null,null,null,null,null,null,null,null,null,null,null,null,null,null,{"$f":"AI31&\" - \"&AJ31","v":"Sub1 - P.J. Romano"},null,{"$f":"AK31&\" - \"&AL31","v":"Sub16 - Becky Bartkus"},null,null,"Sub1",{"$f":"IFERROR(VLOOKUP(AI31,'TEAM ROSTERS & SUB LIST'!H$8:I$50,2,FALSE),\"\")","v":"P.J. Romano"},"Sub16",{"$f":"IFERROR(VLOOKUP(AK31,'TEAM ROSTERS & SUB LIST'!H$8:I$50,2,FALSE),\"\")","v":"Becky Bartkus"}]
[null,null,null,null,null,null,null,null,null,null,null,null,null,null,null,null,null,null,null,null,null,null,null,null,null,null,null,null,null,{"$f":"AI32&\" - \"&AJ32","v":"Sub2 - PJ Fontaine"},null,"Sub17 - Dave Cormier",null,null,"Sub2",{"$f":"IFERROR(VLOOKUP(AI32,'TEAM ROSTERS & SUB LIST'!H$8:I$50,2,FALSE),\"\")","v":"PJ Fontaine"},"Sub17",{"$f":"IFERROR(VLOOKUP(AK32,'TEAM ROSTERS & SUB LIST'!H$8:I$50,2,FALSE),\"\")","v":"Dave Cormier"}]
[null,null,null,null,null,null,null,null,null,null,null,null,null,null,null,null,null,null,null,null,null,null,null,null,null,null,null,null,null,"Sub3 - Jim Hedlund",null,"Sub18 - Doug Cormier",null,null,"Sub3",{"$f":"IFERROR(VLOOKUP(AI33,'TEAM ROSTERS & SUB LIST'!H$8:I$50,2,FALSE),\"\")","v":"Jim Hedlund"},"Sub18",{"$f":"IFERROR(VLOOKUP(AK33,'TEAM ROSTERS & SUB LIST'!H$8:I$50,2,FALSE),\"\")","v":"Doug Cormier"}]
[null,null,null,null,null,null,null,null,null,null,null,null,null,null,null,null,null,null,null,null,null,null,null,null,null,null,null,null,null,"Sub4 - Don Shank",null,"Sub19 - Ed Robbins",null,null,"Sub4",{"$f":"IFERROR(VLOOKUP(AI34,'TEAM ROSTERS & SUB LIST'!H$8:I$50,2,FALSE),\"\")","v":"Don Shank"},"Sub19",{"$f":"IFERROR(VLOOKUP(AK34,'TEAM ROSTERS & SUB LIST'!H$8:I$50,2,FALSE),\"\")","v":"Ed Robbins"}]
[null,null,null,null,null,null,null,null,null,null,null,null,null,null,null,null,null,null,null,null,null,null,null,null,null,null,null,null,null,"Sub5 - Tom Farias",null,"Sub20 - Mark Louney",null,null,"Sub5",{"$f":"IFERROR(VLOOKUP(AI35,'TEAM ROSTERS & SUB LIST'!H$8:I$50,2,FALSE),\"\")","v":"Tom Farias"},"Sub20",{"$f":"IFERROR(VLOOKUP(AK35,'TEAM ROSTERS & SUB LIST'!H$8:I$50,2,FALSE),\"\")","v":"Mark Louney"}]
[null,null,null,null,null,null,null,null,null,null,null,null,null,null,null,null,null,null,null,null,null,null,null,null,null,null,null,null,null,"Sub6 - Joe Pearson",null,"Sub21 - Paul Stedman",null,null,"Sub6",{"$f":"IFERROR(VLOOKUP(AI36,'TEAM ROSTERS & SUB LIST'!H$8:I$50,2,FALSE),\"\")","v":"Joe Pearson"},"Sub21",{"$f":"IFERROR(VLOOKUP(AK36,'TEAM ROSTERS & SUB LIST'!H$8:I$50,2,FALSE),\"\")","v":"Paul Stedman"}]
[null,null,null,null,null,null,null,null,null,null,null,null,null,null,null,null,null,null,null,null,null,null,null,null,null,null,null,null,null,"Sub7 - Dennis St. Jean",null,"Sub22 - Jan Hedlund",null,null,"Sub7",{"$f":"IFERROR(VLOOKUP(AI37,'TEAM ROSTERS & SUB LIST'!H$8:I$50,2,FALSE),\"\")","v":"Dennis St. Jean"},"Sub22",{"$f":"IFERROR(VLOOKUP(AK37,'TEAM ROSTERS & SUB LIST'!H$8:I$50,2,FALSE),\"\")","v":"Jan Hedlund"}]
[null,null,null,null,null,null,null,null,null,null,null,null,null,null,null,null,null,null,null,null,null,null,null,null,null,null,null,null,null,"Sub8 - Joe Fratticelli",null,"Sub23 - Brenda Louney",null,null,"Sub8",{"$f":"IFERROR(VLOOKUP(AI38,'TEAM ROSTERS & SUB LIST'!H$8:I$50,2,FALSE),\"\")","v":"Joe Fratticelli"},"Sub23",{"$f":"IFERROR(VLOOKUP(AK38,'TEAM ROSTERS & SUB LIST'!H$8:I$50,2,FALSE),\"\")","v":"Brenda Louney"}]
[null,null,null,null,null,null,null,null,null,null,null,null,null,null,null,null,null,null,null,null,null,null,null,null,null,null,null,null,null,"Sub9 - Pete Collette",null,"Sub24 - Kyle Butterfield",null,null,"Sub9",{"$f":"IFERROR(VLOOKUP(AI39,'TEAM ROSTERS & SUB LIST'!H$8:I$50,2,FALSE),\"\")","v":"Pete Collette"},"Sub24",{"$f":"IFERROR(VLOOKUP(AK39,'TEAM ROSTERS & SUB LIST'!H$8:I$50,2,FALSE),\"\")","v":"Kyle Butterfield"}]
[null,null,null,null,null,null,null,null,null,null,null,null,null,null,null,null,null,null,null,null,null,null,null,null,null,null,null,null,null,"Sub10 - Ray Henderson",null,"Sub25 - Dave Flood",null,null,"Sub10",{"$f":"IFERROR(VLOOKUP(AI40,'TEAM ROSTERS & SUB LIST'!H$8:I$50,2,FALSE),\"\")","v":"Ray Henderson"},"Sub25",{"$f":"IFERROR(VLOOKUP(AK40,'TEAM ROSTERS & SUB LIST'!H$8:I$50,2,FALSE),\"\")","v":"Dave Flood"}]
[null,null,null,null,null,null,null,null,null,null,null,null,null,null,null,null,null,null,null,null,null,null,null,null,null,null,null,null,null,"Sub11 - Pete K Normandin",null,"Sub26 - Ann Goodwin",null,null,"Sub11",{"$f":"IFERROR(VLOOKUP(AI41,'TEAM ROSTERS & SUB LIST'!H$8:I$50,2,FALSE),\"\")","v":"Pete K Normandin"},"Sub26",{"$f":"IFERROR(VLOOKUP(AK41,'TEAM ROSTERS & SUB LIST'!H$8:I$50,2,FALSE),\"\")","v":"Ann Goodwin"}]
[null,null,null,null,null,null,null,null,null,null,null,null,null,null,null,null,null,null,null,null,null,null,null,null,null,null,null,null,null,"Sub12 - Ron Brassard",null,"Sub27 - Gary Bittner",null,null,"Sub12",{"$f":"IFERROR(VLOOKUP(AI42,'TEAM ROSTERS & SUB LIST'!H$8:I$50,2,FALSE),\"\")","v":"Ron Brassard"},"Sub27",{"$f":"IFERROR(VLOOKUP(AK42,'TEAM ROSTERS & SUB LIST'!H$8:I$50,2,FALSE),\"\")","v":"Gary Bittner"}]
[null,null,null,null,null,null,null,null,null,null,null,null,null,null,null,null,null,null,null,null,null,null,null,null,null,null,null,null,null,"Sub13 - Genie Ray Richard",null,"Sub28 - Scott Leavenworth",null,null,"Sub13",{"$f":"IFERROR(VLOOKUP(AI43,'TEAM ROSTERS & SUB LIST'!H$8:I$50,2,FALSE),\"\")","v":"Genie Ray Richard"},"Sub28",{"$f":"IFERROR(VLOOKUP(AK43,'TEAM ROSTERS & SUB LIST'!H$8:I$50,2,FALSE),\"\")","v":"Scott Leavenworth"}]
[null,{"$f":"VLOOKUP($H$47,'LEAGUE MEMBERSHIP'!$A:$P,6,FALSE)&\" - Avg\"","v":"Ron Ekstrom - Avg"},null,null,{"$f":"IF(SUM(E26:E42)<>0,AVERAGE(E26:E42),\"\")","v":""},{"$f":"IF(SUM(F26:F42)<>0,AVERAGE(F26:F42),\"\")","v":""},"","","","","","","",{"$f":"IF(SUM(N26:N42)<>0,AVERAGE(N26:N42),\"\")","v":""},null,{"$f":"VLOOKUP($H$47,'LEAGUE MEMBERSHIP'!$A:$P,6,FALSE)&\" - Avg\"","v":"Ron Ekstrom - Avg"},null,null,{"$f":"IF(SUM(S26:S42)<>0,AVERAGE(S26:S42),\"\")","v":4},4,6,5,4,5,3,4,6,41,null,"Sub14 - John MacDonald",null,"Sub29 - Dave DiGiovanni",null,null,"Sub14",{"$f":"IFERROR(VLOOKUP(AI44,'TEAM ROSTERS & SUB LIST'!H$8:I$50,2,FALSE),\"\")","v":"John MacDonald"},"Sub29",{"$f":"IFERROR(VLOOKUP(AK44,'TEAM ROSTERS & SUB LIST'!H$8:I$50,2,FALSE),\"\")","v":"Dave DiGiovanni"}]
[null,"League Average",null,null,{"$f":"IFERROR(SUMIF('INDIVIDUAL SCORES DATA'!$D$18:$D$5605,\"=\"&$B$22,'INDIVIDUAL SCORES DATA'!E18:E5605)/COUNTIF('INDIVIDUAL SCORES DATA'!$D$18:$D$5605,\"=\"&$B$22),\"\")","v":7.3657587548638128},{"$f":"IFERROR(SUMIF('INDIVIDUAL SCORES DATA'!$D$18:$D$5605,\"=\"&$B$22,'INDIVIDUAL SCORES DATA'!F18:F5605)/COUNTIF('INDIVIDUAL SCORES DATA'!$D$18:$D$5605,\"=\"&$B$22),\"\")","v":5.7898832684824901},{"$f":"IFERROR(SUMIF('INDIVIDUAL SCORES DATA'!$D$18:$D$5605,\"=\"&$B$22,'INDIVIDUAL SCORES DATA'!G18:G5605)/COUNTIF('INDIVIDUAL SCORES DATA'!$D$18:$D$5605,\"=\"&$B$22),\"\")","v":7.2295719844357977},{"$f":"IFERROR(SUMIF('INDIVIDUAL SCORES DATA'!$D$18:$D$5605,\"=\"&$B$22,'INDIVIDUAL SCORES DATA'!H18:H5605)/COUNTIF('INDIVIDUAL SCORES DATA'!$D$18:$D$5605,\"=\"&$B$22),\"\")","v":5.7042801556420235},{"$f":"IFERROR(SUMIF('INDIVIDUAL SCORES DATA'!$D$18:$D$5605,\"=\"&$B$22,'INDIVIDUAL SCORES DATA'!I18:I5605)/COUNTIF('INDIVIDUAL SCORES DATA'!$D$18:$D$5605,\"=\"&$B$22),\"\")","v":5.1322957198443584},{"$f":"IFERROR(SUMIF('INDIVIDUAL SCORES DATA'!$D$18:$D$5605,\"=\"&$B$22,'INDIVIDUAL SCORES DATA'!J18:J5605)/COUNTIF('INDIVIDUAL SCORES DATA'!$D$18:$D$5605,\"=\"&$B$22),\"\")","v":4.163424124513619},{"$f":"IFERROR(SUMIF('INDIVIDUAL SCORES DATA'!$D$18:$D$5605,\"=\"&$B$22,'INDIVIDUAL SCORES DATA'!K18:K5605)/COUNTIF('INDIVIDUAL SCORES DATA'!$D$18:$D$5605,\"=\"&$B$22),\"\")","v":6.7354085603112841},{"$f":"IFERROR(SUMIF('INDIVIDUAL SCORES DATA'!$D$18:$D$5605,\"=\"&$B$22,'INDIVIDUAL SCORES DATA'!L18:L5605)/COUNTIF('INDIVIDUAL SCORES DATA'!$D$18:$D$5605,\"=\"&$B$22),\"\")","v":4.1750972762645917},{"$f":"IFERROR(SUMIF('INDIVIDUAL SCORES DATA'!$D$18:$D$5605,\"=\"&$B$22,'INDIVIDUAL SCORES DATA'!M18:M5605)/COUNTIF('INDIVIDUAL SCORES DATA'!$D$18:$D$5605,\"=\"&$B$22),\"\")","v":5.5097276264591439},{"$f":"IFERROR(SUMIF('INDIVIDUAL SCORES DATA'!$D$18:$D$5605,\"=\"&$B$22,'INDIVIDUAL SCORES DATA'!N18:N5603)/COUNTIF('INDIVIDUAL SCORES DATA'!$D$18:$D$5605,\"=\"&$B$22),\"\")","v":51.805447470817121},null,"League Average",null,null,{"$f":"IFERROR(SUMIF('INDIVIDUAL SCORES DATA'!$D$18:$D$5605,\"=\"&$P$22,'INDIVIDUAL SCORES DATA'!E18:E5605)/COUNTIF('INDIVIDUAL SCORES DATA'!$D$18:$D$5605,\"=\"&$P$22),\"\")","v":6.5232558139534884},{"$f":"IFERROR(SUMIF('INDIVIDUAL SCORES DATA'!$D$18:$D$5605,\"=\"&$P$22,'INDIVIDUAL SCORES DATA'!F18:F5605)/COUNTIF('INDIVIDUAL SCORES DATA'!$D$18:$D$5605,\"=\"&$P$22),\"\")","v":5.8343023255813957},{"$f":"IFERROR(SUMIF('INDIVIDUAL SCORES DATA'!$D$18:$D$5605,\"=\"&$P$22,'INDIVIDUAL SCORES DATA'!G18:G5605)/COUNTIF('INDIVIDUAL SCORES DATA'!$D$18:$D$5605,\"=\"&$P$22),\"\")","v":5.8226744186046515},{"$f":"IFERROR(SUMIF('INDIVIDUAL SCORES DATA'!$D$18:$D$5605,\"=\"&$P$22,'INDIVIDUAL SCORES DATA'!H18:H5605)/COUNTIF('INDIVIDUAL SCORES DATA'!$D$18:$D$5605,\"=\"&$P$22),\"\")","v":6.6046511627906979},{"$f":"IFERROR(SUMIF('INDIVIDUAL SCORES DATA'!$D$18:$D$5605,\"=\"&$P$22,'INDIVIDUAL SCORES DATA'!I18:I5605)/COUNTIF('INDIVIDUAL SCORES DATA'!$D$18:$D$5605,\"=\"&$P$22),\"\")","v":4.4273255813953485},{"$f":"IFERROR(SUMIF('INDIVIDUAL SCORES DATA'!$D$18:$D$5605,\"=\"&$P$22,'INDIVIDUAL SCORES DATA'!J18:J5605)/COUNTIF('INDIVIDUAL SCORES DATA'!$D$18:$D$5605,\"=\"&$P$22),\"\")","v":5.5029069767441863},{"$f":"IFERROR(SUMIF('INDIVIDUAL SCORES DATA'!$D$18:$D$5605,\"=\"&$P$22,'INDIVIDUAL SCORES DATA'!K18:K5605)/COUNTIF('INDIVIDUAL SCORES DATA'!$D$18:$D$5605,\"=\"&$P$22),\"\")","v":4.4651162790697674},{"$f":"IFERROR(SUMIF('INDIVIDUAL SCORES DATA'!$D$18:$D$5605,\"=\"&$P$22,'INDIVIDUAL SCORES DATA'!L18:L5605)/COUNTIF('INDIVIDUAL SCORES DATA'!$D$18:$D$5605,\"=\"&$P$22),\"\")","v":5.1191860465116283},{"$f":"IFERROR(SUMIF('INDIVIDUAL SCORES DATA'!$D$18:$D$5605,\"=\"&$P$22,'INDIVIDUAL SCORES DATA'!M18:M5605)/COUNTIF('INDIVIDUAL SCORES DATA'!$D$18:$D$5605,\"=\"&$P$22),\"\")","v":5.7267441860465116},{"$f":"IFERROR(SUMIF('INDIVIDUAL SCORES DATA'!$D$18:$D$5605,\"=\"&$P$22,'INDIVIDUAL SCORES DATA'!N18:N5603)/COUNTIF('INDIVIDUAL SCORES DATA'!$D$18:$D$5605,\"=\"&$P$22),\"\")","v":50.026162790697676},null,"Sub15 - Darryl Gagne",null,"Sub30 - Alessandro Conte",null,null,"Sub15",{"$f":"IFERROR(VLOOKUP(AI45,'TEAM ROSTERS & SUB LIST'!H$8:I$50,2,FALSE),\"\")","v":"Darryl Gagne"},"Sub30",{"$f":"IFERROR(VLOOKUP(AK45,'TEAM ROSTERS & SUB LIST'!H$8:I$50,2,FALSE),\"\")","v":"Alessandro Conte"}]
[]
[null,null,null,null,null,null,null,{"$f":"IFERROR(VLOOKUP(LEFT(H48,FIND(\" \",H48)-1),'LEAGUE MEMBERSHIP'!B:I,8,FALSE),VLOOKUP(\"1A\",'LEAGUE MEMBERSHIP'!B:I,8,FALSE))","v":"RGL-050"}]
[null,null,null,null,null,null,null,"10A - Ron Ekstrom"]
[null,null,null,null,null,null,null,{"$f":"RIGHT(H48,LEN(H48)-(FIND(\"-\",H48)+1))","v":"Ron Ekstrom"}]
[null,null,null,null,null,null,null,{"$f":"IFERROR(VLOOKUP(H47&\"F\",'INDIVIDUAL SCORES DATA'!A18:P5603,16,FALSE),\"\")","v":1}]
[]
[null,null,null,null,null,null,null,null,null,null,null,null,"Need to update selection table @ right: Can table size be adjusted to fit no. of teams / subs exactly?)"]
[null,null,null,null,null,null,null,null,null,null,null,null,"Need to update logic in Macro 2"]
[]
[]
[]
[]
[]
[]
[]
[""]
[""]
[""]
[""]
[""]
[""]
[""]
[""]
[""]
[""]
[""]
[""]
[""]
[""]
[""]
[""]
[""]
[""]
[""]
[""]
[""]
[""]
[""]
[""]
[""]
[""]
[""]
[""]
[""]
[""]
[""]
[""]
[""]
[""]
[""]
[""]
[""]
[""]
[""]
[""]
[""]
[""]
[""]
[""]
[""]
[""]
[""]
[""]
[""]
[""]
[""]
[""]
[""]
[""]
[""]
[""]
[""]
[""]
[""]
[""]
[""]
[""]
[""]
[""]
[""]
[""]
[""]
[""]
[""]
[""]
[""]
[""]
[""]
[""]
[""]
[""]
[""]
[""]
[""]
[""]
[""]
[""]
[""]
[""]
[""]
[""]
[""]
[""]
[""]
[""]
[""]
[""]
[""]
[""]
[""]
[""]
[""]
[""]
[""]
[""]
[""]
[""]
[""]
[""]
[""]
[""]
[""]
[""]
[""]
[""]
[""]
[""]
[""]
[""]
[""]
[""]
[""]
[""]
[""]
[""]
[""]
[""]
[""]
[""]
[""]
[""]
[""]
[""]
[""]
[""]
[""]
[""]
[""]
[""]
[""]
[""]
[""]
[""]
[""]
[""]
[""]
[""]
[""]
[""]
[""]
[""]
[""]
[""]
[""]
[""]
[""]
[""]
[""]
[""]
[""]
[""]
[""]
[""]
[""]
[""]
[""]
[""]
[""]
[""]
[""]
[""]
[""]
[""]
[""]
[""]
[""]
[""]
[""]
[""]
[""]
[""]
[""]
[""]
[""]
[""]
[""]
[""]
[""]
[""]
[""]
[""]
[""]
[""]
[""]
[""]
[""]
[""]
[""]
[""]
[""]
[""]
[""]
[""]
[""]
[""]
[""]
[""]
[""]
[""]
[""]
[""]
[""]
[""]
[""]
[""]
[""]
[""]
[""]
[""]
[""]
[""]
[""]
[""]
[""]
[""]
[""]
[""]
[""]
[""]
[""]
[""]
[""]
[""]
[""]
[""]
[""]
[""]
[""]
[""]
[""]
[""]
[""]
[""]
[""]
[""]
[""]
[""]
[""]
[""]
[""]
[""]
[""]
[""]
[""]
[""]
[""]
[""]
[""]
[""]
[""]
[""]
[""]
[""]
[""]
[""]
[""]
[""]
[""]
[""]
[""]
[""]
[""]
[""]
[""]
[""]
[""]
[""]
[""]
[""]
[""]
[""]
[""]
[""]
[""]
[""]
[""]
[""]
[""]
[""]
[""]
[""]
[""]
[""]
[""]
[""]
[""]
[""]
[""]
[""]
[""]
[""]
[""]
[""]
[""]
[""]
[""]
[""]
[""]
[""]
[""]
[""]
[""]
[""]
[""]
[""]
[""]
[""]
[""]
[""]
[""]
[""]
[""]
[""]
[""]
[""]
[""]
[""]
[""]
[""]
[""]
[""]
[""]
[""]
[""]
[""]
[""]
[""]
[""]
[""]
[""]
[""]
[""]
[""]
[""]
[""]
[""]
[""]
[""]
[""]
[""]
[""]
[""]
[""]
[""]
[""]
[""]
[""]
[""]
[""]
[""]
[""]
[""]
[""]
[""]
[""]
[""]
[""]
[""]
[""]
[""]
[""]
[""]
[""]
[""]
[""]
[""]
[""]
[""]
[""]
[""]
[""]
[""]
[""]
[""]
[""]
[""]
[""]
[""]
[""]
[""]
[""]
[""]
[""]
[""]
[""]
[""]
[""]
[""]
[""]
[""]
[""]
[""]
[""]
[""]
[""]
[""]
[""]
[""]
[""]
[""]
[""]
[""]
[""]
[""]
[""]
[""]
[""]
[""]
[""]
[""]
[""]
[""]
[""]
[""]
[""]
[""]
[""]
["",{"$f":"IF(LEN(A484)=7,A484&\"F\",IF(RIGHT(A484,2)=\"12\",LEFT(A484,7)&\"B\",\"\"))","v":""}]
[""]

{"sheet":"INDIVIDUAL SCORES DATA","index":17,"n_rows":1220,"n_cols":34,"rows_kept":1220,"cut":false,"hidden":false,"merged":[]}
[]
[]
[]
[]
[]
[null,null,null,null,null,"1/10","2/11","3/12","4/13","5/14","6/15","7/16","8/17","9/18","Total"]
[{"$f":"'SCORE ENTRY WORKSHEET'!B18","v":"19A"},{"$f":"VLOOKUP(A7,'LEAGUE MEMBERSHIP'!B$8:Q$107,8,FALSE)","v":"RGL-043"},{"$f":"'SCORE ENTRY WORKSHEET'!$N$13","v":"08/23/17"},{"$f":"'SCORE ENTRY WORKSHEET'!A18","v":15},{"$f":"IF('SCORE ENTRY WORKSHEET'!$N$14=\"BACK\",\"Back\",IF('SCORE ENTRY WORKSHEET'!$N$14=\"FRONT\",\"Front\",\"\"))","v":"Back"},{"$f":"IF('SCORE ENTRY WORKSHEET'!D18<>\"\",'SCORE ENTRY WORKSHEET'!D18,\"\")","v":""},{"$f":"IF('SCORE ENTRY WORKSHEET'!E18<>\"\",'SCORE ENTRY WORKSHEET'!E18,\"\")","v":""},{"$f":"IF('SCORE ENTRY WORKSHEET'!F18<>\"\",'SCORE ENTRY WORKSHEET'!F18,\"\")","v":""},{"$f":"IF('SCORE ENTRY WORKSHEET'!G18<>\"\",'SCORE ENTRY WORKSHEET'!G18,\"\")","v":""},{"$f":"IF('SCORE ENTRY WORKSHEET'!H18<>\"\",'SCORE ENTRY WORKSHEET'!H18,\"\")","v":""},{"$f":"IF('SCORE ENTRY WORKSHEET'!I18<>\"\",'SCORE ENTRY WORKSHEET'!I18,\"\")","v":""},{"$f":"IF('SCORE ENTRY WORKSHEET'!J18<>\"\",'SCORE ENTRY WORKSHEET'!J18,\"\")","v":""},{"$f":"IF('SCORE ENTRY WORKSHEET'!K18<>\"\",'SCORE ENTRY WORKSHEET'!K18,\"\")","v":""},{"$f":"IF('SCORE ENTRY WORKSHEET'!L18<>\"\",'SCORE ENTRY WORKSHEET'!L18,\"\")","v":""},{"$f":"IF('SCORE ENTRY WORKSHEET'!M18<>\"\",'SCORE ENTRY WORKSHEET'!M18,\"\")","v":""}]
[{"$f":"'SCORE ENTRY WORKSHEET'!B20","v":"19B"},{"$f":"VLOOKUP(A8,'LEAGUE MEMBERSHIP'!B$8:Q$107,8,FALSE)","v":"RGL-051"},{"$f":"'SCORE ENTRY WORKSHEET'!$N$13","v":"08/23/17"},{"$f":"'SCORE ENTRY WORKSHEET'!A20","v":18},{"$f":"IF('SCORE ENTRY WORKSHEET'!$N$14=\"BACK\",\"Back\",IF('SCORE ENTRY WORKSHEET'!$N$14=\"FRONT\",\"Front\",\"\"))","v":"Back"},{"$f":"IF('SCORE ENTRY WORKSHEET'!D20<>\"\",'SCORE ENTRY WORKSHEET'!D20,\"\")","v":""},{"$f":"IF('SCORE ENTRY WORKSHEET'!E20<>\"\",'SCORE ENTRY WORKSHEET'!E20,\"\")","v":""},{"$f":"IF('SCORE ENTRY WORKSHEET'!F20<>\"\",'SCORE ENTRY WORKSHEET'!F20,\"\")","v":""},{"$f":"IF('SCORE ENTRY WORKSHEET'!G20<>\"\",'SCORE ENTRY WORKSHEET'!G20,\"\")","v":""},{"$f":"IF('SCORE ENTRY WORKSHEET'!H20<>\"\",'SCORE ENTRY WORKSHEET'!H20,\"\")","v":""},{"$f":"IF('SCORE ENTRY WORKSHEET'!I20<>\"\",'SCORE ENTRY WORKSHEET'!I20,\"\")","v":""},{"$f":"IF('SCORE ENTRY WORKSHEET'!J20<>\"\",'SCORE ENTRY WORKSHEET'!J20,\"\")","v":""},{"$f":"IF('SCORE ENTRY WORKSHEET'!K20<>\"\",'SCORE ENTRY WORKSHEET'!K20,\"\")","v":""},{"$f":"IF('SCORE ENTRY WORKSHEET'!L20<>\"\",'SCORE ENTRY WORKSHEET'!L20,\"\")","v":""},{"$f":"IF('SCORE ENTRY WORKSHEET'!M20<>\"\",'SCORE ENTRY WORKSHEET'!M20,\"\")","v":""},null,null,"Note: The formula in cell O14 is copied to the left of each current hcp. cell (col. P) when a new round is entered."]
[{"$f":"'SCORE ENTRY WORKSHEET'!B24","v":"18A"},{"$f":"VLOOKUP(A9,'LEAGUE MEMBERSHIP'!B$8:Q$107,8,FALSE)","v":"RGL-016"},{"$f":"'SCORE ENTRY WORKSHEET'!$N$13","v":"08/23/17"},{"$f":"'SCORE ENTRY WORKSHEET'!A24","v":11},{"$f":"IF('SCORE ENTRY WORKSHEET'!$N$14=\"BACK\",\"Back\",IF('SCORE ENTRY WORKSHEET'!$N$14=\"FRONT\",\"Front\",\"\"))","v":"Back"},{"$f":"IF('SCORE ENTRY WORKSHEET'!D24<>\"\",'SCORE ENTRY WORKSHEET'!D24,\"\")","v":""},{"$f":"IF('SCORE ENTRY WORKSHEET'!E24<>\"\",'SCORE ENTRY WORKSHEET'!E24,\"\")","v":""},{"$f":"IF('SCORE ENTRY WORKSHEET'!F24<>\"\",'SCORE ENTRY WORKSHEET'!F24,\"\")","v":""},{"$f":"IF('SCORE ENTRY WORKSHEET'!G24<>\"\",'SCORE ENTRY WORKSHEET'!G24,\"\")","v":""},{"$f":"IF('SCORE ENTRY WORKSHEET'!H24<>\"\",'SCORE ENTRY WORKSHEET'!H24,\"\")","v":""},{"$f":"IF('SCORE ENTRY WORKSHEET'!I24<>\"\",'SCORE ENTRY WORKSHEET'!I24,\"\")","v":""},{"$f":"IF('SCORE ENTRY WORKSHEET'!J24<>\"\",'SCORE ENTRY WORKSHEET'!J24,\"\")","v":""},{"$f":"IF('SCORE ENTRY WORKSHEET'!K24<>\"\",'SCORE ENTRY WORKSHEET'!K24,\"\")","v":""},{"$f":"IF('SCORE ENTRY WORKSHEET'!L24<>\"\",'SCORE ENTRY WORKSHEET'!L24,\"\")","v":""},{"$f":"IF('SCORE ENTRY WORKSHEET'!M24<>\"\",'SCORE ENTRY WORKSHEET'!M24,\"\")","v":""},null,null,"         Using RGL #, this enables a Vlookup in the Sub List table that displays the last score the sub had and the date of that score"]
[{"$f":"'SCORE ENTRY WORKSHEET'!B26","v":"18B"},{"$f":"VLOOKUP(A10,'LEAGUE MEMBERSHIP'!B$8:Q$107,8,FALSE)","v":"RGL-045"},{"$f":"'SCORE ENTRY WORKSHEET'!$N$13","v":"08/23/17"},{"$f":"'SCORE ENTRY WORKSHEET'!A26","v":23},{"$f":"IF('SCORE ENTRY WORKSHEET'!$N$14=\"BACK\",\"Back\",IF('SCORE ENTRY WORKSHEET'!$N$14=\"FRONT\",\"Front\",\"\"))","v":"Back"},{"$f":"IF('SCORE ENTRY WORKSHEET'!D26<>\"\",'SCORE ENTRY WORKSHEET'!D26,\"\")","v":""},{"$f":"IF('SCORE ENTRY WORKSHEET'!E26<>\"\",'SCORE ENTRY WORKSHEET'!E26,\"\")","v":""},{"$f":"IF('SCORE ENTRY WORKSHEET'!F26<>\"\",'SCORE ENTRY WORKSHEET'!F26,\"\")","v":""},{"$f":"IF('SCORE ENTRY WORKSHEET'!G26<>\"\",'SCORE ENTRY WORKSHEET'!G26,\"\")","v":""},{"$f":"IF('SCORE ENTRY WORKSHEET'!H26<>\"\",'SCORE ENTRY WORKSHEET'!H26,\"\")","v":""},{"$f":"IF('SCORE ENTRY WORKSHEET'!I26<>\"\",'SCORE ENTRY WORKSHEET'!I26,\"\")","v":""},{"$f":"IF('SCORE ENTRY WORKSHEET'!J26<>\"\",'SCORE ENTRY WORKSHEET'!J26,\"\")","v":""},{"$f":"IF('SCORE ENTRY WORKSHEET'!K26<>\"\",'SCORE ENTRY WORKSHEET'!K26,\"\")","v":""},{"$f":"IF('SCORE ENTRY WORKSHEET'!L26<>\"\",'SCORE ENTRY WORKSHEET'!L26,\"\")","v":""},{"$f":"IF('SCORE ENTRY WORKSHEET'!M26<>\"\",'SCORE ENTRY WORKSHEET'!M26,\"\")","v":""}]
[]
[]
[null,null,null,null,null,null,null,null,null,null,null,null,null,null,null,0.8,null,"<- Romano League uses 80% of average of prior 5 rounds to determine Hcp."]
[null,null,null,null,null,null,null,null,null,null,null,null,null,null,{"$f":"IF(Q15<>\"\",Q15,\"\")","v":""},{"$f":"IF(Q15<>\"\",ROUND($P$13*(AVERAGE(Q15:U15)-36),0),\"\")","v":""},null,"This formula can be adjusted to accommodate a League's particular method of calculating hcp."]
[]
["Player # / Side","Date / No. Rds.","Handicap","Side","1 / 10","2 / 11","3 / 12","4 / 13","5 / 14","6 / 15","7 / 16","8 / 17","9 / 18","Total",null,"Current Hcp","Sc. 1","Sc 2","Sc. 3","Sc. 4","Sc. 5","Sc. 6","Sc. 7","Sc. 8","Sc. 9","Sc. 10"]
[]
["RGL-001F","x",null,null,null,null,null,null,null,null,null,null,null,null,{"$f":"Q19","v":58},{"$f":"IF(Q19<>\"\",ROUND($P$13*(AVERAGE(Q19:U19)-36),0),\"\")","v":4},"2015-07-08","Calc.","Calc.","Calc.","Calc.","Calc.",null,null,null,null,null,null,null,null,null,null,null,"x"]
[null,"x",null,null,null,null,null,null,null,null,null,null,null,null,null,null,58,36,36,36,36,36,null,null,null,null,null,null,null,null,null,null,null,"x"]
[null,"",null,null,null,null,null,null,null,null,null,null,null,null,null,null,null,null,null,null,null,null,null,null,null,null,null,null,null,null,null,null,null,""]
["RGL-001B","x",null,null,null,null,null,null,null,null,null,null,null,null,null,null,null,null,null,null,null,null,null,null,null,null,null,null,null,null,null,null,null,"x"]
[null,"x",null,null,null,null,null,null,null,null,null,null,null,null,null,null,null,null,null,null,null,null,null,null,null,null,null,null,null,null,null,null,null,"x"]
[null,"",null,null,null,null,null,null,null,null,null,null,null,null,null,null,null,null,null,null,null,null,null,null,null,null,null,null,null,null,null,null,null,""]
["RGL-002F","x",null,null,null,null,null,null,null,null,null,null,null,null,49,{"$f":"IF(Q25<>\"\",ROUND($P$13*(AVERAGE(Q25:U25)-36),0),\"\")","v":8},"05/25/16","05/18/16","04/27/16","2015-09-02","2015-08-19","2015-08-12","2015-08-05","2015-07-29",null,null,null,null,null,null,null,null,null,"x"]
[null,"x",null,null,null,null,null,null,null,null,null,null,null,null,null,null,49,45,46,46,46,59,55,51,null,null,null,null,null,null,null,null,null,"x"]
[]
["RGL-002B","x",null,null,null,null,null,null,null,null,null,null,null,null,null,null,null,null,null,null,null,null,null,null,null,null,null,null,null,null,null,null,null,"x"]
[null,"x",null,null,null,null,null,null,null,null,null,null,null,null,null,null,null,null,null,null,null,null,null,null,null,null,null,null,null,null,null,null,null,"x"]
[]
["RGL-003F",7,null,null,null,null,null,null,null,null,null,null,null,null,44,{"$f":"IF(Q31<>\"\",ROUND($P$13*(AVERAGE(Q31:U31)-36),0),\"\")","v":5},"08/23/17","08/16/17","08/09/17","07/26/17","07/19/17","07/12/17","07/05/17","06/28/17","06/21/17","06/14/17","06/07/17","05/31/17","05/24/17","05/17/17","05/10/17","05/03/17","08/31/16","x"]
[null,"x",null,null,null,null,null,null,null,null,null,null,null,null,null,null,44,40,46,40,42,47,47,39,45,46,42,43,46,40,44,43,38,"x"]
[null,"05/10/17",4,"Front",6,4,6,6,6,4,4,2,6,44]
[null,"05/24/17",4,"Front",5,4,5,6,5,4,6,4,7,46]
[null,"06/07/17",6,"Front",6,6,6,4,4,5,4,2,5,42]
[null,"06/21/17",6,"Front",10,6,5,4,5,4,4,3,4,45]
[null,"07/05/17",6,"Front",5,8,6,6,6,4,5,4,3,47]
[null,"07/19/17",7,"Front",5,6,6,4,4,3,5,4,5,42]
[null,"08/16/17",7,"Front",5,5,5,5,4,3,6,3,4,40]
[]
["RGL-003B",9,null,null,null,null,null,null,null,null,null,null,null,null,null,null,null,null,null,null,null,null,null,null,null,null,null,null,null,null,null,null,null,"x"]
[null,"x",null,null,null,null,null,null,null,null,null,null,null,null,null,null,null,null,null,null,null,null,null,null,null,null,null,null,null,null,null,null,null,"x"]
[null,"05/03/17",4,"Back",5,6,4,6,3,4,4,5,6,43,null,null,null,null,null,null,null,null,null,null,null,null,null,null,null,null,null,null,null,""]
[null,"05/17/17",5,"Back",8,5,4,5,3,5,2,4,4,40]
[null,"05/31/17",5,"Back",6,6,5,5,3,4,4,4,6,43]
[null,"06/14/17",6,"Back",6,5,6,6,4,4,5,4,6,46]
[null,"06/28/17",7,"Back",5,5,6,6,3,4,4,2,4,39]
[null,"07/12/17",6,"Back",5,5,7,6,4,7,5,3,5,47]
[null,"07/26/17",6,"Back",5,5,3,5,4,5,4,4,5,40]
[null,"08/09/17",6,"Back",7,5,6,5,3,6,4,5,5,46]
[null,"08/23/17",6,"Back",6,5,4,7,4,5,3,5,5,44]
[]
["RGL-004F",1,null,null,null,null,null,null,null,null,null,null,null,null,46,{"$f":"IF(Q53<>\"\",ROUND($P$13*(AVERAGE(Q53:U53)-36),0),\"\")","v":5},"07/19/17","Calc.","Calc.","Calc.","Calc.","Calc.",null,null,null,null,null,null,"06/15/16","06/01/16","05/25/16","05/18/16","05/11/16","x"]
[null,"x",null,null,null,null,null,null,null,null,null,null,null,null,null,null,46,42,42,42,42,42,null,null,null,null,null,null,50,44,49,47,54,"x"]
[null,"07/19/17",5,"Front",7,5,7,3,4,5,5,4,6,46]
[]
["RGL-004B","x",null,null,null,null,null,null,null,null,null,null,null,null,null,null,null,null,null,null,null,null,null,null,null,null,null,null,null,null,null,null,null,"x"]
[null,"x",null,null,null,null,null,null,null,null,null,null,null,null,null,null,null,null,null,null,null,null,null,null,null,null,null,null,null,null,null,null,null,"x"]
[]
["RGL-005F",5,null,null,null,null,null,null,null,null,null,null,null,null,53,{"$f":"IF(Q60<>\"\",ROUND($P$13*(AVERAGE(Q60:U60)-36),0),\"\")","v":10},"08/23/17","08/16/17","08/09/17","07/26/17","07/19/17","07/12/17","06/28/17","06/14/17","06/07/17","05/31/17","05/24/17","05/17/17","05/10/17","05/03/17","08/31/16","08/24/16","08/17/16","x"]
[null,"x",null,null,null,null,null,null,null,null,null,null,null,null,null,null,53,49,44,45,49,43,44,50,44,41,50,49,49,47,48,42,48,"x"]
[null,"05/10/17",8,"Front",7,6,8,4,4,4,8,4,4,49]
[null,"05/24/17",9,"Front",8,6,6,4,5,4,8,4,5,50]
[null,"06/07/17",9,"Front",6,6,5,5,4,4,5,3,6,44]
[null,"07/19/17",7,"Front",5,7,8,4,6,4,7,3,5,49]
[null,"08/16/17",7,"Front",8,5,7,6,6,4,5,3,5,49]
[]
["RGL-005B",9,null,null,null,null,null,null,null,null,null,null,null,null,null,null,null,null,null,null,null,null,null,null,null,null,null,null,null,null,null,null,null,"x"]
[null,"x",null,null,null,null,null,null,null,null,null,null,null,null,null,null,null,null,null,null,null,null,null,null,null,null,null,null,null,null,null,null,null,"x"]
[null,"05/03/17",9,"Back",9,5,5,4,4,5,5,5,5,47,null,null,null,null,null,null,null,null,null,null,null,null,null,null,null,null,null,null,null,""]
[null,"05/17/17",9,"Back",5,6,6,8,4,8,3,5,4,49]
[null,"05/31/17",10,"Back",4,5,4,5,4,6,5,2,6,41]
[null,"06/14/17",8,"Back",6,4,7,9,3,5,3,6,7,50]
[null,"06/28/17",9,"Back",4,6,5,7,3,6,4,3,6,44]
[null,"07/12/17",8,"Back",5,6,5,5,4,4,4,4,6,43]
[null,"07/26/17",8,"Back",5,5,4,6,4,5,4,6,6,45]
[null,"08/09/17",8,"Back",5,4,5,7,5,5,3,5,5,44]
[null,"08/23/17",8,"Back",6,5,6,8,4,6,5,5,8,53]
[]
["RGL-006F",7,null,null,null,null,null,null,null,null,null,null,null,null,45,{"$f":"IF(Q80<>\"\",ROUND($P$13*(AVERAGE(Q80:U80)-36),0),\"\")","v":6},"08/23/17","08/16/17","08/09/17","07/26/17","07/19/17","07/12/17","07/05/17","06/28/17","06/21/17","06/14/17","06/07/17","05/31/17","05/24/17","05/17/17","05/10/17","05/03/17","08/31/16","x"]
[null,"x",null,null,null,null,null,null,null,null,null,null,null,null,null,null,45,44,42,44,40,42,47,39,47,41,44,44,47,49,45,44,45,"x"]
[null,"05/10/17",6,"Front",5,4,6,6,5,5,5,4,5,45]
[null,"05/24/17",7,"Front",7,4,6,4,4,4,8,5,5,47]
[null,"06/07/17",8,"Front",7,5,5,5,4,3,5,4,6,44]
[null,"06/21/17",7,"Front",7,6,6,5,6,4,6,4,3,47]
[null,"07/05/17",6,"Front",7,4,7,5,5,4,6,3,6,47]
[null,"07/19/17",6,"Front",6,5,7,3,4,4,5,3,3,40]
[null,"08/16/17",6,"Front",6,6,6,6,4,3,5,4,4,44]
[]
["RGL-006B",9,null,null,null,null,null,null,null,null,null,null,null,null,null,null,null,null,null,null,null,null,null,null,null,null,null,null,null,null,null,null,null,"x"]
[null,"x",null,null,null,null,null,null,null,null,null,null,null,null,null,null,null,null,null,null,null,null,null,null,null,null,null,null,null,null,null,null,null,"x"]
[null,"05/03/17",6,"Back",5,6,6,7,5,5,3,4,3,44,null,null,null,null,null,null,null,null,null,null,null,null,null,null,null,null,null,null,null,""]
[null,"05/17/17",6,"Back",8,6,4,7,5,5,4,4,6,49]
[null,"05/31/17",8,"Back",6,5,6,5,4,3,3,6,6,44]
[null,"06/14/17",8,"Back",4,6,6,5,4,4,3,5,4,41]
[null,"06/28/17",7,"Back",5,5,4,5,3,4,3,5,5,39]
[null,"07/12/17",6,"Back",6,4,3,6,4,4,4,6,5,42]
[null,"07/26/17",6,"Back",5,3,4,7,5,6,5,5,4,44]
[null,"08/09/17",5,"Back",6,5,4,8,5,4,3,3,4,42]
[null,"08/23/17",5,"Back",6,6,4,5,4,4,4,7,5,45]
[]
["RGL-007F",6,null,null,null,null,null,null,null,null,null,null,null,null,46,{"$f":"IF(Q102<>\"\",ROUND($P$13*(AVERAGE(Q102:U102)-36),0),\"\")","v":10},"07/19/17","07/12/17","07/05/17","06/28/17","06/21/17","06/14/17","06/07/17","05/31/17","05/24/17","05/17/17","05/10/17","05/03/17","08/31/16","08/24/16","08/17/16","08/03/16","07/27/16","x"]
[null,"x",null,null,null,null,null,null,null,null,null,null,null,null,null,null,46,49,52,45,48,45,46,42,43,49,43,45,45,43,47,47,41,"x"]
[null,"05/10/17",8,"Front",6,4,5,4,5,3,7,4,5,43]
[null,"05/24/17",7,"Front",6,4,7,5,4,3,5,4,5,43]
[null,"06/07/17",7,"Front",7,5,4,4,6,4,7,2,7,46]
[null,"06/21/17",7,"Front",6,4,7,5,6,5,5,5,5,48]
[null,"07/05/17",7,"Front",8,7,6,5,4,5,5,6,6,52]
[null,"07/19/17",9,"Front",7,6,6,6,4,4,6,4,3,46]
[]
["RGL-007B",6,null,null,null,null,null,null,null,null,null,null,null,null,null,null,null,null,null,null,null,null,null,null,null,null,null,null,null,null,null,null,null,"x"]
[null,"x",null,null,null,null,null,null,null,null,null,null,null,null,null,null,null,null,null,null,null,null,null,null,null,null,null,null,null,null,null,null,null,"x"]
[null,"05/03/17",7,"Back",7,5,5,6,3,5,5,3,6,45,null,null,null,null,null,null,null,null,null,null,null,null,null,null,null,null,null,null,null,""]
[null,"05/17/17",7,"Back",6,5,5,7,5,5,4,5,7,49]
[null,"05/31/17",7,"Back",7,5,5,6,3,4,4,4,4,42]
[null,"06/14/17",7,"Back",5,5,5,6,3,6,4,5,6,45]
[null,"06/28/17",7,"Back",5,5,4,6,5,5,3,6,6,45]
[null,"07/12/17",9,"Back",6,7,4,6,4,5,5,7,5,49]
[]
["RGL-008F",1,null,null,null,null,null,null,null,null,null,null,null,null,49,{"$f":"IF(Q120<>\"\",ROUND($P$13*(AVERAGE(Q120:U120)-36),0),\"\")","v":7},"08/23/17","07/26/17","06/21/17","2015-09-02","2015-08-26","2015-08-19","2015-08-12","2015-08-05",null,null,null,null,null,null,null,null,null,"x"]
[null,"x",null,null,null,null,null,null,null,null,null,null,null,null,null,null,49,42,43,45,42,39,49,47,null,null,null,null,null,null,null,null,null,"x"]
[null,"06/21/17",7,"Front",4,5,5,6,4,3,7,4,5,43,null,null,null,null,null,null,null,null,null,null,null,null,null,null,null,null,null,null,null,""]
[]
["RGL-008B",2,null,null,null,null,null,null,null,null,null,null,null,null,null,null,null,null,null,null,null,null,null,null,null,null,null,null,null,null,null,null,null,"x"]
[null,"x",null,null,null,null,null,null,null,null,null,null,null,null,null,null,null,null,null,null,null,null,null,null,null,null,null,null,null,null,null,null,null,"x"]
[null,"07/26/17",6,"Back",6,5,3,7,4,3,4,5,5,42,null,null,null,null,null,null,null,null,null,null,null,null,null,null,null,null,null,null,null,""]
[null,"08/23/17",5,"Back",8,5,6,8,2,6,5,4,5,49]
[]
["RGL-009F",7,null,null,null,null,null,null,null,null,null,null,null,null,50,{"$f":"IF(Q129<>\"\",ROUND($P$13*(AVERAGE(Q129:U129)-36),0),\"\")","v":9},"08/23/17","08/16/17","08/09/17","07/26/17","07/19/17","07/12/17","07/05/17","06/28/17","06/21/17","06/07/17","05/31/17","05/24/17","05/17/17","05/10/17","05/03/17","08/24/16","08/17/16","x"]
[null,"x",null,null,null,null,null,null,null,null,null,null,null,null,null,null,50,50,46,46,47,45,42,42,49,45,45,48,49,46,47,40,44,"x"]
[null,"05/10/17",6,"Front",6,5,7,4,4,4,7,5,4,46]
[null,"05/24/17",7,"Front",10,2,7,6,5,2,7,4,5,48]
[null,"06/07/17",9,"Front",6,5,5,5,5,4,7,3,5,45]
[null,"06/21/17",8,"Front",9,5,7,5,4,4,6,4,5,49]
[null,"07/05/17",8,"Front",7,5,6,3,4,3,6,3,5,42]
[null,"07/19/17",7,"Front",7,7,5,4,5,4,6,4,5,47]
[null,"08/16/17",7,"Front",6,6,6,6,5,5,7,4,5,50]
[]
["RGL-009B",8,null,null,null,null,null,null,null,null,null,null,null,null,null,null,null,null,null,null,null,null,null,null,null,null,null,null,null,null,null,null,null,"x"]
[null,"x",null,null,null,null,null,null,null,null,null,null,null,null,null,null,null,null,null,null,null,null,null,null,null,null,null,null,null,null,null,null,null,"x"]
[null,"05/03/17",6,"Back",6,4,6,7,5,6,4,5,4,47,null,null,null,null,null,null,null,null,null,null,null,null,null,null,null,null,null,null,null,""]
[null,"05/17/17",6,"Back",7,5,5,7,4,5,5,5,6,49]
[null,"05/31/17",8,"Back",5,7,3,6,6,4,4,5,5,45]
[null,"06/28/17",9,"Back",5,5,5,5,3,4,3,7,5,42]
[null,"07/12/17",7,"Back",6,6,6,5,5,6,4,3,4,45]
[null,"07/26/17",7,"Back",5,5,4,5,4,5,5,6,7,46]
[null,"08/09/17",7,"Back",6,6,5,7,4,3,6,4,5,46]
[null,"08/23/17",9,"Back",7,5,7,6,5,5,5,4,6,50]
[]
["RGL-010F",6,null,null,null,null,null,null,null,null,null,null,null,null,60,{"$f":"IF(Q150<>\"\",ROUND($P$13*(AVERAGE(Q150:U150)-36),0),\"\")","v":15},"08/23/17","08/16/17","08/09/17","07/26/17","07/19/17","07/12/17","07/05/17","06/28/17","06/21/17","06/14/17","06/07/17","05/31/17","05/17/17","05/10/17","05/03/17","08/31/16","08/24/16","x"]
[null,"x",null,null,null,null,null,null,null,null,null,null,null,null,null,null,60,54,57,51,54,57,57,57,58,61,61,49,58,60,57,58,56,"x"]
[null,"05/10/17",17,"Front",9,4,10,8,6,4,7,5,7,60]
[null,"06/07/17",16,"Front",10,8,9,7,6,3,8,4,6,61]
[null,"06/21/17",17,"Front",7,7,7,5,6,5,8,5,8,58]
[null,"07/05/17",17,"Front",8,8,7,6,6,6,7,5,4,57]
[null,"07/19/17",18,"Front",8,6,7,6,6,3,6,4,8,54]
[null,"08/16/17",15,"Front",6,6,7,5,6,5,7,4,8,54]
[]
["RGL-010B",9,null,null,null,null,null,null,null,null,null,null,null,null,null,null,null,null,null,null,null,null,null,null,null,null,null,null,null,null,null,null,null,"x"]
[null,"x",null,null,null,null,null,null,null,null,null,null,null,null,null,null,null,null,null,null,null,null,null,null,null,null,null,null,null,null,null,null,null,"x"]
[null,"05/03/17",16,"Back",7,8,8,7,5,6,5,5,6,57,null,null,null,null,null,null,null,null,null,null,null,null,null,null,null,null,null,null,null,""]
[null,"05/17/17",17,"Back",7,7,8,9,5,6,5,5,6,58]
[null,"05/31/17",17,"Back",4,6,5,7,4,7,4,4,8,49]
[null,"06/14/17",17,"Back",7,6,8,9,6,7,6,5,7,61]
[null,"06/28/17",17,"Back",8,8,6,5,6,8,5,5,6,57]
[null,"07/12/17",18,"Back",7,7,8,6,5,8,6,5,5,57]
[null,"07/26/17",16,"Back",7,5,5,5,4,8,4,7,6,51]
[null,"08/09/17",15,"Back",9,8,8,6,4,7,6,4,5,57]
[null,"08/23/17",15,"Back",8,8,7,8,4,6,6,7,6,60]
[]
["RGL-011F","1900-01-01",null,null,null,null,null,null,null,null,null,null,null,null,47,{"$f":"IF(Q171<>\"\",ROUND($P$13*(AVERAGE(Q171:U171)-36),0),\"\")","v":6},"06/21/17","2015-08-26","2015-05-06","2013-07-24","2011-07-13","2010-08-04","Calc.","Calc.","Calc.",null,null,null,null,null,null,null,null,"x"]
[null,"x",null,null,null,null,null,null,null,null,null,null,null,null,null,null,47,41,43,43,41,34,36,36,36,null,null,null,null,null,null,null,null,"x"]
[null,"06/21/17",4,"Front",7,6,7,5,5,3,6,5,3,47,null,null,null,null,null,null,null,null,null,null,null,null,null,null,null,null,null,null,null,""]
[]
["RGL-011B","x",null,null,null,null,null,null,null,null,null,null,null,null,null,null,null,null,null,null,null,null,null,null,null,null,null,null,null,null,null,null,null,"x"]
[null,"x",null,null,null,null,null,null,null,null,null,null,null,null,null,null,null,null,null,null,null,null,null,null,null,null,null,null,null,null,null,null,null,"x"]
[null,"",null,null,null,null,null,null,null,null,null,null,null,null,null,null,null,null,null,null,null,null,null,null,null,null,null,null,null,null,null,null,null,""]
["RGL-012F","x",null,null,null,null,null,null,null,null,null,null,null,null,58,{"$f":"IF(Q178<>\"\",ROUND($P$13*(AVERAGE(Q178:U178)-36),0),\"\")","v":15},"07/06/16","Calc","Calc","Calc","Calc","Calc",null,null,null,null,null,null,null,null,null,null,null,"x"]
[null,"x",null,null,null,null,null,null,null,null,null,null,null,null,null,null,58,54,54,54,54,54,null,null,null,null,null,null,null,null,null,null,null,"x"]
[]
["RGL-012B","x",null,null,null,null,null,null,null,null,null,null,null,null,null,null,null,null,null,null,null,null,null,null,null,null,null,null,null,null,null,null,null,"x"]
[null,"x",null,null,null,null,null,null,null,null,null,null,null,null,null,null,null,null,null,null,null,null,null,null,null,null,null,null,null,null,null,null,null,"x"]
[null,"",null,null,null,null,null,null,null,null,null,null,null,null,null,null,null,null,null,null,null,null,null,null,null,null,null,null,null,null,null,null,null,""]
["RGL-013F","1900-01-07",null,null,null,null,null,null,null,null,null,null,null,null,49,{"$f":"IF(Q184<>\"\",ROUND($P$13*(AVERAGE(Q184:U184)-36),0),\"\")","v":11},"08/23/17","08/16/17","08/09/17","07/26/17","07/19/17","07/12/17","07/05/17","06/28/17","06/21/17","06/14/17","06/07/17","05/31/17","05/24/17","05/17/17","05/10/17","05/03/17","Calc","x"]
[null,"x",null,null,null,null,null,null,null,null,null,null,null,null,null,null,49,54,52,44,49,49,48,51,53,52,50,55,51,57,57,58,47,"x"]
[null,"05/10/17",11,"Front",6,7,9,7,6,5,8,5,4,57,null,null,null,null,null,null,null,null,null,null,null,null,null,null,null,null,null,null,null,""]
[null,"05/24/17",14,"Front",8,4,8,7,4,4,6,4,6,51]
[null,"06/07/17",16,"Front",10,6,6,5,6,3,7,3,4,50]
[null,"06/21/17",14,"Front",8,5,8,6,5,4,8,5,4,53]
[null,"07/05/17",13,"Front",5,7,8,6,4,5,7,3,3,48]
[null,"07/19/17",12,"Front",8,4,6,5,5,4,7,5,5,49]
[null,"08/16/17",10,"Front",6,7,6,6,5,5,7,6,6,54]
[]
["RGL-013B",9,null,null,null,null,null,null,null,null,null,null,null,null,null,null,null,null,null,null,null,null,null,null,null,null,null,null,null,null,null,null,null,"x"]
[null,"x",null,null,null,null,null,null,null,null,null,null,null,null,null,null,null,null,null,null,null,null,null,null,null,null,null,null,null,null,null,null,null,"x"]
[null,"05/03/17",9,"Back",10,6,4,8,5,7,6,6,6,58,null,null,null,null,null,null,null,null,null,null,null,null,null,null,null,null,null,null,null,""]
[null,"05/17/17",12,"Back",8,7,8,8,6,5,5,3,7,57]
[null,"05/31/17",14,"Back",7,8,4,8,4,6,3,8,7,55]
[null,"06/14/17",14,"Back",6,4,6,7,4,8,4,6,7,52]
[null,"06/28/17",13,"Back",7,8,4,6,4,6,4,7,5,51]
[null,"07/12/17",12,"Back",6,7,4,9,5,4,5,4,5,49]
[null,"07/26/17",11,"Back",6,5,6,6,4,4,3,5,5,44]
[null,"08/09/17",10,"Back",7,5,6,7,5,5,4,6,7,52]
[null,"08/23/17",11,"Back",4,7,6,8,5,5,4,6,4,49]
[]
["RGL-014F",7,null,null,null,null,null,null,null,null,null,null,null,null,54,{"$f":"IF(Q206<>\"\",ROUND($P$13*(AVERAGE(Q206:U206)-36),0),\"\")","v":14},"08/16/17","08/09/17","07/19/17","07/05/17","06/21/17","06/14/17","06/07/17","05/31/17","05/24/17","05/17/17","05/10/17","05/03/17","08/31/16","08/24/16","08/17/16","08/10/16","08/03/16","x"]
[null,"x",null,null,null,null,null,null,null,null,null,null,null,null,null,null,54,48,56,59,49,47,43,44,49,48,45,44,49,52,45,40,49,"x"]
[null,"05/10/17",8,"Front",8,6,4,5,4,3,6,5,4,45]
[null,"05/24/17",9,"Front",8,4,8,4,5,4,8,4,4,49]
[null,"06/07/17",8,"Front",5,4,7,4,4,3,7,4,5,43]
[null,"06/21/17",8,"Front",8,5,6,5,3,3,8,5,6,49]
[null,"07/05/17",8,"Front",10,5,10,6,5,5,8,4,6,59]
[null,"07/19/17",10,"Front",7,5,8,6,6,4,7,5,8,56]
[null,"08/16/17",13,"Front",6,7,9,8,5,4,6,4,5,54]
[]
["RGL-014B",5,null,null,null,null,null,null,null,null,null,null,null,null,null,null,null,null,null,null,null,null,null,null,null,null,null,null,null,null,null,null,null,"x"]
[null,"x",null,null,null,null,null,null,null,null,null,null,null,null,null,null,null,null,null,null,null,null,null,null,null,null,null,null,null,null,null,null,null,"x"]
[null,"05/03/17",9,"Back",5,6,5,7,4,5,3,4,5,44,null,null,null,null,null,null,null,null,null,null,null,null,null,null,null,null,null,null,null,""]
[null,"05/17/17",9,"Back",5,4,6,9,6,4,4,5,5,48]
[null,"05/31/17",9,"Back",5,3,4,8,4,6,5,3,6,44]
[null,"06/14/17",8,"Back",5,6,4,9,4,5,5,4,5,47]
[null,"08/09/17",12,"Back",4,6,5,6,6,5,6,5,5,48]
[]
["RGL-015F",5,null,null,null,null,null,null,null,null,null,null,null,null,62,{"$f":"IF(Q224<>\"\",ROUND($P$13*(AVERAGE(Q224:U224)-36),0),\"\")","v":16},"08/23/17","08/16/17","08/09/17","07/26/17","07/19/17","07/12/17","07/05/17","06/28/17","06/14/17","06/07/17","05/31/17","05/24/17","05/17/17","05/03/17","08/31/16","08/24/16","08/17/16","x"]
[null,"x",null,null,null,null,null,null,null,null,null,null,null,null,null,null,62,54,53,56,54,49,59,57,47,53,52,52,54,52,57,54,58,"x"]
[null,"05/24/17",15,"Front",10,5,6,4,5,4,8,2,8,52]
[null,"06/07/17",14,"Front",10,6,6,5,4,5,8,3,6,53]
[null,"07/05/17",13,"Front",8,6,10,5,5,4,7,6,8,59]
[null,"07/19/17",14,"Front",9,5,6,6,5,4,8,4,7,54]
[null,"08/16/17",15,"Front",10,8,8,4,5,3,5,5,6,54]
[]
["RGL-015B",9,null,null,null,null,null,null,null,null,null,null,null,null,null,null,null,null,null,null,null,null,null,null,null,null,null,null,null,null,null,null,null,"x"]
[null,"x",null,null,null,null,null,null,null,null,null,null,null,null,null,null,null,null,null,null,null,null,null,null,null,null,null,null,null,null,null,null,null,"x"]
[null,"05/03/17",17,"Back",8,6,6,6,6,4,4,5,7,52]
[null,"05/17/17",15,"Back",8,7,8,8,6,3,5,5,4,54]
[null,"05/31/17",14,"Back",8,6,7,7,4,4,5,4,7,52]
[null,"06/14/17",13,"Back",5,5,8,7,4,5,2,5,6,47]
[null,"06/28/17",12,"Back",7,7,7,8,6,6,6,4,6,57]
[null,"07/12/17",14,"Back",8,5,5,5,4,5,6,4,7,49]
[null,"07/26/17",14,"Back",8,6,8,6,4,8,6,5,5,56]
[null,"08/09/17",15,"Back",6,6,4,8,5,4,6,6,8,53]
[null,"08/23/17",14,"Back",10,6,8,9,4,5,5,7,8,62]
[]
["RGL-016F",6,null,null,null,null,null,null,null,null,null,null,null,null,50,{"$f":"IF(Q244<>\"\",ROUND($P$13*(AVERAGE(Q244:U244)-36),0),\"\")","v":11},"08/23/17","08/16/17","08/09/17","07/26/17","07/19/17","07/12/17","06/28/17","06/21/17","06/14/17","06/07/17","05/31/17","05/24/17","05/17/17","05/10/17","05/03/17","08/31/16","08/24/16","x"]
[null,"x",null,null,null,null,null,null,null,null,null,null,null,null,null,null,50,52,55,41,53,49,45,43,51,50,55,53,45,56,50,51,57,"x"]
[null,"05/10/17",12,"Front",8,6,9,5,5,4,7,4,8,56]
[null,"05/24/17",13,"Front",6,6,8,5,5,4,7,4,8,53]
[null,"06/07/17",13,"Front",6,5,10,6,6,3,6,4,4,50]
[null,"06/21/17",12,"Front",5,5,6,6,4,4,5,4,4,43]
[null,"07/19/17",9,"Front",7,8,6,6,6,4,5,5,6,53]
[null,"08/16/17",10,"Front",8,5,7,7,4,3,6,6,6,52]
[]
["RGL-016B",9,null,null,null,null,null,null,null,null,null,null,null,null,null,null,null,null,null,null,null,null,null,null,null,null,null,null,null,null,null,null,null,"x"]
[null,"x",null,null,null,null,null,null,null,null,null,null,null,null,null,null,null,null,null,null,null,null,null,null,null,null,null,null,null,null,null,null,null,"x"]
[null,"05/03/17",12,"Back",7,8,6,5,4,6,4,4,6,50,null,null,null,null,null,null,null,null,null,null,null,null,null,null,null,null,null,null,null,""]
[null,"05/17/17",14,"Back",4,5,6,7,4,5,4,4,6,45]
[null,"05/31/17",12,"Back",5,5,7,10,4,8,6,4,6,55]
[null,"06/14/17",13,"Back",7,6,5,6,3,6,4,6,8,51]
[null,"06/28/17",12,"Back",4,6,6,6,4,4,4,6,5,45]
[null,"07/12/17",10,"Back",6,6,7,5,5,6,5,4,5,49]
[null,"07/26/17",10,"Back",5,5,3,5,2,5,4,6,6,41]
[null,"08/09/17",8,"Back",6,6,4,9,6,6,6,6,6,55]
[null,"08/23/17",11,"Back",6,6,8,8,4,4,5,4,5,50]
[]
["RGL-017F","x",null,null,null,null,null,null,null,null,null,null,null,null,43,{"$f":"IF(Q265<>\"\",ROUND($P$13*(AVERAGE(Q265:U265)-36),0),\"\")","v":1},"06/15/16","Calc","Calc","Calc","Calc","Calc",null,null,null,null,null,null,null,null,null,null,null,"x"]
[null,"x",null,null,null,null,null,null,null,null,null,null,null,null,null,null,43,36,36,36,36,36,null,null,null,null,null,null,null,null,null,null,null,"x"]
[null,"",null,null,null,null,null,null,null,null,null,null,null,null,null,null,null,null,null,null,null,null,null,null,null,null,null,null,null,null,null,null,null,""]
["RGL-017B","x",null,null,null,null,null,null,null,null,null,null,null,null,null,null,null,null,null,null,null,null,null,null,null,null,null,null,null,null,null,null,null,"x"]
[null,"x",null,null,null,null,null,null,null,null,null,null,null,null,null,null,null,null,null,null,null,null,null,null,null,null,null,null,null,null,null,null,null,"x"]
[]
["RGL-018F","x",null,null,null,null,null,null,null,null,null,null,null,null,43,{"$f":"IF(Q271<>\"\",ROUND($P$13*(AVERAGE(Q271:U271)-36),0),\"\")","v":5},"08/31/16","06/01/16","2015-08-26","2015-06-24","2015-06-03","2015-05-27","2013-08-28","2013-08-21","2013-08-14","2013-07-31","2013-07-24","2013-07-17",null,null,null,null,null,"x"]
[null,"x",null,null,null,null,null,null,null,null,null,null,null,null,null,null,43,42,43,40,46,46,40,40,46,39,39,42,null,null,null,null,null,"x"]
[]
["RGL-018B","x",null,null,null,null,null,null,null,null,null,null,null,null,null,null,null,null,null,null,null,null,null,null,null,null,null,null,null,null,null,null,null,"x"]
[null,"x",null,null,null,null,null,null,null,null,null,null,null,null,null,null,null,null,null,null,null,null,null,null,null,null,null,null,null,null,null,null,null,"x"]
[]
["RGL-019F",6,null,null,null,null,null,null,null,null,null,null,null,null,48,{"$f":"IF(Q277<>\"\",ROUND($P$13*(AVERAGE(Q277:U277)-36),0),\"\")","v":8},"08/23/17","08/16/17","08/09/17","07/19/17","07/12/17","07/05/17","06/28/17","06/21/17","06/14/17","06/07/17","05/31/17","05/17/17","05/10/17","05/03/17","08/31/16","08/24/16","08/17/16","x"]
[null,"x",null,null,null,null,null,null,null,null,null,null,null,null,null,null,48,48,47,47,43,46,52,48,43,45,51,43,44,46,50,46,50,"x"]
[null,"05/10/17",9,"Front",6,5,7,5,7,3,4,3,4,44]
[null,"06/07/17",9,"Front",6,4,7,5,4,5,6,3,5,45]
[null,"06/21/17",7,"Front",9,6,7,5,3,2,8,3,5,48]
[null,"07/05/17",9,"Front",7,4,7,4,3,4,8,4,5,46]
[null,"07/19/17",8,"Front",9,4,5,5,4,4,8,4,4,47]
[null,"08/16/17",9,"Front",6,5,5,7,5,4,5,3,8,48]
[]
["RGL-019B",8,null,null,null,null,null,null,null,null,null,null,null,null,null,null,null,null,null,null,null,null,null,null,null,null,null,null,null,null,null,null,null,"x"]
[null,"x",null,null,null,null,null,null,null,null,null,null,null,null,null,null,null,null,null,null,null,null,null,null,null,null,null,null,null,null,null,null,null,"x"]
[null,"05/03/17",10,"Back",5,6,6,7,4,4,5,5,4,46,null,null,null,null,null,null,null,null,null,null,null,null,null,null,null,null,null,null,null,""]
[null,"05/17/17",9,"Back",6,6,5,6,3,4,4,4,5,43]
[null,"05/31/17",8,"Back",7,5,7,7,4,7,5,4,5,51]
[null,"06/14/17",8,"Back",6,5,6,4,4,6,2,4,6,43]
[null,"06/28/17",8,"Back",5,6,8,7,3,6,5,6,6,52]
[null,"07/12/17",9,"Back",4,5,5,5,4,5,5,4,6,43]
[null,"08/09/17",9,"Back",6,5,6,7,4,6,3,4,6,47]
[null,"08/23/17",8,"Back",7,5,4,7,4,7,3,5,6,48]
[]
["RGL-020F",6,null,null,null,null,null,null,null,null,null,null,null,null,44,{"$f":"IF(Q297<>\"\",ROUND($P$13*(AVERAGE(Q297:U297)-36),0),\"\")","v":8},"08/23/17","08/16/17","08/09/17","07/26/17","07/19/17","07/12/17","07/05/17","06/28/17","06/21/17","06/14/17","06/07/17","05/31/17","05/17/17","05/10/17","05/03/17","08/31/16","08/24/16","x"]
[null,"x",null,null,null,null,null,null,null,null,null,null,null,null,null,null,44,46,48,45,49,41,50,42,51,49,50,48,45,54,47,48,49,"x"]
[null,"05/10/17",9,"Front",7,6,9,5,5,4,7,5,6,54]
[null,"06/07/17",10,"Front",9,4,6,8,5,3,6,3,6,50]
[null,"06/21/17",11,"Front",6,7,6,6,4,5,8,5,4,51]
[null,"07/05/17",10,"Front",7,5,6,5,5,5,8,3,6,50]
[null,"07/19/17",8,"Front",9,5,5,6,4,3,6,4,7,49]
[null,"08/16/17",8,"Front",7,5,8,5,4,3,5,4,5,46]
[]
["RGL-020B",9,null,null,null,null,null,null,null,null,null,null,null,null,null,null,null,null,null,null,null,null,null,null,null,null,null,null,null,null,null,null,null,"x"]
[null,"x",null,null,null,null,null,null,null,null,null,null,null,null,null,null,null,null,null,null,null,null,null,null,null,null,null,null,null,null,null,null,null,"x"]
[null,"05/03/17",9,"Back",5,4,8,8,4,5,3,5,5,47,null,null,null,null,null,null,null,null,null,null,null,null,null,null,null,null,null,null,null,""]
[null,"05/17/17",10,"Back",4,5,6,8,3,5,5,5,4,45]
[null,"05/31/17",10,"Back",6,5,8,6,6,4,3,5,5,48]
[null,"06/14/17",10,"Back",6,4,6,7,3,6,5,7,5,49]
[null,"06/28/17",10,"Back",6,5,6,5,3,3,4,5,5,42]
[null,"07/12/17",10,"Back",6,4,5,6,3,4,3,4,6,41]
[null,"07/26/17",8,"Back",5,5,5,5,5,6,3,4,7,45]
[null,"08/09/17",8,"Back",6,5,6,6,4,5,6,5,5,48]
[null,"08/23/17",8,"Back",6,5,7,6,3,4,3,5,5,44]
[]
["RGL-021F",7,null,null,null,null,null,null,null,null,null,null,null,null,62,{"$f":"IF(Q318<>\"\",ROUND($P$13*(AVERAGE(Q318:U318)-36),0),\"\")","v":18},"08/16/17","08/09/17","07/26/17","07/19/17","07/05/17","06/28/17","06/21/17","06/14/17","06/07/17","05/31/17","05/24/17","05/17/17","05/10/17","05/03/17","08/31/16","08/24/16","08/17/16","x"]
[null,"x",null,null,null,null,null,null,null,null,null,null,null,null,null,null,62,54,60,60,55,51,57,50,62,50,61,56,58,58,59,53,55,"x"]
[null,"05/10/17",16,"Front",9,6,9,6,6,4,8,3,7,58]
[null,"05/24/17",17,"Front",10,8,10,6,6,4,7,5,5,61]
[null,"06/07/17",16,"Front",8,7,10,8,7,4,4,6,8,62]
[null,"06/21/17",16,"Front",8,6,9,8,5,4,7,4,6,57]
[null,"07/05/17",14,"Front",10,5,7,6,6,5,8,3,5,55]
[null,"07/19/17",15,"Front",6,8,8,7,6,5,8,5,7,60]
[null,"08/16/17",16,"Front",8,8,8,7,6,5,8,5,7,62]
[]
[]
["RGL-021B",7,null,null,null,null,null,null,null,null,null,null,null,null,null,null,null,null,null,null,null,null,null,null,null,null,null,null,null,null,null,null,null,"x"]
[null,"x",null,null,null,null,null,null,null,null,null,null,null,null,null,null,null,null,null,null,null,null,null,null,null,null,null,null,null,null,null,null,null,"x"]
[null,"05/03/17",16,"Back",7,5,8,9,5,7,6,6,5,58,null,null,null,null,null,null,null,null,null,null,null,null,null,null,null,null,null,null,null,""]
[null,"05/17/17",16,"Back",7,8,6,7,5,6,5,6,6,56]
[null,"05/31/17",18,"Back",6,7,5,7,4,7,5,5,4,50]
[null,"06/14/17",17,"Back",7,5,6,6,5,5,4,6,6,50]
[null,"06/28/17",16,"Back",5,7,7,6,6,6,5,4,5,51]
[null,"07/26/17",15,"Back",8,8,7,6,5,8,5,6,7,60]
[null,"08/09/17",16,"Back",6,7,7,6,4,8,4,6,6,54]
[]
["RGL-022F",7,null,null,null,null,null,null,null,null,null,null,null,null,39,{"$f":"IF(Q339<>\"\",ROUND($P$13*(AVERAGE(Q339:U339)-36),0),\"\")","v":5},"08/23/17","08/16/17","08/09/17","07/26/17","07/19/17","07/12/17","07/05/17","06/28/17","06/21/17","06/14/17","06/07/17","05/31/17","05/24/17","05/17/17","05/10/17","05/03/17","08/31/16","x"]
[null,"x",null,null,null,null,null,null,null,null,null,null,null,null,null,null,39,46,44,41,44,46,48,45,43,42,49,49,48,44,46,49,44,"x"]
[null,"05/10/17",8,"Front",6,5,6,5,6,4,7,3,4,46]
[null,"05/24/17",7,"Front",9,6,6,4,4,3,7,4,5,48]
[null,"06/07/17",9,"Front",7,5,6,5,4,3,8,6,5,49]
[null,"06/21/17",8,"Front",7,4,6,5,5,4,5,3,4,43]
[null,"07/05/17",8,"Front",8,6,6,4,4,4,6,4,6,48]
[null,"07/19/17",7,"Front",6,5,7,4,4,4,4,5,5,44]
[null,"08/16/17",7,"Front",9,4,6,5,4,4,5,5,4,46]
[]
["RGL-022B",9,null,null,null,null,null,null,null,null,null,null,null,null,null,null,null,null,null,null,null,null,null,null,null,null,null,null,null,null,null,null,null,"x"]
[null,"x",null,null,null,null,null,null,null,null,null,null,null,null,null,null,null,null,null,null,null,null,null,null,null,null,null,null,null,null,null,null,null,"x"]
[null,"05/03/17",7,"Back",7,5,6,6,5,6,4,5,5,49,null,null,null,null,null,null,null,null,null,null,null,null,null,null,null,null,null,null,null,""]
[null,"05/17/17",7,"Back",5,7,4,6,4,4,3,5,6,44]
[null,"05/31/17",8,"Back",10,4,6,6,5,4,4,6,4,49]
[null,"06/14/17",9,"Back",6,4,4,6,3,4,5,4,6,42]
[null,"06/28/17",8,"Back",7,4,5,5,4,5,4,5,6,45]
[null,"07/12/17",8,"Back",6,6,6,4,5,5,4,5,5,46]
[null,"07/26/17",7,"Back",6,4,4,5,4,6,3,4,5,41]
[null,"08/09/17",7,"Back",7,5,6,6,3,3,3,6,5,44]
[null,"08/23/17",7,"Back",6,4,4,3,4,5,2,5,6,39]
[]
["RGL-023F",6,null,null,null,null,null,null,null,null,null,null,null,null,42,{"$f":"IF(Q361<>\"\",ROUND($P$13*(AVERAGE(Q361:U361)-36),0),\"\")","v":8},"08/23/17","08/16/17","08/09/17","07/26/17","07/19/17","07/12/17","07/05/17","06/28/17","06/21/17","06/14/17","06/07/17","05/31/17","05/17/17","05/10/17","05/03/17","08/31/16","08/24/16","x"]
[null,"x",null,null,null,null,null,null,null,null,null,null,null,null,null,null,42,52,48,42,48,49,50,45,57,53,58,50,49,54,52,52,43,"x"]
[null,"05/10/17",11,"Front",8,5,9,6,5,4,8,4,5,54]
[null,"06/07/17",12,"Front",8,7,8,7,7,4,7,6,4,58]
[null,"06/21/17",13,"Front",7,7,8,6,5,4,8,6,6,57]
[null,"07/05/17",13,"Front",7,6,6,4,4,4,8,6,5,50]
[null,"07/19/17",12,"Front",8,4,7,5,4,4,6,5,5,48]
[null,"08/16/17",9,"Front",8,5,10,4,6,4,5,6,4,52]
[]
["RGL-023B",9,null,null,null,null,null,null,null,null,null,null,null,null,null,null,null,null,null,null,null,null,null,null,null,null,null,null,null,null,null,null,null,"x"]
[null,"x",null,null,null,null,null,null,null,null,null,null,null,null,null,null,null,null,null,null,null,null,null,null,null,null,null,null,null,null,null,null,null,"x"]
[null,"05/03/17",11,"Back",8,5,6,6,6,4,6,5,6,52,null,null,null,null,null,null,null,null,null,null,null,null,null,null,null,null,null,null,null,""]
[null,"05/17/17",12,"Back",4,4,8,5,6,8,6,4,4,49]
[null,"05/31/17",11,"Back",7,6,5,6,6,6,5,5,4,50]
[null,"06/14/17",13,"Back",8,7,7,7,5,6,3,5,5,53]
[null,"06/28/17",14,"Back",8,6,5,5,4,6,6,2,3,45]
[null,"07/12/17",13,"Back",5,5,4,7,5,7,6,4,6,49]
[null,"07/26/17",11,"Back",4,8,4,6,5,5,4,2,4,42]
[null,"08/09/17",9,"Back",6,7,6,7,3,6,5,4,4,48]
[null,"08/23/17",9,"Back",4,5,4,6,4,6,3,4,6,42]
[]
["RGL-024F",7,null,null,null,null,null,null,null,null,null,null,null,null,61,{"$f":"IF(Q382<>\"\",ROUND($P$13*(AVERAGE(Q382:U382)-36),0),\"\")","v":17},"08/23/17","08/16/17","08/09/17","07/26/17","07/19/17","07/12/17","07/05/17","06/28/17","06/21/17","06/14/17","06/07/17","05/31/17","05/24/17","05/17/17","05/10/17","05/03/17","08/31/16","x"]
[null,"x",null,null,null,null,null,null,null,null,null,null,null,null,null,null,61,56,61,57,54,65,60,58,63,54,57,55,60,59,58,64,61,"x"]
[null,"05/10/17",20,"Front",6,7,9,6,7,6,8,4,5,58]
[null,"05/24/17",21,"Front",8,8,8,8,6,4,7,6,5,60]
[null,"06/07/17",19,"Front",10,5,8,6,5,6,8,4,5,57]
[null,"06/21/17",17,"Front",10,8,10,6,8,4,8,4,5,63]
[null,"07/05/17",17,"Front",7,7,9,8,4,5,8,6,6,60]
[null,"07/19/17",19,"Front",6,7,7,8,5,5,7,4,5,54]
[null,"08/16/17",19,"Front",6,6,9,7,6,5,7,5,5,56]
[]
["RGL-024B",9,null,null,null,null,null,null,null,null,null,null,null,null,null,null,null,null,null,null,null,null,null,null,null,null,null,null,null,null,null,null,null,"x"]
[null,"x",null,null,null,null,null,null,null,null,null,null,null,null,null,null,null,null,null,null,null,null,null,null,null,null,null,null,null,null,null,null,null,"x"]
[null,"05/03/17",20,"Back",10,5,8,10,6,8,6,5,6,64,null,null,null,null,null,null,null,null,null,null,null,null,null,null,null,null,null,null,null,""]
[null,"05/17/17",21,"Back",10,5,7,8,4,5,6,8,6,59]
[null,"05/31/17",20,"Back",8,5,8,8,5,6,4,4,7,55]
[null,"06/14/17",17,"Back",8,5,6,8,4,5,6,4,8,54]
[null,"06/28/17",17,"Back",7,7,6,6,5,7,4,8,8,58]
[null,"07/12/17",18,"Back",10,8,7,9,6,5,4,8,8,65]
[null,"07/26/17",19,"Back",8,7,6,8,6,6,4,7,5,57]
[null,"08/09/17",18,"Back",7,8,4,7,6,8,5,8,8,61]
[null,"08/23/17",18,"Back",7,8,8,8,5,8,4,6,7,61]
[]
["RGL-025F",1,null,null,null,null,null,null,null,null,null,null,null,null,50,{"$f":"IF(Q404<>\"\",ROUND($P$13*(AVERAGE(Q404:U404)-36),0),\"\")","v":12},"05/10/17","Calc","Calc","Calc","Calc","Calc",null,null,null,null,null,null,null,null,null,null,null,"x"]
[null,"x",null,null,null,null,null,null,null,null,null,null,null,null,null,null,50,52,52,52,52,52,null,null,null,null,null,null,null,null,null,null,null,"x"]
[null,"05/10/17",13,"Front",4,5,9,7,5,4,8,4,4,50,null,null,null,null,null,null,null,null,null,null,null,null,null,null,null,null,null,null,null,""]
[]
["RGL-025B","x",null,null,null,null,null,null,null,null,null,null,null,null,null,null,null,null,null,null,null,null,null,null,null,null,null,null,null,null,null,null,null,"x"]
[null,"x",null,null,null,null,null,null,null,null,null,null,null,null,null,null,null,null,null,null,null,null,null,null,null,null,null,null,null,null,null,null,null,"x"]
[null,"",null,null,null,null,null,null,null,null,null,null,null,null,null,null,null,null,null,null,null,null,null,null,null,null,null,null,null,null,null,null,null,""]
["RGL-026F",6,null,null,null,null,null,null,null,null,null,null,null,null,50,{"$f":"IF(Q411<>\"\",ROUND($P$13*(AVERAGE(Q411:U411)-36),0),\"\")","v":10},"08/23/17","08/09/17","07/26/17","07/19/17","07/12/17","07/05/17","06/28/17","06/21/17","06/14/17","06/07/17","05/31/17","05/24/17","05/17/17","05/10/17","05/03/17","08/31/16","08/24/16","x"]
[null,"x",null,null,null,null,null,null,null,null,null,null,null,null,null,null,50,51,49,47,44,53,49,47,51,50,47,53,52,49,47,53,46,"x"]
[null,"05/10/17",10,"Front",8,6,6,6,5,3,6,3,6,49]
[null,"05/24/17",11,"Front",7,6,6,8,4,5,8,4,5,53]
[null,"06/07/17",11,"Front",6,6,7,5,6,3,8,4,5,50]
[null,"06/21/17",12,"Front",7,6,6,5,4,3,7,5,4,47]
[null,"07/05/17",10,"Front",8,5,6,6,6,5,8,4,5,53]
[null,"07/19/17",10,"Front",7,4,7,5,4,4,7,5,4,47]
[]
["RGL-026B",9,null,null,null,null,null,null,null,null,null,null,null,null,null,null,null,null,null,null,null,null,null,null,null,null,null,null,null,null,null,null,null,"x"]
[null,"x",null,null,null,null,null,null,null,null,null,null,null,null,null,null,null,null,null,null,null,null,null,null,null,null,null,null,null,null,null,null,null,"x"]
[null,"05/03/17",10,"Back",7,5,6,6,3,7,4,4,5,47,null,null,null,null,null,null,null,null,null,null,null,null,null,null,null,null,null,null,null,""]
[null,"05/17/17",11,"Back",7,6,7,8,5,6,3,5,5,52]
[null,"05/31/17",12,"Back",7,6,6,5,5,4,5,4,5,47]
[null,"06/14/17",11,"Back",7,7,8,6,4,5,4,4,6,51]
[null,"06/28/17",11,"Back",6,6,7,7,3,5,4,6,5,49]
[null,"07/12/17",11,"Back",6,5,5,7,3,4,4,4,6,44]
[null,"07/26/17",10,"Back",6,7,5,6,4,4,5,6,6,49]
[null,"08/09/17",10,"Back",6,6,6,8,4,4,5,6,6,51]
[null,"08/23/17",10,"Back",7,7,5,6,4,4,6,5,6,50]
[]
["RGL-027F",4,null,null,null,null,null,null,null,null,null,null,null,null,46,{"$f":"IF(Q432<>\"\",ROUND($P$13*(AVERAGE(Q432:U432)-36),0),\"\")","v":6},"08/23/17","08/16/17","08/09/17","07/19/17","07/12/17","07/05/17","06/28/17","06/21/17","08/31/16","08/24/16","08/17/16","08/10/16","08/03/16","07/20/16","07/06/16","06/29/16","06/22/16","x"]
[null,"x",null,null,null,null,null,null,null,null,null,null,null,null,null,null,46,42,42,44,41,47,46,43,39,41,42,43,39,46,45,43,48,"x"]
[null,"06/21/17",4,"Front",7,5,6,5,4,3,6,3,4,43]
[null,"07/05/17",5,"Front",7,5,7,6,4,4,5,5,4,47]
[null,"07/19/17",6,"Front",6,5,5,4,4,4,7,5,4,44]
[null,"08/16/17",6,"Front",7,6,5,4,5,3,5,3,4,42]
[]
["RGL-027B",4,null,null,null,null,null,null,null,null,null,null,null,null,null,null,null,null,null,null,null,null,null,null,null,null,null,null,null,null,null,null,null,"x"]
[null,"x",null,null,null,null,null,null,null,null,null,null,null,null,null,null,null,null,null,null,null,null,null,null,null,null,null,null,null,null,null,null,null,"x"]
[null,"06/28/17",4,"Back",6,6,4,6,4,5,3,6,6,46]
[null,"07/12/17",6,"Back",5,5,5,6,4,5,3,4,4,41]
[null,"08/09/17",7,"Back",6,7,4,6,3,4,3,4,5,42]
[null,"08/23/17",6,"Back",6,6,4,6,4,5,4,5,6,46]
[]
["RGL-028F",7,null,null,null,null,null,null,null,null,null,null,null,null,64,{"$f":"IF(Q446<>\"\",ROUND($P$13*(AVERAGE(Q446:U446)-36),0),\"\")","v":17},"08/23/17","08/16/17","08/09/17","07/26/17","07/19/17","07/12/17","07/05/17","06/28/17","06/21/17","06/14/17","06/07/17","05/31/17","05/24/17","05/17/17","05/10/17","05/03/17","08/31/16","x"]
[null,"x",null,null,null,null,null,null,null,null,null,null,null,null,null,null,64,58,57,49,60,55,58,53,62,61,64,52,55,61,56,53,58,"x"]
[null,"05/10/17",15,"Front",7,6,10,6,5,5,6,5,6,56]
[null,"05/24/17",16,"Front",8,6,9,5,6,4,8,4,5,55]
[null,"06/07/17",16,"Front",8,8,8,7,8,5,8,6,6,64]
[null,"06/21/17",18,"Front",8,8,6,8,7,6,8,3,8,62]
[null,"07/05/17",18,"Front",10,8,7,7,4,5,8,4,5,58]
[null,"07/19/17",17,"Front",8,7,8,6,6,6,8,6,5,60]
[null,"08/16/17",16,"Front",7,6,9,8,7,5,7,4,5,58]
[]
["RGL-028B",9,null,null,null,null,null,null,null,null,null,null,null,null,null,null,null,null,null,null,null,null,null,null,null,null,null,null,null,null,null,null,null,"x"]
[null,"x",null,null,null,null,null,null,null,null,null,null,null,null,null,null,null,null,null,null,null,null,null,null,null,null,null,null,null,null,null,null,null,"x"]
[null,"05/03/17",16,"Back",6,6,7,6,4,5,6,6,7,53,null,null,null,null,null,null,null,null,null,null,null,null,null,null,null,null,null,null,null,""]
[null,"05/17/17",15,"Back",9,6,8,7,6,7,6,4,8,61]
[null,"05/31/17",16,"Back",6,6,6,6,4,7,5,6,6,52]
[null,"06/14/17",17,"Back",8,6,6,7,6,8,5,8,7,61]
[null,"06/28/17",18,"Back",5,5,7,6,6,5,5,6,8,53]
[null,"07/12/17",19,"Back",10,4,7,6,5,6,4,5,8,55]
[null,"07/26/17",17,"Back",5,5,7,5,4,6,6,5,6,49]
[null,"08/09/17",15,"Back",7,7,6,8,5,5,5,7,7,57]
[null,"08/23/17",16,"Back",8,8,8,10,4,6,6,6,8,64]
[]
["RGL-029F",3,null,null,null,null,null,null,null,null,null,null,null,null,59,{"$f":"IF(Q468<>\"\",ROUND($P$13*(AVERAGE(Q468:U468)-36),0),\"\")","v":18},"08/16/17","08/09/17","07/26/17","07/12/17","07/05/17","06/28/17","06/21/17","06/14/17","05/31/17","05/17/17","05/03/17","2015-05-13","Calc.","Calc.","Calc.","Calc.","Calc.","x"]
[null,"x",null,null,null,null,null,null,null,null,null,null,null,null,null,null,59,57,62,58,58,66,64,58,61,62,64,60,55,55,55,55,55,"x"]
[null,"06/21/17",20,"Front",8,8,9,8,5,6,8,5,7,64,null,null,null,null,null,null,null,null,null,null,null,null,null,null,null,null,null,null,null,""]
[null,"07/05/17",21,"Front",7,8,7,7,6,5,8,5,5,58]
[null,"08/16/17",19,"Front",6,7,6,8,8,6,7,4,7,59]
[]
["RGL-029B",8,null,null,null,null,null,null,null,null,null,null,null,null,null,null,null,null,null,null,null,null,null,null,null,null,null,null,null,null,null,null,null,"x"]
[null,"x",null,null,null,null,null,null,null,null,null,null,null,null,null,null,null,null,null,null,null,null,null,null,null,null,null,null,null,null,null,null,null,"x"]
[null,"05/03/17",16,"Back",9,7,8,9,6,6,5,7,7,64,null,null,null,null,null,null,null,null,null,null,null,null,null,null,null,null,null,null,null,""]
[null,"05/17/17",17,"Back",10,8,7,9,6,6,6,5,5,62]
[null,"05/31/17",19,"Back",8,6,7,8,6,7,6,6,7,61]
[null,"06/14/17",20,"Back",7,8,7,8,4,7,3,7,7,58]
[null,"06/28/17",21,"Back",7,6,7,10,6,8,6,8,8,66]
[null,"07/12/17",20,"Back",9,8,5,7,4,7,5,5,8,58]
[null,"07/26/17",20,"Back",8,7,8,6,6,7,6,7,7,62]
[null,"08/09/17",20,"Back",6,4,7,7,5,8,6,7,7,57]
[]
["RGL-030F","x",null,null,null,null,null,null,null,null,null,null,null,null,52,{"$f":"IF(Q485<>\"\",ROUND($P$13*(AVERAGE(Q485:U485)-36),0),\"\")","v":12},"08/17/16","05/25/16","2013-05-15","2012-09-05","2012-08-29","2012-08-22","2012-08-15","2012-08-08","2012-08-01","2012-07-25","2012-07-18","2012-07-11",null,null,null,null,null,"x"]
[null,"x",null,null,null,null,null,null,null,null,null,null,null,null,null,null,52,54,49,53,45,46,55,55,43,55,54,57,null,null,null,null,null,"x"]
[]
["RGL-030B","x",null,null,null,null,null,null,null,null,null,null,null,null,null,null,null,null,null,null,null,null,null,null,null,null,null,null,null,null,null,null,null,"x"]
[null,"x",null,null,null,null,null,null,null,null,null,null,null,null,null,null,null,null,null,null,null,null,null,null,null,null,null,null,null,null,null,null,null,"x"]
[null,"",null,null,null,null,null,null,null,null,null,null,null,null,null,null,null,null,null,null,null,null,null,null,null,null,null,null,null,null,null,null,null,""]
["RGL-031F","x",null,null,null,null,null,null,null,null,null,null,null,null,47,{"$f":"IF(Q491<>\"\",ROUND($P$13*(AVERAGE(Q491:U491)-36),0),\"\")","v":8},"08/23/17","05/31/17","05/03/17","08/31/16","07/06/16","06/29/16","06/15/16","2015-09-02","2015-08-19","2015-08-12","2015-08-05","2015-07-29",null,null,null,null,null,"x"]
[null,"x",null,null,null,null,null,null,null,null,null,null,null,null,null,null,47,48,47,43,42,44,37,44,39,45,40,40,null,null,null,null,null,"x"]
[]
["RGL-031B",3,null,null,null,null,null,null,null,null,null,null,null,null,null,null,null,null,null,null,null,null,null,null,null,null,null,null,null,null,null,null,null,"x"]
[null,"x",null,null,null,null,null,null,null,null,null,null,null,null,null,null,null,null,null,null,null,null,null,null,null,null,null,null,null,null,null,null,null,"x"]
[null,"05/03/17",5,"Back",7,6,6,7,4,6,3,4,4,47,null,null,null,null,null,null,null,null,null,null,null,null,null,null,null,null,null,null,null,""]
[null,"05/31/17",5,"Back",8,5,5,5,4,6,4,5,6,48]
[null,"08/23/17",7,"Back",6,4,6,6,4,5,5,5,6,47]
[]
["RGL-032F",7,null,null,null,null,null,null,null,null,null,null,null,null,53,{"$f":"IF(Q500<>\"\",ROUND($P$13*(AVERAGE(Q500:U500)-36),0),\"\")","v":13},"08/23/17","08/16/17","08/09/17","07/26/17","07/19/17","07/12/17","07/05/17","06/28/17","06/21/17","06/14/17","06/07/17","05/31/17","05/24/17","05/17/17","05/10/17","05/03/17","08/31/16","x"]
[null,"x",null,null,null,null,null,null,null,null,null,null,null,null,null,null,53,57,49,49,55,53,56,53,56,45,63,48,57,57,60,58,53,"x"]
[null,"05/10/17",14,"Front",10,6,10,7,6,3,8,3,7,60]
[null,"05/24/17",16,"Front",7,8,8,6,6,4,8,6,4,57]
[null,"06/07/17",16,"Front",10,7,9,5,6,6,8,5,7,63]
[null,"06/21/17",14,"Front",8,7,10,6,5,4,5,5,6,56]
[null,"07/05/17",14,"Front",10,6,8,5,5,4,7,6,5,56]
[null,"07/19/17",13,"Front",6,8,8,5,6,3,8,5,6,55]
[null,"08/16/17",13,"Front",9,5,7,5,7,4,8,5,7,57]
[]
["RGL-032B",9,null,null,null,null,null,null,null,null,null,null,null,null,null,null,null,null,null,null,null,null,null,null,null,null,null,null,null,null,null,null,null,"x"]
[null,"x",null,null,null,null,null,null,null,null,null,null,null,null,null,null,null,null,null,null,null,null,null,null,null,null,null,null,null,null,null,null,null,"x"]
[null,"05/03/17",14,"Back",8,7,6,6,6,7,6,7,5,58,null,null,null,null,null,null,null,null,null,null,null,null,null,null,null,null,null,null,null,""]
[null,"05/17/17",15,"Back",8,8,6,6,5,5,6,8,5,57]
[null,"05/31/17",17,"Back",6,6,4,6,6,6,4,5,5,48]
[null,"06/14/17",17,"Back",6,7,4,7,4,5,2,5,5,45]
[null,"06/28/17",14,"Back",6,6,8,7,4,6,5,5,6,53]
[null,"07/12/17",15,"Back",6,8,5,6,6,5,4,8,5,53]
[null,"07/26/17",15,"Back",7,4,5,5,5,6,6,6,5,49]
[null,"08/09/17",14,"Back",7,4,7,5,3,6,6,5,6,49]
[null,"08/23/17",13,"Back",8,7,5,4,4,7,6,7,5,53]
[]
["RGL-033F",7,null,null,null,null,null,null,null,null,null,null,null,null,61,{"$f":"IF(Q522<>\"\",ROUND($P$13*(AVERAGE(Q522:U522)-36),0),\"\")","v":17},"08/23/17","08/16/17","08/09/17","07/26/17","07/19/17","07/12/17","07/05/17","06/28/17","06/21/17","06/14/17","06/07/17","05/31/17","05/24/17","05/17/17","05/10/17","08/31/16","08/24/16","x"]
[null,"x",null,null,null,null,null,null,null,null,null,null,null,null,null,null,61,55,60,53,59,61,59,52,59,59,60,57,60,63,63,61,58,"x"]
[null,"05/10/17",17,"Front",10,5,10,8,6,5,8,4,7,63]
[null,"05/24/17",20,"Front",8,6,8,7,6,3,8,6,8,60]
[null,"06/07/17",20,"Front",7,6,10,6,7,5,8,5,6,60]
[null,"06/21/17",19,"Front",9,7,8,5,6,5,8,5,6,59]
[null,"07/05/17",17,"Front",7,7,8,8,5,5,7,6,6,59]
[null,"07/19/17",18,"Front",7,8,10,7,6,4,7,5,5,59]
[null,"08/16/17",18,"Front",7,7,8,6,6,5,7,3,6,55]
[]
["RGL-033B",8,null,null,null,null,null,null,null,null,null,null,null,null,null,null,null,null,null,null,null,null,null,null,null,null,null,null,null,null,null,null,null,"x"]
[null,"x",null,null,null,null,null,null,null,null,null,null,null,null,null,null,null,null,null,null,null,null,null,null,null,null,null,null,null,null,null,null,null,"x"]
[null,"05/17/17",18,"Back",10,7,8,6,6,7,4,8,7,63]
[null,"05/31/17",20,"Back",6,6,5,6,4,8,6,8,8,57]
[null,"06/14/17",20,"Back",7,8,7,8,5,8,5,5,6,59]
[null,"06/28/17",18,"Back",6,6,6,7,5,5,5,6,6,52]
[null,"07/12/17",17,"Back",7,8,6,10,6,5,6,6,7,61]
[null,"07/26/17",18,"Back",6,8,7,7,4,5,5,5,6,53]
[null,"08/09/17",17,"Back",7,6,8,9,6,8,5,5,6,60]
[null,"08/23/17",17,"Back",7,8,8,8,4,6,6,7,7,61]
[]
["RGL-034F",7,null,null,null,null,null,null,null,null,null,null,null,null,46,{"$f":"IF(Q543<>\"\",ROUND($P$13*(AVERAGE(Q543:U543)-36),0),\"\")","v":8},"08/23/17","08/16/17","08/09/17","07/26/17","07/19/17","07/12/17","07/05/17","06/28/17","06/21/17","06/14/17","06/07/17","05/31/17","05/24/17","05/17/17","05/10/17","05/03/17","08/31/16","x"]
[null,"x",null,null,null,null,null,null,null,null,null,null,null,null,null,null,46,47,42,46,46,40,44,48,45,44,45,38,49,50,43,45,42,"x"]
[null,"05/10/17",6,"Front",5,4,6,6,5,4,6,4,3,43]
[null,"05/24/17",7,"Front",7,5,6,6,4,5,5,4,7,49]
[null,"06/07/17",7,"Front",7,5,7,3,5,3,8,3,4,45]
[null,"06/21/17",7,"Front",6,7,5,6,5,4,5,4,3,45]
[null,"07/05/17",6,"Front",6,6,6,4,4,3,5,4,6,44]
[null,"07/19/17",7,"Front",5,6,7,5,5,3,7,4,4,46]
[null,"08/16/17",6,"Front",9,5,6,4,5,4,5,4,5,47]
[]
["RGL-034B",9,null,null,null,null,null,null,null,null,null,null,null,null,null,null,null,null,null,null,null,null,null,null,null,null,null,null,null,null,null,null,null,"x"]
[null,"x",null,null,null,null,null,null,null,null,null,null,null,null,null,null,null,null,null,null,null,null,null,null,null,null,null,null,null,null,null,null,null,"x"]
[null,"05/03/17",6,"Back",7,4,5,6,4,5,3,5,6,45,null,null,null,null,null,null,null,null,null,null,null,null,null,null,null,null,null,null,null,""]
[null,"05/17/17",5,"Back",5,5,8,9,4,5,6,4,4,50]
[null,"05/31/17",8,"Back",4,4,4,5,4,3,3,4,7,38]
[null,"06/14/17",7,"Back",6,6,5,7,4,5,3,3,5,44]
[null,"06/28/17",7,"Back",7,4,7,6,3,5,3,5,8,48]
[null,"07/12/17",7,"Back",5,5,4,7,3,3,4,5,4,40]
[null,"07/26/17",7,"Back",8,5,5,5,4,4,3,4,8,46]
[null,"08/09/17",7,"Back",6,5,5,7,4,4,3,4,4,42]
[null,"08/23/17",7,"Back",6,3,4,9,4,6,3,7,4,46]
[]
["RGL-035F","x",null,null,null,null,null,null,null,null,null,null,null,null,48,{"$f":"IF(Q565<>\"\",ROUND($P$13*(AVERAGE(Q565:U565)-36),0),\"\")","v":0},"Calc.","Calc.","Calc.","Calc.","Calc.",null,null,null,null,null,null,null,null,null,null,null,null,"x"]
[null,"x",null,null,null,null,null,null,null,null,null,null,null,null,null,null,36,36,36,36,36,null,null,null,null,null,null,null,null,null,null,null,null,"x"]
[null,"",null,null,null,null,null,null,null,null,null,null,null,null,null,null,null,null,null,null,null,null,null,null,null,null,null,null,null,null,null,null,null,""]
["RGL-035B","x",null,null,null,null,null,null,null,null,null,null,null,null,null,null,null,null,null,null,null,null,null,null,null,null,null,null,null,null,null,null,null,"x"]
[null,"x",null,null,null,null,null,null,null,null,null,null,null,null,null,null,null,null,null,null,null,null,null,null,null,null,null,null,null,null,null,null,null,"x"]
[null,"",null,null,null,null,null,null,null,null,null,null,null,null,null,null,null,null,null,null,null,null,null,null,null,null,null,null,null,null,null,null,null,""]
["RGL-036F",6,null,null,null,null,null,null,null,null,null,null,null,null,50,{"$f":"IF(Q571<>\"\",ROUND($P$13*(AVERAGE(Q571:U571)-36),0),\"\")","v":14},"08/23/17","08/16/17","08/09/17","07/26/17","07/19/17","07/12/17","07/05/17","06/28/17","06/21/17","06/14/17","05/31/17","05/24/17","05/17/17","05/10/17","05/03/17","08/31/16","08/24/16","x"]
[null,"x",null,null,null,null,null,null,null,null,null,null,null,null,null,null,50,55,57,56,50,51,56,52,57,52,57,56,54,52,59,52,54,"x"]
[null,"05/10/17",14,"Front",8,6,9,5,5,4,7,3,5,52]
[null,"05/24/17",15,"Front",8,7,8,5,6,4,7,3,8,56]
[null,"06/21/17",15,"Front",8,7,9,6,4,5,8,4,6,57]
[null,"07/05/17",15,"Front",9,7,6,6,4,6,7,5,6,56]
[null,"07/19/17",14,"Front",6,5,9,5,6,3,8,3,5,50]
[null,"08/16/17",14,"Front",8,6,6,7,6,3,6,5,8,55]
[]
["RGL-036B",9,null,null,null,null,null,null,null,null,null,null,null,null,null,null,null,null,null,null,null,null,null,null,null,null,null,null,null,null,null,null,null,"x"]
[null,"x",null,null,null,null,null,null,null,null,null,null,null,null,null,null,null,null,null,null,null,null,null,null,null,null,null,null,null,null,null,null,null,"x"]
[null,"05/03/17",14,"Back",9,8,6,8,6,6,4,6,6,59,null,null,null,null,null,null,null,null,null,null,null,null,null,null,null,null,null,null,null,""]
[null,"05/17/17",15,"Back",7,7,8,6,6,6,5,4,5,54]
[null,"05/31/17",15,"Back",5,8,5,10,5,7,6,6,5,57]
[null,"06/14/17",16,"Back",8,6,4,6,5,7,6,5,5,52]
[null,"06/28/17",15,"Back",8,5,5,8,4,7,5,5,5,52]
[null,"07/12/17",15,"Back",6,7,7,5,5,5,4,5,7,51]
[null,"07/26/17",14,"Back",9,7,5,7,5,5,6,7,5,56]
[null,"08/09/17",14,"Back",8,8,7,8,3,6,6,5,6,57]
[null,"08/23/17",14,"Back",6,7,7,6,4,6,5,5,4,50]
[]
["RGL-037F",5,null,null,null,null,null,null,null,null,null,null,null,null,43,{"$f":"IF(Q592<>\"\",ROUND($P$13*(AVERAGE(Q592:U592)-36),0),\"\")","v":8},"08/23/17","08/16/17","08/09/17","07/26/17","07/19/17","07/12/17","07/05/17","06/28/17","06/14/17","06/07/17","05/31/17","05/17/17","05/10/17","05/03/17","08/31/16","08/24/16","08/10/16","x"]
[null,"x",null,null,null,null,null,null,null,null,null,null,null,null,null,null,43,48,47,44,47,47,45,45,44,51,43,54,44,44,46,44,47,"x"]
[null,"05/10/17",8,"Front",6,5,7,6,4,4,5,3,4,44]
[null,"06/07/17",8,"Front",7,6,6,5,5,4,7,4,7,51]
[null,"07/05/17",9,"Front",7,5,7,5,4,5,5,3,4,45]
[null,"07/19/17",8,"Front",6,5,6,5,5,4,6,5,5,47]
[null,"08/16/17",8,"Front",5,5,7,5,5,4,7,5,5,48]
[]
["RGL-037B",9,null,null,null,null,null,null,null,null,null,null,null,null,null,null,null,null,null,null,null,null,null,null,null,null,null,null,null,null,null,null,null,"x"]
[null,"x",null,null,null,null,null,null,null,null,null,null,null,null,null,null,null,null,null,null,null,null,null,null,null,null,null,null,null,null,null,null,null,"x"]
[null,"05/03/17",8,"Back",5,5,6,6,5,5,5,4,3,44,null,null,null,null,null,null,null,null,null,null,null,null,null,null,null,null,null,null,null,""]
[null,"05/17/17",7,"Back",6,8,7,7,4,5,4,6,7,54]
[null,"05/31/17",8,"Back",7,6,4,6,5,3,3,5,4,43]
[null,"06/14/17",9,"Back",6,4,5,6,5,6,2,4,6,44]
[null,"06/28/17",9,"Back",6,4,7,6,4,4,4,4,6,45]
[null,"07/12/17",8,"Back",7,5,5,6,5,5,4,5,5,47]
[null,"07/26/17",8,"Back",6,5,4,6,4,5,4,5,5,44]
[null,"08/09/17",8,"Back",7,6,5,6,4,5,4,5,5,47]
[null,"08/23/17",8,"Back",5,5,4,7,4,5,4,6,3,43]
[]
["RGL-038F",7,null,null,null,null,null,null,null,null,null,null,null,null,46,{"$f":"IF(Q612<>\"\",ROUND($P$13*(AVERAGE(Q612:U612)-36),0),\"\")","v":9},"08/23/17","08/16/17","08/09/17","07/26/17","07/19/17","07/05/17","06/28/17","06/21/17","06/14/17","06/07/17","05/31/17","05/24/17","05/17/17","05/10/17","05/03/17","08/31/16","08/24/16","x"]
[null,"x",null,null,null,null,null,null,null,null,null,null,null,null,null,null,46,47,54,45,45,49,47,58,45,55,49,44,49,50,43,52,53,"x"]
[null,"05/10/17",9,"Front",7,6,9,5,6,5,6,3,3,50]
[null,"05/24/17",11,"Front",9,5,6,4,6,3,6,3,2,44]
[null,"06/07/17",9,"Front",9,4,9,8,6,4,7,4,4,55]
[null,"06/21/17",10,"Front",8,6,5,8,5,6,7,6,7,58]
[null,"07/05/17",12,"Front",6,4,7,6,5,3,8,4,6,49]
[null,"07/19/17",12,"Front",6,5,7,5,5,4,5,4,4,45]
[null,"08/16/17",10,"Front",6,4,6,6,4,4,5,5,7,47]
[]
["RGL-038B",8,null,null,null,null,null,null,null,null,null,null,null,null,null,null,null,null,null,null,null,null,null,null,null,null,null,null,null,null,null,null,null,"x"]
[null,"x",null,null,null,null,null,null,null,null,null,null,null,null,null,null,null,null,null,null,null,null,null,null,null,null,null,null,null,null,null,null,null,"x"]
[null,"05/03/17",9,"Back",7,5,6,6,3,4,3,4,5,43,null,null,null,null,null,null,null,null,null,null,null,null,null,null,null,null,null,null,null,""]
[null,"05/17/17",10,"Back",7,5,6,7,3,4,6,5,6,49]
[null,"05/31/17",9,"Back",9,4,6,7,4,4,4,4,7,49]
[null,"06/14/17",11,"Back",6,5,5,5,4,5,6,5,4,45]
[null,"06/28/17",11,"Back",6,4,5,7,6,5,6,3,5,47]
[null,"07/26/17",10,"Back",7,6,4,5,3,4,4,6,6,45]
[null,"08/09/17",10,"Back",7,5,8,7,4,7,4,7,5,54]
[null,"08/23/17",10,"Back",9,4,5,5,3,5,6,4,5,46]
[]
["RGL-039F","x",null,null,null,null,null,null,null,null,null,null,null,null,48,{"$f":"IF(Q633<>\"\",ROUND($P$13*(AVERAGE(Q633:U633)-36),0),\"\")","v":7},"05/25/16","2015-08-05","2012-09-05","2012-08-29","2012-08-22","2012-08-15","2012-08-08","2012-08-01","2012-07-25","2012-07-18","2012-07-11",null,null,null,null,null,null,"x"]
[null,"x",null,null,null,null,null,null,null,null,null,null,null,null,null,null,48,43,46,44,42,45,44,44,45,42,44,null,null,null,null,null,null,"x"]
[null,"",null,null,null,null,null,null,null,null,null,null,null,null,null,null,null,null,null,null,null,null,null,null,null,null,null,null,null,null,null,null,null,""]
[]
["RGL-039B","x",null,null,null,null,null,null,null,null,null,null,null,null,null,null,null,null,null,null,null,null,null,null,null,null,null,null,null,null,null,null,null,"x"]
[null,"x",null,null,null,null,null,null,null,null,null,null,null,null,null,null,null,null,null,null,null,null,null,null,null,null,null,null,null,null,null,null,null,"x"]
[null,"",null,null,null,null,null,null,null,null,null,null,null,null,null,null,null,null,null,null,null,null,null,null,null,null,null,null,null,null,null,null,null,""]
["RGL-040F",7,null,null,null,null,null,null,null,null,null,null,null,null,51,{"$f":"IF(Q640<>\"\",ROUND($P$13*(AVERAGE(Q640:U640)-36),0),\"\")","v":13},"08/23/17","08/16/17","08/09/17","07/26/17","07/19/17","07/12/17","07/05/17","06/28/17","06/21/17","06/14/17","06/07/17","05/31/17","05/24/17","05/17/17","05/10/17","05/03/17","08/31/16","x"]
[null,"x",null,null,null,null,null,null,null,null,null,null,null,null,null,null,51,51,55,53,51,49,59,45,57,63,55,55,53,49,50,56,52,"x"]
[null,"05/10/17",14,"Front",6,6,7,8,4,4,7,3,5,50]
[null,"05/24/17",12,"Front",7,6,6,6,6,5,8,5,4,53]
[null,"06/07/17",13,"Front",8,5,6,6,5,6,8,6,5,55]
[null,"06/21/17",15,"Front",9,6,8,8,4,5,8,5,4,57]
[null,"07/05/17",15,"Front",6,7,10,6,6,5,7,5,7,59]
[null,"07/19/17",15,"Front",8,7,6,3,6,5,8,3,5,51]
[null,"08/16/17",14,"Front",7,5,9,7,3,4,5,6,5,51]
[]
["RGL-040B",9,null,null,null,null,null,null,null,null,null,null,null,null,null,null,null,null,null,null,null,null,null,null,null,null,null,null,null,null,null,null,null,"x"]
[null,"x",null,null,null,null,null,null,null,null,null,null,null,null,null,null,null,null,null,null,null,null,null,null,null,null,null,null,null,null,null,null,null,"x"]
[null,"05/03/17",13,"Back",9,6,5,9,4,7,4,6,6,56,null,null,null,null,null,null,null,null,null,null,null,null,null,null,null,null,null,null,null,""]
[null,"05/17/17",14,"Back",5,8,8,8,4,3,3,5,5,49]
[null,"05/31/17",13,"Back",7,6,7,10,6,4,6,4,5,55]
[null,"06/14/17",13,"Back",7,8,6,8,4,8,6,8,8,63]
[null,"06/28/17",16,"Back",6,4,5,7,4,4,4,6,5,45]
[null,"07/12/17",16,"Back",8,7,3,7,4,6,4,4,6,49]
[null,"07/26/17",13,"Back",7,4,8,9,5,5,4,5,6,53]
[null,"08/09/17",12,"Back",9,4,4,8,4,7,5,6,8,55]
[null,"08/23/17",13,"Back",8,6,6,7,4,5,5,4,6,51]
[]
["RGL-041F",1,null,null,null,null,null,null,null,null,null,null,null,null,44,{"$f":"IF(Q662<>\"\",ROUND($P$13*(AVERAGE(Q662:U662)-36),0),\"\")","v":4},"05/24/17","05/11/16","2013-08-21","2010-08-25","2010-08-18","2010-08-11","2010-08-04","2010-07-28",null,null,null,null,null,null,null,null,null,"x"]
[null,"x",null,null,null,null,null,null,null,null,null,null,null,null,null,null,44,48,42,37,36,42,46,40,null,null,null,null,null,null,null,null,null,"x"]
[null,"05/24/17",4,"Front",8,4,5,5,5,4,6,3,4,44]
[]
["RGL-041B","x",null,null,null,null,null,null,null,null,null,null,null,null,null,null,null,null,null,null,null,null,null,null,null,null,null,null,null,null,null,null,null,"x"]
[null,"x",null,null,null,null,null,null,null,null,null,null,null,null,null,null,null,null,null,null,null,null,null,null,null,null,null,null,null,null,null,null,null,"x"]
[null,"",null,null,null,null,null,null,null,null,null,null,null,null,null,null,null,null,null,null,null,null,null,null,null,null,null,null,null,null,null,null,null,""]
["RGL-042F","x",null,null,null,null,null,null,null,null,null,null,null,null,50,{"$f":"IF(Q669<>\"\",ROUND($P$13*(AVERAGE(Q669:U669)-36),0),\"\")","v":6},"08/23/17","08/09/17","07/12/17","Calc","Calc","Calc","Calc","Calc",null,null,null,null,null,null,null,null,null,"x"]
[null,"x",null,null,null,null,null,null,null,null,null,null,null,null,null,null,50,48,47,36,36,36,36,36,null,null,null,null,null,null,null,null,null,"x"]
[null,"",null,null,null,null,null,null,null,null,null,null,null,null,null,null,null,null,null,null,null,null,null,null,null,null,null,null,null,null,null,null,null,""]
["RGL-042B",3,null,null,null,null,null,null,null,null,null,null,null,null,null,null,null,null,null,null,null,null,null,null,null,null,null,null,null,null,null,null,null,"x"]
[null,"x",null,null,null,null,null,null,null,null,null,null,null,null,null,null,null,null,null,null,null,null,null,null,null,null,null,null,null,null,null,null,null,"x"]
[null,"07/12/17",0,"Back",8,7,6,5,3,5,3,4,6,47,null,null,null,null,null,null,null,null,null,null,null,null,null,null,null,null,null,null,null,""]
[null,"08/09/17",2,"Back",6,5,7,7,4,6,4,4,5,48]
[null,"08/23/17",4,"Back",5,6,5,7,5,6,5,6,5,50]
[]
["RGL-043F",6,null,null,null,null,null,null,null,null,null,null,null,null,58,{"$f":"IF(Q678<>\"\",ROUND($P$13*(AVERAGE(Q678:U678)-36),0),\"\")","v":15},"08/23/17","08/16/17","07/26/17","07/19/17","07/12/17","07/05/17","06/28/17","06/21/17","06/14/17","05/31/17","05/24/17","05/17/17","05/10/17","05/03/17","08/31/16","08/24/16","08/17/16","x"]
[null,"x",null,null,null,null,null,null,null,null,null,null,null,null,null,null,58,58,53,48,57,55,57,57,56,54,49,54,51,50,59,54,52,"x"]
[null,"05/10/17",15,"Front",7,6,7,4,6,4,6,4,7,51]
[null,"05/24/17",14,"Front",7,5,6,6,5,4,7,4,5,49]
[null,"06/21/17",13,"Front",7,7,9,5,8,5,8,3,5,57]
[null,"07/05/17",15,"Front",8,6,6,6,5,5,8,5,6,55]
[null,"07/19/17",16,"Front",7,6,7,6,6,4,5,4,3,48]
[null,"08/16/17",14,"Front",10,7,7,6,5,5,7,5,6,58]
[]
["RGL-043B",8,null,null,null,null,null,null,null,null,null,null,null,null,null,null,null,null,null,null,null,null,null,null,null,null,null,null,null,null,null,null,null,"x"]
[null,"x",null,null,null,null,null,null,null,null,null,null,null,null,null,null,null,null,null,null,null,null,null,null,null,null,null,null,null,null,null,null,null,"x"]
[null,"05/03/17",14,"Back",6,5,8,5,3,6,6,4,7,50,null,null,null,null,null,null,null,null,null,null,null,null,null,null,null,null,null,null,null,""]
[null,"05/17/17",14,"Back",6,5,7,8,5,6,5,5,7,54]
[null,"05/31/17",13,"Back",8,4,8,8,6,6,3,4,7,54]
[null,"06/14/17",12,"Back",10,5,7,8,5,5,4,5,7,56]
[null,"06/28/17",14,"Back",8,7,7,9,4,6,3,5,8,57]
[null,"07/12/17",16,"Back",6,8,8,7,5,6,4,6,7,57]
[null,"07/26/17",15,"Back",8,6,7,7,4,5,4,7,5,53]
[null,"08/23/17",15,"Back",8,6,8,8,5,7,5,4,7,58]
[]
["RGL-044F",1,null,null,null,null,null,null,null,null,null,null,null,null,59,{"$f":"IF(Q698<>\"\",ROUND($P$13*(AVERAGE(Q698:U698)-36),0),\"\")","v":18},"05/24/17","05/17/17","05/11/16","2015-05-13","2013-06-05","2012-05-16","2010-06-23",null,null,null,null,null,null,null,null,null,null,"x"]
[null,"x",null,null,null,null,null,null,null,null,null,null,null,null,null,null,59,55,51,61,66,53,62,null,null,null,null,null,null,null,null,null,null,"x"]
[null,"05/24/17",17,"Front",7,5,9,7,6,5,7,5,8,59,null,null,null,null,null,null,null,null,null,null,null,null,null,null,null,null,null,null,null,""]
[]
["RGL-044B",1,null,null,null,null,null,null,null,null,null,null,null,null,null,null,null,null,null,null,null,null,null,null,null,null,null,null,null,null,null,null,null,"x"]
[null,"x",null,null,null,null,null,null,null,null,null,null,null,null,null,null,null,null,null,null,null,null,null,null,null,null,null,null,null,null,null,null,null,"x"]
[null,"05/17/17",18,"Back",7,5,7,10,5,6,5,5,5,55,null,null,null,null,null,null,null,null,null,null,null,null,null,null,null,null,null,null,null,""]
[]
["RGL-045F",4,null,null,null,null,null,null,null,null,null,null,null,null,67,{"$f":"IF(Q706<>\"\",ROUND($P$13*(AVERAGE(Q706:U706)-36),0),\"\")","v":23},"08/16/17","08/09/17","07/19/17","07/12/17","06/28/17","06/07/17","05/24/17","08/31/16","08/24/16","08/10/16","08/03/16","07/27/16","07/20/16","07/13/16","06/08/16","06/01/16","05/25/16","x"]
[null,"x",null,null,null,null,null,null,null,null,null,null,null,null,null,null,67,61,72,59,63,69,66,68,63,62,61,62,66,61,70,54,69,"x"]
[null,"05/24/17",22,"Front",10,8,10,6,6,6,8,5,7,66]
[null,"06/07/17",22,"Front",10,8,10,8,7,6,8,6,6,69]
[null,"07/19/17",23,"Front",10,8,10,8,8,6,8,6,8,72]
[null,"08/16/17",23,"Front",10,6,9,8,7,6,8,5,8,67]
[]
["RGL-045B",3,null,null,null,null,null,null,null,null,null,null,null,null,null,null,null,null,null,null,null,null,null,null,null,null,null,null,null,null,null,null,null,"x"]
[null,"x",null,null,null,null,null,null,null,null,null,null,null,null,null,null,null,null,null,null,null,null,null,null,null,null,null,null,null,null,null,null,null,"x"]
[null,"06/28/17",24,"Back",7,7,8,8,5,8,5,8,7,63]
[null,"07/12/17",24,"Back",5,8,8,7,6,6,6,6,7,59]
[null,"08/09/17",24,"Back",8,8,7,7,5,6,5,8,7,61]
[]
["RGL-046F",4,null,null,null,null,null,null,null,null,null,null,null,null,47,{"$f":"IF(Q719<>\"\",ROUND($P$13*(AVERAGE(Q719:U719)-36),0),\"\")","v":12},"07/12/17","07/05/17","06/28/17","06/21/17","06/14/17","05/31/17","05/24/17","05/17/17","05/10/17","05/03/17","Calc","Calc","Calc","Calc","Calc",null,null,"x"]
[null,"x",null,null,null,null,null,null,null,null,null,null,null,null,null,null,47,55,55,48,53,49,57,48,50,56,54,54,54,54,54,null,null,"x"]
[null,"05/10/17",15,"Front",6,5,8,7,5,4,7,3,5,50]
[null,"05/24/17",13,"Front",8,5,8,8,4,4,8,5,7,57]
[null,"06/21/17",12,"Front",4,5,8,8,5,4,7,3,4,48]
[null,"07/05/17",13,"Front",6,7,8,7,5,4,8,6,4,55]
[]
["RGL-046B",6,null,null,null,null,null,null,null,null,null,null,null,null,null,null,null,null,null,null,null,null,null,null,null,null,null,null,null,null,null,null,null,"x"]
[null,"x",null,null,null,null,null,null,null,null,null,null,null,null,null,null,null,null,null,null,null,null,null,null,null,null,null,null,null,null,null,null,null,"x"]
[null,"05/03/17",14,"Back",8,7,8,8,4,6,5,6,4,56,null,null,null,null,null,null,null,null,null,null,null,null,null,null,null,null,null,null,null,""]
[null,"05/17/17",14,"Back",5,5,5,7,5,5,4,5,7,48]
[null,"05/31/17",14,"Back",6,6,5,7,5,5,5,5,5,49]
[null,"06/14/17",13,"Back",6,5,7,8,4,6,4,6,7,53]
[null,"06/28/17",12,"Back",9,6,7,7,6,4,6,5,5,55]
[null,"07/12/17",13,"Back",6,6,5,5,5,4,5,6,5,47]
[]
["RGL-047F",1,null,null,null,null,null,null,null,null,null,null,null,null,45,{"$f":"IF(Q735<>\"\",ROUND($P$13*(AVERAGE(Q735:U735)-36),0),\"\")","v":8},"07/19/17","07/12/17","06/14/17","08/31/16","08/24/16","08/17/16","08/10/16","08/03/16",null,null,null,null,null,"06/08/16","06/01/16","05/25/16","05/18/16","x"]
[null,"x",null,null,null,null,null,null,null,null,null,null,null,null,null,null,45,43,54,44,45,49,47,43,null,null,null,null,null,45,44,44,41,"x"]
[null,"07/19/17",9,"Front",6,7,5,6,4,3,5,3,6,45]
[]
["RGL-047B",2,null,null,null,null,null,null,null,null,null,null,null,null,null,null,null,null,null,null,null,null,null,null,null,null,null,null,null,null,null,null,null,"x"]
[null,"x",null,null,null,null,null,null,null,null,null,null,null,null,null,null,null,null,null,null,null,null,null,null,null,null,null,null,null,null,null,null,null,"x"]
[null,"06/14/17",8,"Back",8,7,5,9,6,5,4,5,5,54]
[null,"07/12/17",9,"Back",7,7,4,3,5,4,3,4,6,43]
[]
["RGL-048F","x",null,null,null,null,null,null,null,null,null,null,null,null,{"$f":"Q744","v":48},{"$f":"IF(Q744<>\"\",ROUND($P$13*(AVERAGE(Q744:U744)-36),0),\"\")","v":10},"Calc","Calc","Calc","Calc","Calc",null,null,null,null,null,null,null,null,null,null,null,null,"x"]
[null,"x",null,null,null,null,null,null,null,null,null,null,null,null,null,null,48,48,48,48,48,null,null,null,null,null,null,null,null,null,null,null,null,"x"]
[null,"",null,null,null,null,null,null,null,null,null,null,null,null,null,null,null,null,null,null,null,null,null,null,null,null,null,null,null,null,null,null,null,""]
["RGL-048B","x",null,null,null,null,null,null,null,null,null,null,null,null,null,null,null,null,null,null,null,null,null,null,null,null,null,null,null,null,null,null,null,"x"]
[null,"x",null,null,null,null,null,null,null,null,null,null,null,null,null,null,null,null,null,null,null,null,null,null,null,null,null,null,null,null,null,null,null,"x"]
[null,"",null,null,null,null,null,null,null,null,null,null,null,null,null,null,null,null,null,null,null,null,null,null,null,null,null,null,null,null,null,null,null,""]
["RGL-049F","x",null,null,null,null,null,null,null,null,null,null,null,null,{"$f":"Q750","v":46},{"$f":"IF(Q750<>\"\",ROUND($P$13*(AVERAGE(Q750:U750)-36),0),\"\")","v":15},"2013-05-01","Calc.","Calc.","Calc.","Calc.","Calc.",null,null,null,null,null,null,null,null,null,null,null,"x"]
[null,"x",null,null,null,null,null,null,null,null,null,null,null,null,null,null,46,57,57,57,57,57,null,null,null,null,null,null,null,null,null,null,null,"x"]
[null,"",null,null,null,null,null,null,null,null,null,null,null,null,null,null,null,null,null,null,null,null,null,null,null,null,null,null,null,null,null,null,null,""]
["RGL-049B","x",null,null,null,null,null,null,null,null,null,null,null,null,null,null,null,null,null,null,null,null,null,null,null,null,null,null,null,null,null,null,null,"x"]
[null,"x",null,null,null,null,null,null,null,null,null,null,null,null,null,null,null,null,null,null,null,null,null,null,null,null,null,null,null,null,null,null,null,"x"]
[null,"",null,null,null,null,null,null,null,null,null,null,null,null,null,null,null,null,null,null,null,null,null,null,null,null,null,null,null,null,null,null,null,""]
["RGL-050F",6,null,null,null,null,null,null,null,null,null,null,null,null,41,{"$f":"IF(Q756<>\"\",ROUND($P$13*(AVERAGE(Q756:U756)-36),0),\"\")","v":1},"08/23/17","08/16/17","08/09/17","07/26/17","07/12/17","07/05/17","06/28/17","06/21/17","06/07/17","05/31/17","05/24/17","05/17/17","05/10/17","05/03/17","Calc","Calc","Calc","x"]
[null,"x",null,null,null,null,null,null,null,null,null,null,null,null,null,null,41,34,40,35,39,38,41,40,46,36,40,44,41,41,38,38,38,"x"]
[null,"05/10/17",2,"Front",6,5,6,5,4,3,6,2,4,41]
[null,"05/24/17",4,"Front",6,7,6,4,3,3,6,2,3,40]
[null,"06/07/17",4,"Front",6,5,6,5,5,4,6,3,6,46]
[null,"06/21/17",4,"Front",6,3,6,6,4,3,5,3,4,40]
[null,"07/05/17",4,"Front",6,4,5,4,4,3,5,3,4,38]
[null,"08/16/17",2,"Front",4,4,3,4,4,4,3,3,5,34]
[]
["RGL-050B",8,null,null,null,null,null,null,null,null,null,null,null,null,null,null,null,null,null,null,null,null,null,null,null,null,null,null,null,null,null,null,null,"x"]
[null,"x",null,null,null,null,null,null,null,null,null,null,null,null,null,null,null,null,null,null,null,null,null,null,null,null,null,null,null,null,null,null,null,"x"]
[null,"05/03/17",2,"Back",4,4,6,5,4,5,3,4,6,41,null,null,null,null,null,null,null,null,null,null,null,null,null,null,null,null,null,null,null,""]
[null,"05/17/17",3,"Back",6,5,4,5,5,4,4,5,6,44]
[null,"05/31/17",4,"Back",4,4,4,4,4,4,4,3,5,36]
[null,"06/28/17",4,"Back",5,6,4,5,4,3,4,5,5,41]
[null,"07/12/17",3,"Back",5,5,4,4,4,5,3,5,4,39]
[null,"07/26/17",4,"Back",6,3,3,4,4,5,3,3,4,35]
[null,"08/09/17",2,"Back",4,4,4,7,4,6,3,4,4,40]
[null,"08/23/17",1,"Back",6,7,5,4,4,4,3,4,4,41]
[]
["RGL-051F",5,null,null,null,null,null,null,null,null,null,null,null,null,60,{"$f":"IF(Q776<>\"\",ROUND($P$13*(AVERAGE(Q776:U776)-36),0),\"\")","v":18},"08/23/17","08/16/17","08/09/17","07/26/17","07/19/17","07/12/17","07/05/17","06/28/17","06/21/17","06/14/17","05/31/17","05/17/17","05/10/17","05/03/17","08/31/16","08/24/16","08/10/16","x"]
[null,"x",null,null,null,null,null,null,null,null,null,null,null,null,null,null,60,62,61,56,54,60,58,62,59,55,64,59,61,62,61,61,58,"x"]
[null,"05/10/17",20,"Front",9,6,8,8,8,5,8,4,5,61]
[null,"06/21/17",19,"Front",9,6,10,6,5,5,8,4,6,59]
[null,"07/05/17",19,"Front",8,7,7,6,6,4,7,6,7,58]
[null,"07/19/17",18,"Front",7,6,7,5,6,5,8,4,6,54]
[null,"08/16/17",17,"Front",10,6,9,8,4,5,8,5,7,62]
[]
["RGL-051B",9,null,null,null,null,null,null,null,null,null,null,null,null,null,null,null,null,null,null,null,null,null,null,null,null,null,null,null,null,null,null,null,"x"]
[null,"x",null,null,null,null,null,null,null,null,null,null,null,null,null,null,null,null,null,null,null,null,null,null,null,null,null,null,null,null,null,null,null,"x"]
[null,"05/03/17",19,"Back",7,8,7,7,6,8,6,5,8,62,null,null,null,null,null,null,null,null,null,null,null,null,null,null,null,null,null,null,null,""]
[null,"05/17/17",20,"Back",8,7,6,8,4,7,6,6,7,59]
[null,"05/31/17",20,"Back",9,7,8,10,6,6,5,6,7,64]
[null,"06/14/17",20,"Back",9,5,7,9,5,6,4,3,7,55]
[null,"06/28/17",19,"Back",8,8,6,9,4,6,6,7,8,62]
[null,"07/12/17",19,"Back",9,6,7,6,5,7,6,7,7,60]
[null,"07/26/17",18,"Back",6,8,6,9,6,8,3,4,6,56]
[null,"08/09/17",18,"Back",8,7,7,8,3,6,6,8,8,61]
[null,"08/23/17",18,"Back",9,6,5,8,5,8,6,6,7,60]
[]
["RGL-052F","x",null,null,null,null,null,null,null,null,null,null,null,null,{"$f":"Q796","v":51},{"$f":"IF(Q796<>\"\",ROUND($P$13*(AVERAGE(Q796:U796)-36),0),\"\")","v":6},"2013-06-12","2009-09-09","2009-09-02","2009-08-26","2009-08-19","2009-08-12",null,null,null,null,null,null,null,null,null,null,null,"x"]
[null,"x",null,null,null,null,null,null,null,null,null,null,null,null,null,null,51,40,45,44,38,49,null,null,null,null,null,null,null,null,null,null,null,"x"]
[null,"",null,null,null,null,null,null,null,null,null,null,null,null,null,null,null,null,null,null,null,null,null,null,null,null,null,null,null,null,null,null,null,""]
["RGL-052B","x",null,null,null,null,null,null,null,null,null,null,null,null,null,null,null,null,null,null,null,null,null,null,null,null,null,null,null,null,null,null,null,"x"]
[null,"x",null,null,null,null,null,null,null,null,null,null,null,null,null,null,null,null,null,null,null,null,null,null,null,null,null,null,null,null,null,null,null,"x"]
[null,"",null,null,null,null,null,null,null,null,null,null,null,null,null,null,null,null,null,null,null,null,null,null,null,null,null,null,null,null,null,null,null,""]
["RGL-053F",7,null,null,null,null,null,null,null,null,null,null,null,null,55,{"$f":"IF(Q802<>\"\",ROUND($P$13*(AVERAGE(Q802:U802)-36),0),\"\")","v":14},"08/23/17","08/16/17","08/09/17","07/26/17","07/19/17","07/12/17","07/05/17","06/28/17","06/21/17","06/07/17","05/31/17","05/24/17","05/17/17","05/10/17","05/03/17","Calc","Calc","x"]
[null,"x",null,null,null,null,null,null,null,null,null,null,null,null,null,null,55,59,51,49,54,51,57,52,59,56,55,58,50,58,53,57,57,"x"]
[null,"05/10/17",16,"Front",9,5,6,8,6,4,8,4,8,58]
[null,"05/24/17",15,"Front",9,6,8,5,6,6,7,6,5,58]
[null,"06/07/17",15,"Front",7,7,6,5,7,5,8,3,8,56]
[null,"06/21/17",16,"Front",9,5,8,7,7,4,7,6,6,59]
[null,"07/05/17",16,"Front",8,5,8,6,6,5,8,3,8,57]
[null,"07/19/17",15,"Front",6,8,8,5,5,4,6,5,7,54]
[null,"08/16/17",13,"Front",7,8,8,4,7,4,8,6,7,59]
[]
["RGL-053B",8,null,null,null,null,null,null,null,null,null,null,null,null,null,null,null,null,null,null,null,null,null,null,null,null,null,null,null,null,null,null,null,"x"]
[null,"x",null,null,null,null,null,null,null,null,null,null,null,null,null,null,null,null,null,null,null,null,null,null,null,null,null,null,null,null,null,null,null,"x"]
[null,"05/03/17",17,"Back",6,8,7,5,5,6,5,5,6,53,null,null,null,null,null,null,null,null,null,null,null,null,null,null,null,null,null,null,null,""]
[null,"05/17/17",16,"Back",7,5,6,7,5,7,4,5,4,50,null,null,null,null,null,null,null,null,null,null,null,null,null,null,null,null,null,null,null,""]
[null,"05/31/17",15,"Back",8,8,8,6,5,5,5,5,5,55]
[null,"06/28/17",16,"Back",6,8,7,5,5,5,5,5,6,52]
[null,"07/12/17",16,"Back",6,6,7,7,5,5,5,6,4,51]
[null,"07/26/17",15,"Back",6,7,6,5,4,5,4,7,5,49]
[null,"08/09/17",13,"Back",7,8,4,6,5,5,2,7,7,51]
[null,"08/23/17",13,"Back",7,4,5,9,6,8,5,5,6,55]
[]
["RGL-054F",6,null,null,null,null,null,null,null,null,null,null,null,null,52,{"$f":"IF(Q823<>\"\",ROUND($P$13*(AVERAGE(Q823:U823)-36),0),\"\")","v":10},"08/23/17","08/16/17","08/09/17","07/26/17","07/19/17","07/12/17","06/28/17","06/21/17","06/14/17","06/07/17","05/31/17","05/24/17","05/17/17","05/10/17","05/03/17","08/31/16","08/24/16","x"]
[null,"x",null,null,null,null,null,null,null,null,null,null,null,null,null,null,52,52,45,46,50,40,45,51,50,51,52,46,47,55,56,49,46,"x"]
[null,"05/10/17",11,"Front",7,6,7,6,5,5,6,5,8,55]
[null,"05/24/17",12,"Front",6,4,6,4,3,5,7,4,7,46]
[null,"06/07/17",12,"Front",8,6,6,4,5,5,6,5,6,51]
[null,"06/21/17",11,"Front",9,7,6,7,5,4,5,3,5,51]
[null,"07/19/17",9,"Front",7,6,6,4,6,4,7,3,7,50]
[null,"08/16/17",7,"Front",7,6,8,6,5,5,7,5,3,52]
[]
["RGL-054B",9,null,null,null,null,null,null,null,null,null,null,null,null,null,null,null,null,null,null,null,null,null,null,null,null,null,null,null,null,null,null,null,"x"]
[null,"x",null,null,null,null,null,null,null,null,null,null,null,null,null,null,null,null,null,null,null,null,null,null,null,null,null,null,null,null,null,null,null,"x"]
[null,"05/03/17",10,"Back",7,6,8,6,4,6,6,6,7,56,null,null,null,null,null,null,null,null,null,null,null,null,null,null,null,null,null,null,null,""]
[null,"05/17/17",12,"Back",7,5,6,5,6,6,3,4,5,47]
[null,"05/31/17",12,"Back",7,6,7,7,5,4,5,5,6,52]
[null,"06/14/17",11,"Back",6,6,3,7,5,8,5,4,6,50]
[null,"06/28/17",11,"Back",8,3,6,7,4,5,4,3,5,45]
[null,"07/12/17",11,"Back",5,4,3,7,4,4,3,4,6,40]
[null,"07/26/17",9,"Back",5,5,4,7,3,6,3,5,8,46]
[null,"08/09/17",8,"Back",7,5,4,6,5,4,3,5,6,45]
[null,"08/23/17",8,"Back",6,7,6,7,5,6,3,6,6,52]
[]
["RGL-055F",7,null,null,null,null,null,null,null,null,null,null,null,null,35,{"$f":"IF(Q844<>\"\",ROUND($P$13*(AVERAGE(Q844:U844)-36),0),\"\")","v":3},"08/23/17","08/16/17","08/09/17","07/26/17","07/19/17","07/12/17","07/05/17","06/28/17","06/21/17","06/14/17","06/07/17","05/31/17","05/24/17","05/17/17","05/10/17","05/03/17","08/24/16","x"]
[null,"x",null,null,null,null,null,null,null,null,null,null,null,null,null,null,35,40,42,41,41,34,38,42,43,40,42,41,46,44,44,40,38,"x"]
[null,"05/10/17",3,"Front",7,5,6,5,5,3,6,2,5,44]
[null,"05/24/17",4,"Front",7,5,8,4,5,4,4,4,5,46]
[null,"06/07/17",6,"Front",5,4,7,6,5,3,5,3,4,42]
[null,"06/21/17",5,"Front",7,4,6,5,5,3,5,3,5,43]
[null,"07/05/17",4,"Front",4,5,5,5,4,4,5,2,4,38]
[null,"07/19/17",3,"Front",6,4,5,5,5,3,5,4,4,41]
[null,"08/16/17",3,"Front",6,5,5,5,3,2,5,5,4,40]
[]
["RGL-055B",9,null,null,null,null,null,null,null,null,null,null,null,null,null,null,null,null,null,null,null,null,null,null,null,null,null,null,null,null,null,null,null,"x"]
[null,"x",null,null,null,null,null,null,null,null,null,null,null,null,null,null,null,null,null,null,null,null,null,null,null,null,null,null,null,null,null,null,null,"x"]
[null,"05/03/17",3,"Back",4,4,4,5,4,5,4,4,6,40,null,null,null,null,null,null,null,null,null,null,null,null,null,null,null,null,null,null,null,""]
[null,"05/17/17",3,"Back",5,6,5,6,4,5,3,4,6,44]
[null,"05/31/17",5,"Back",4,4,6,5,4,5,3,4,6,41]
[null,"06/14/17",6,"Back",4,4,5,6,5,3,4,4,5,40]
[null,"06/28/17",5,"Back",4,5,4,5,5,4,4,5,6,42]
[null,"07/12/17",4,"Back",4,5,4,4,3,4,3,3,4,34]
[null,"07/26/17",3,"Back",5,5,5,6,3,5,4,5,3,41]
[null,"08/09/17",3,"Back",5,4,5,6,3,6,4,3,6,42]
[null,"08/23/17",3,"Back",5,4,4,5,3,3,4,4,3,35]
[]
["RGL-056F","x",null,null,null,null,null,null,null,null,null,null,null,null,34,{"$f":"IF(Q866<>\"\",ROUND($P$13*(AVERAGE(Q866:U866)-36),0),\"\")","v":1},"06/15/16","2015-09-02","2013-08-28","2013-08-14","2013-06-12","2010-08-25","2010-07-14","Calc.","Calc.","Calc.",null,null,null,null,null,null,null,"x"]
[null,"x",null,null,null,null,null,null,null,null,null,null,null,null,null,null,34,40,38,39,38,40,44,41,41,41,null,null,null,null,null,null,null,"x"]
[null,"",null,null,null,null,null,null,null,null,null,null,null,null,null,null,null,null,null,null,null,null,null,null,null,null,null,null,null,null,null,null,null,""]
["RGL-056B","x",null,null,null,null,null,null,null,null,null,null,null,null,null,null,null,null,null,null,null,null,null,null,null,null,null,null,null,null,null,null,null,"x"]
[null,"x",null,null,null,null,null,null,null,null,null,null,null,null,null,null,null,null,null,null,null,null,null,null,null,null,null,null,null,null,null,null,null,"x"]
[null,"",null,null,null,null,null,null,null,null,null,null,null,null,null,null,null,null,null,null,null,null,null,null,null,null,null,null,null,null,null,null,null,""]
[]
["RGL-057F",7,null,null,null,null,null,null,null,null,null,null,null,null,43,{"$f":"IF(Q873<>\"\",ROUND($P$13*(AVERAGE(Q873:U873)-36),0),\"\")","v":7},"08/23/17","08/16/17","08/09/17","07/26/17","07/19/17","07/12/17","07/05/17","06/28/17","06/21/17","06/14/17","06/07/17","05/31/17","05/24/17","05/17/17","05/10/17","05/03/17","Calc","x"]
[null,"x",null,null,null,null,null,null,null,null,null,null,null,null,null,null,43,49,44,41,44,40,44,44,41,40,46,41,49,43,49,46,44,"x"]
[null,"05/10/17",7,"Front",6,6,7,6,5,5,6,4,4,49,null,null,null,null,null,null,null,null,null,null,null,null,null,null,null,null,null,null,null,""]
[null,"05/24/17",7,"Front",8,5,7,5,5,3,8,3,5,49]
[null,"06/07/17",8,"Front",7,6,6,6,4,4,6,3,4,46]
[null,"06/21/17",6,"Front",6,3,5,4,4,3,7,4,5,41]
[null,"07/05/17",5,"Front",6,5,5,5,5,5,4,4,5,44]
[null,"07/19/17",5,"Front",5,5,5,5,5,3,7,4,5,44]
[null,"08/16/17",5,"Front",6,6,6,6,5,4,6,4,6,49]
[]
["RGL-057B",9,null,null,null,null,null,null,null,null,null,null,null,null,null,null,null,null,null,null,null,null,null,null,null,null,null,null,null,null,null,null,null,"x"]
[null,"x",null,null,null,null,null,null,null,null,null,null,null,null,null,null,null,null,null,null,null,null,null,null,null,null,null,null,null,null,null,null,null,"x"]
[null,"05/03/17",6,"Back",6,5,5,5,4,4,4,5,8,46,null,null,null,null,null,null,null,null,null,null,null,null,null,null,null,null,null,null,null,""]
[null,"05/17/17",8,"Back",7,6,4,7,3,5,3,4,4,43]
[null,"05/31/17",8,"Back",5,5,4,6,5,3,4,4,5,41]
[null,"06/14/17",8,"Back",5,6,6,5,3,4,3,3,5,40]
[null,"06/28/17",6,"Back",6,4,5,6,4,6,3,6,4,44]
[null,"07/12/17",6,"Back",5,6,5,5,4,3,4,5,3,40]
[null,"07/26/17",5,"Back",5,5,5,5,3,3,4,6,5,41]
[null,"08/09/17",5,"Back",6,4,4,5,5,6,4,5,5,44]
[null,"08/23/17",6,"Back",5,5,5,6,4,6,4,4,4,43]
[]
["RGL-058F","x",null,null,null,null,null,null,null,null,null,null,null,null,51,{"$f":"IF(Q895<>\"\",ROUND($P$13*(AVERAGE(Q895:U895)-36),0),\"\")","v":4},"Calc.","Calc.","Calc.","Calc.","Calc.",null,null,null,null,null,null,null,null,null,null,null,null,"x"]
[null,"x",null,null,null,null,null,null,null,null,null,null,null,null,null,null,41,41,41,41,41,null,null,null,null,null,null,null,null,null,null,null,null,"x"]
[]
["RGL-058B","x",null,null,null,null,null,null,null,null,null,null,null,null,null,null,null,null,null,null,null,null,null,null,null,null,null,null,null,null,null,null,null,"x"]
[null,"x",null,null,null,null,null,null,null,null,null,null,null,null,null,null,null,null,null,null,null,null,null,null,null,null,null,null,null,null,null,null,null,"x"]
[null,"",null,null,null,null,null,null,null,null,null,null,null,null,null,null,null,null,null,null,null,null,null,null,null,null,null,null,null,null,null,null,null,""]
["RGL-059F",2,null,null,null,null,null,null,null,null,null,null,null,null,54,{"$f":"IF(Q901<>\"\",ROUND($P$13*(AVERAGE(Q901:U901)-36),0),\"\")","v":13},"07/19/17","05/24/17","Calc","Calc","Calc","Calc","Calc",null,null,null,null,null,"05/11/16","04/27/16","Calc","Calc","Calc","x"]
[null,"x",null,null,null,null,null,null,null,null,null,null,null,null,null,null,54,52,51,51,51,51,51,null,null,null,null,null,52,49,47,47,47,"x"]
[null,"05/24/17",12,"Front",7,6,7,5,4,4,8,5,6,52]
[null,"07/19/17",12,"Front",8,7,7,5,5,6,6,4,6,54]
[]
["RGL-059B","x",null,null,null,null,null,null,null,null,null,null,null,null,null,null,null,null,null,null,null,null,null,null,null,null,null,null,null,null,null,null,null,"x"]
[null,"x",null,null,null,null,null,null,null,null,null,null,null,null,null,null,null,null,null,null,null,null,null,null,null,null,null,null,null,null,null,null,null,"x"]
[]
["RGL-060F",7,null,null,null,null,null,null,null,null,null,null,null,null,46,{"$f":"IF(Q909<>\"\",ROUND($P$13*(AVERAGE(Q909:U909)-36),0),\"\")","v":10},"08/23/17","08/16/17","08/09/17","07/26/17","07/19/17","07/12/17","07/05/17","06/28/17","06/21/17","06/14/17","06/07/17","05/31/17","05/24/17","05/17/17","05/10/17","05/03/17","08/31/16","x"]
[null,"x",null,null,null,null,null,null,null,null,null,null,null,null,null,null,46,53,47,42,57,50,47,52,53,47,55,60,54,46,51,58,49,"x"]
[null,"05/10/17",13,"Front",7,4,8,8,4,3,8,4,5,51]
[null,"05/24/17",11,"Front",7,6,7,4,7,4,8,4,7,54]
[null,"06/07/17",14,"Front",7,7,8,4,6,4,7,6,6,55]
[null,"06/21/17",13,"Front",7,8,8,6,5,3,6,3,7,53]
[null,"07/05/17",14,"Front",7,6,7,4,5,3,6,4,5,47]
[null,"07/19/17",11,"Front",10,7,7,7,5,3,8,4,6,57]
[null,"08/16/17",10,"Front",8,7,8,6,4,3,6,4,7,53]
[]
["RGL-060B",9,null,null,null,null,null,null,null,null,null,null,null,null,null,null,null,null,null,null,null,null,null,null,null,null,null,null,null,null,null,null,null,"x"]
[null,"x",null,null,null,null,null,null,null,null,null,null,null,null,null,null,null,null,null,null,null,null,null,null,null,null,null,null,null,null,null,null,null,"x"]
[null,"05/03/17",12,"Back",7,8,6,10,5,7,5,5,5,58,null,null,null,null,null,null,null,null,null,null,null,null,null,null,null,null,null,null,null,""]
[null,"05/17/17",13,"Back",6,6,6,5,4,6,6,4,3,46]
[null,"05/31/17",12,"Back",7,8,8,5,5,8,6,6,7,60]
[null,"06/14/17",14,"Back",5,7,5,5,5,5,6,4,5,47]
[null,"06/28/17",14,"Back",6,6,8,9,4,4,6,4,5,52]
[null,"07/12/17",12,"Back",7,7,7,5,4,4,3,7,6,50]
[null,"07/26/17",13,"Back",4,4,4,5,3,5,6,5,6,42]
[null,"08/09/17",11,"Back",6,6,5,5,4,5,4,7,5,47]
[null,"08/23/17",11,"Back",5,5,6,5,4,7,5,4,5,46]
[]
["RGL-061F",7,null,null,null,null,null,null,null,null,null,null,null,null,52,{"$f":"IF(Q931<>\"\",ROUND($P$13*(AVERAGE(Q931:U931)-36),0),\"\")","v":13},"08/23/17","08/16/17","08/09/17","07/26/17","07/19/17","07/12/17","07/05/17","06/28/17","06/21/17","06/14/17","06/07/17","05/31/17","05/24/17","05/17/17","05/10/17","05/03/17","08/31/16","x"]
[null,"x",null,null,null,null,null,null,null,null,null,null,null,null,null,null,52,57,51,52,52,46,57,50,55,50,58,51,57,56,59,52,61,"x"]
[null,"05/10/17",15,"Front",8,7,8,6,5,5,8,4,8,59]
[null,"05/24/17",17,"Front",9,4,10,7,4,5,8,3,7,57]
[null,"06/07/17",15,"Front",7,5,9,8,6,4,7,4,8,58]
[null,"06/21/17",15,"Front",7,4,9,8,6,6,6,5,4,55]
[null,"07/05/17",13,"Front",8,7,10,4,6,4,8,5,5,57]
[null,"07/19/17",12,"Front",6,6,7,5,6,4,6,4,8,52]
[null,"08/16/17",12,"Front",10,5,9,6,4,4,7,4,8,57]
[]
["RGL-061B",9,null,null,null,null,null,null,null,null,null,null,null,null,null,null,null,null,null,null,null,null,null,null,null,null,null,null,null,null,null,null,null,"x"]
[null,"x",null,null,null,null,null,null,null,null,null,null,null,null,null,null,null,null,null,null,null,null,null,null,null,null,null,null,null,null,null,null,null,"x"]
[null,"05/03/17",16,"Back",7,7,7,7,3,5,4,5,7,52,null,null,null,null,null,null,null,null,null,null,null,null,null,null,null,null,null,null,null,""]
[null,"05/17/17",16,"Back",7,7,8,7,6,5,4,5,7,56]
[null,"05/31/17",17,"Back",8,5,7,5,3,6,5,5,7,51]
[null,"06/14/17",16,"Back",7,6,5,8,4,5,3,5,7,50]
[null,"06/28/17",15,"Back",8,6,7,7,3,4,4,5,6,50]
[null,"07/12/17",14,"Back",6,4,4,5,6,8,5,3,5,46]
[null,"07/26/17",13,"Back",6,6,7,7,4,6,3,6,7,52]
[null,"08/09/17",12,"Back",6,6,8,8,2,5,4,7,5,51]
[null,"08/23/17",12,"Back",7,7,8,8,4,6,4,5,3,52]
[]
["RGL-062F","x",null,null,null,null,null,null,null,null,null,null,null,null,54,{"$f":"IF(Q953<>\"\",ROUND($P$13*(AVERAGE(Q953:U953)-36),0),\"\")","v":12},"06/28/17","07/13/16","2015-07-22","2015-07-15","2015-07-01","2013-07-24","2013-07-17","2013-07-03","2012-08-15","2012-08-01","2011-08-03","2011-07-06",null,null,null,null,null,"x"]
[null,"x",null,null,null,null,null,null,null,null,null,null,null,null,null,null,54,52,50,45,52,40,46,50,43,42,40,42,null,null,null,null,null,"x"]
[null,"",null,null,null,null,null,null,null,null,null,null,null,null,null,null,null,null,null,null,null,null,null,null,null,null,null,null,null,null,null,null,null,""]
["RGL-062B",1,null,null,null,null,null,null,null,null,null,null,null,null,null,null,null,null,null,null,null,null,null,null,null,null,null,null,null,null,null,null,null,"x"]
[null,"x",null,null,null,null,null,null,null,null,null,null,null,null,null,null,null,null,null,null,null,null,null,null,null,null,null,null,null,null,null,null,null,"x"]
[null,"06/28/17",9,"Back",7,6,8,8,6,5,5,4,5,54]
[]
["RGL-063F",7,null,null,null,null,null,null,null,null,null,null,null,null,53,{"$f":"IF(Q960<>\"\",ROUND($P$13*(AVERAGE(Q960:U960)-36),0),\"\")","v":18},"08/23/17","08/16/17","08/09/17","07/26/17","07/19/17","07/12/17","07/05/17","06/28/17","06/21/17","06/14/17","06/07/17","05/31/17","05/24/17","05/17/17","05/10/17","05/03/17","Calc","x"]
[null,"x",null,null,null,null,null,null,null,null,null,null,null,null,null,null,53,65,61,57,56,54,64,57,63,60,63,60,59,64,60,68,55,"x"]
[null,"05/10/17",17,"Front",10,8,10,7,5,5,7,3,5,60,null,null,null,null,null,null,null,null,null,null,null,null,null,null,null,null,null,null,null,""]
[null,"05/24/17",20,"Front",8,7,10,5,5,4,8,4,8,59]
[null,"06/07/17",21,"Front",8,8,10,8,5,4,8,4,8,63]
[null,"06/21/17",20,"Front",8,8,10,8,3,6,8,4,8,63]
[null,"07/05/17",20,"Front",9,8,9,7,7,5,8,4,7,64]
[null,"07/19/17",19,"Front",7,7,7,4,7,5,8,3,8,56]
[null,"08/16/17",18,"Front",10,5,10,8,7,6,8,6,5,65]
[]
["RGL-063B",9,null,null,null,null,null,null,null,null,null,null,null,null,null,null,null,null,null,null,null,null,null,null,null,null,null,null,null,null,null,null,null,"x"]
[null,"x",null,null,null,null,null,null,null,null,null,null,null,null,null,null,null,null,null,null,null,null,null,null,null,null,null,null,null,null,null,null,null,"x"]
[null,"05/03/17",15,"Back",8,8,8,9,6,8,6,8,7,68,null,null,null,null,null,null,null,null,null,null,null,null,null,null,null,null,null,null,null,""]
[null,"05/17/17",18,"Back",7,8,8,8,5,8,6,7,7,64]
[null,"05/31/17",20,"Back",9,7,6,8,6,6,4,8,6,60]
[null,"06/14/17",20,"Back",8,8,7,4,6,6,6,7,8,60]
[null,"06/28/17",20,"Back",9,8,7,6,6,6,6,3,6,57]
[null,"07/12/17",20,"Back",8,5,7,5,6,8,5,5,5,54]
[null,"07/26/17",18,"Back",8,4,7,7,5,8,6,4,8,57]
[null,"08/09/17",17,"Back",9,8,5,8,4,8,3,8,8,61]
[null,"08/23/17",18,"Back",7,7,7,4,6,6,6,3,7,53]
[]
["RGL-064F","x",null,null,null,null,null,null,null,null,null,null,null,null,{"$f":"Q982","v":49},{"$f":"IF(Q982<>\"\",ROUND($P$13*(AVERAGE(Q982:U982)-36),0),\"\")","v":7},"2015-08-26","2015-08-19","2015-08-12","2015-08-05","2015-07-29","2015-07-22","2015-07-15","2015-07-08","2015-06-17","Calc.",null,null,null,null,null,null,null,"x"]
[null,"x",null,null,null,null,null,null,null,null,null,null,null,null,null,null,49,42,50,42,43,41,46,38,49,46,null,null,null,null,null,null,null,"x"]
[null,"",null,null,null,null,null,null,null,null,null,null,null,null,null,null,null,null,null,null,null,null,null,null,null,null,null,null,null,null,null,null,null,""]
["RGL-064B","x",null,null,null,null,null,null,null,null,null,null,null,null,null,null,null,null,null,null,null,null,null,null,null,null,null,null,null,null,null,null,null,"x"]
[null,"x",null,null,null,null,null,null,null,null,null,null,null,null,null,null,null,null,null,null,null,null,null,null,null,null,null,null,null,null,null,null,null,"x"]
[null,"",null,null,null,null,null,null,null,null,null,null,null,null,null,null,null,null,null,null,null,null,null,null,null,null,null,null,null,null,null,null,null,""]
["RGL-065F","x",null,null,null,null,null,null,null,null,null,null,null,null,59,{"$f":"IF(Q988<>\"\",ROUND($P$13*(AVERAGE(Q988:U988)-36),0),\"\")","v":16},"05/03/17","07/06/16","2015-06-03","2015-04-29","2013-06-19","2012-08-22","2012-05-09","2012-04-25","2011-04-27","2010-08-04","2010-06-23","2010-06-02",null,null,null,null,null,"x"]
[null,"x",null,null,null,null,null,null,null,null,null,null,null,null,null,null,59,59,55,50,55,56,54,57,62,59,65,61,null,null,null,null,null,"x"]
[null,"",null,null,null,null,null,null,null,null,null,null,null,null,null,null,null,null,null,null,null,null,null,null,null,null,null,null,null,null,null,null,null,""]
["RGL-065B",1,null,null,null,null,null,null,null,null,null,null,null,null,null,null,null,null,null,null,null,null,null,null,null,null,null,null,null,null,null,null,null,"x"]
[null,"x",null,null,null,null,null,null,null,null,null,null,null,null,null,null,null,null,null,null,null,null,null,null,null,null,null,null,null,null,null,null,null,"x"]
[null,"05/03/17",15,"Back",7,8,6,8,4,8,6,6,6,59,null,null,null,null,null,null,null,null,null,null,null,null,null,null,null,null,null,null,null,""]
[]
["RGL-066F","x",null,null,null,null,null,null,null,null,null,null,null,null,{"$f":"Q995","v":52},{"$f":"IF(Q995<>\"\",ROUND($P$13*(AVERAGE(Q995:U995)-36),0),\"\")","v":9},"06/08/16","05/25/16","05/18/16","2010-08-11","2009-09-09","2009-09-02","2009-08-26","2009-08-19",null,null,null,null,null,null,null,null,null,"x"]
[null,"x",null,null,null,null,null,null,null,null,null,null,null,null,null,null,52,55,44,42,42,56,47,52,null,null,null,null,null,null,null,null,null,"x"]
[null,"",null,null,null,null,null,null,null,null,null,null,null,null,null,null,null,null,null,null,null,null,null,null,null,null,null,null,null,null,null,null,null,""]
["RGL-066B","x",null,null,null,null,null,null,null,null,null,null,null,null,null,null,null,null,null,null,null,null,null,null,null,null,null,null,null,null,null,null,null,"x"]
[null,"x",null,null,null,null,null,null,null,null,null,null,null,null,null,null,null,null,null,null,null,null,null,null,null,null,null,null,null,null,null,null,null,"x"]
[null,"",null,null,null,null,null,null,null,null,null,null,null,null,null,null,null,null,null,null,null,null,null,null,null,null,null,null,null,null,null,null,null,""]
["RGL-067F","x",null,null,null,null,null,null,null,null,null,null,null,null,55,{"$f":"IF(Q1001<>\"\",ROUND($P$13*(AVERAGE(Q1001:U1001)-36),0),\"\")","v":13},"07/27/16","Calc","Calc","Calc","Calc","Calc",null,null,null,null,null,null,null,null,null,null,null,"x"]
[null,"x",null,null,null,null,null,null,null,null,null,null,null,null,null,null,55,51,51,51,51,51,null,null,null,null,null,null,null,null,null,null,null,"x"]
[null,"",null,null,null,null,null,null,null,null,null,null,null,null,null,null,null,null,null,null,null,null,null,null,null,null,null,null,null,null,null,null,null,""]
["RGL-067B","x",null,null,null,null,null,null,null,null,null,null,null,null,null,null,null,null,null,null,null,null,null,null,null,null,null,null,null,null,null,null,null,"x"]
[null,"x",null,null,null,null,null,null,null,null,null,null,null,null,null,null,null,null,null,null,null,null,null,null,null,null,null,null,null,null,null,null,null,"x"]
[]
["RGL-068F","x",null,null,null,null,null,null,null,null,null,null,null,null,45,{"$f":"IF(Q1007<>\"\",ROUND($P$13*(AVERAGE(Q1007:U1007)-36),0),\"\")","v":10},"08/31/16","08/24/16","08/17/16","08/03/16","07/27/16","07/20/16","07/13/16","07/06/16","06/29/16","06/15/16","06/08/16","06/01/16","05/18/16","05/11/16","05/04/16","04/27/16","2015-09-02","x"]
[null,"x",null,null,null,null,null,null,null,null,null,null,null,null,null,null,45,39,59,48,51,48,44,55,46,48,51,48,48,56,51,52,47,"x"]
[]
["RGL-068B","x",null,null,null,null,null,null,null,null,null,null,null,null,null,null,null,null,null,null,null,null,null,null,null,null,null,null,null,null,null,null,null,"x"]
[null,"x",null,null,null,null,null,null,null,null,null,null,null,null,null,null,null,null,null,null,null,null,null,null,null,null,null,null,null,null,null,null,null,"x"]
[]
["RGL-069F",5,null,null,null,null,null,null,null,null,null,null,null,null,48,{"$f":"IF(Q1013<>\"\",ROUND($P$13*(AVERAGE(Q1013:U1013)-36),0),\"\")","v":13},"08/23/17","08/16/17","08/09/17","07/26/17","07/12/17","07/05/17","06/28/17","06/21/17","06/14/17","05/31/17","05/24/17","05/17/17","05/10/17","05/03/17","Calc","Calc","Calc","x"]
[null,"x",null,null,null,null,null,null,null,null,null,null,null,null,null,null,48,51,57,53,52,52,50,55,46,49,55,50,57,49,50,50,50,"x"]
[null,"05/10/17",11,"Front",10,6,8,6,6,4,7,4,6,57,null,null,null,null,null,null,null,null,null,null,null,null,null,null,null,null,null,null,null,""]
[null,"05/24/17",12,"Front",8,7,8,7,4,4,6,4,7,55]
[null,"06/21/17",12,"Front",7,6,8,7,4,5,8,4,6,55]
[null,"07/05/17",12,"Front",7,5,6,8,6,3,8,3,6,52]
[null,"08/16/17",13,"Front",8,5,8,5,5,5,7,4,4,51]
[]
["RGL-069B",9,null,null,null,null,null,null,null,null,null,null,null,null,null,null,null,null,null,null,null,null,null,null,null,null,null,null,null,null,null,null,null,"x"]
[null,"x",null,null,null,null,null,null,null,null,null,null,null,null,null,null,null,null,null,null,null,null,null,null,null,null,null,null,null,null,null,null,null,"x"]
[null,"05/03/17",11,"Back",5,7,5,6,4,6,6,5,5,49,null,null,null,null,null,null,null,null,null,null,null,null,null,null,null,null,null,null,null,""]
[null,"05/17/17",12,"Back",7,6,5,8,4,6,4,5,5,50]
[null,"05/31/17",13,"Back",7,7,5,6,4,6,5,4,5,49]
[null,"06/14/17",13,"Back",7,6,4,6,4,5,4,5,5,46]
[null,"06/28/17",12,"Back",8,6,7,5,5,4,6,4,5,50]
[null,"07/12/17",12,"Back",7,6,5,5,5,7,5,5,7,52]
[null,"07/26/17",12,"Back",7,6,7,6,4,6,5,6,6,53]
[null,"08/09/17",13,"Back",5,7,6,8,5,5,6,8,7,57]
[null,"08/23/17",14,"Back",5,6,6,6,5,5,5,5,5,48]
[]
["RGL-070F",2,null,null,null,null,null,null,null,null,null,null,null,null,55,{"$f":"IF(Q1033<>\"\",ROUND($P$13*(AVERAGE(Q1033:U1033)-36),0),\"\")","v":15},"07/12/17","06/14/17","06/07/17","05/10/17","Calc","Calc","Calc","Calc","Calc",null,null,null,null,null,"06/15/16","06/08/16","06/01/16","x"]
[null,"x",null,null,null,null,null,null,null,null,null,null,null,null,null,null,55,57,56,54,52,52,52,52,52,null,null,null,null,null,53,59,58,"x"]
[null,"05/10/17",13,"Front",10,6,8,5,5,4,7,3,6,54]
[null,"06/07/17",13,"Front",10,4,8,5,6,4,8,5,6,56]
[]
["RGL-070B",2,null,null,null,null,null,null,null,null,null,null,null,null,null,null,null,null,null,null,null,null,null,null,null,null,null,null,null,null,null,null,null,"x"]
[null,"x",null,null,null,null,null,null,null,null,null,null,null,null,null,null,null,null,null,null,null,null,null,null,null,null,null,null,null,null,null,null,null,"x"]
[null,"06/14/17",14,"Back",8,6,5,8,5,6,6,6,7,57]
[null,"07/12/17",15,"Back",5,7,7,5,6,7,5,7,6,55]
[]
["RGL-071F","x",null,null,null,null,null,null,null,null,null,null,null,null,{"$f":"IF(Q1043<>\"\",Q1043,\"\")","v":""},{"$f":"IF(Q1043<>\"\",ROUND($P$13*(AVERAGE(Q1043:U1043)-36),0),\"\")","v":""},null,null,null,null,null,null,null,null,null,null,null,null,null,null,null,null,null,"x"]
[null,"x",null,null,null,null,null,null,null,null,null,null,null,null,null,null,null,null,null,null,null,null,null,null,null,null,null,null,null,null,null,null,null,"x"]
[null,"",null,null,null,null,null,null,null,null,null,null,null,null,null,null,null,null,null,null,null,null,null,null,null,null,null,null,null,null,null,null,null,""]
["RGL-071B","x",null,null,null,null,null,null,null,null,null,null,null,null,null,null,null,null,null,null,null,null,null,null,null,null,null,null,null,null,null,null,null,"x"]
[null,"x",null,null,null,null,null,null,null,null,null,null,null,null,null,null,null,null,null,null,null,null,null,null,null,null,null,null,null,null,null,null,null,"x"]
[]
["RGL-072F","x",null,null,null,null,null,null,null,null,null,null,null,null,{"$f":"IF(Q1049<>\"\",Q1049,\"\")","v":""},{"$f":"IF(Q1049<>\"\",ROUND($P$13*(AVERAGE(Q1049:U1049)-36),0),\"\")","v":""},null,null,null,null,null,null,null,null,null,null,null,null,null,null,null,null,null,"x"]
[null,"x",null,null,null,null,null,null,null,null,null,null,null,null,null,null,null,null,null,null,null,null,null,null,null,null,null,null,null,null,null,null,null,"x"]
[null,"",null,null,null,null,null,null,null,null,null,null,null,null,null,null,null,null,null,null,null,null,null,null,null,null,null,null,null,null,null,null,null,""]
["RGL-072B","x",null,null,null,null,null,null,null,null,null,null,null,null,null,null,null,null,null,null,null,null,null,null,null,null,null,null,null,null,null,null,null,"x"]
[null,"x",null,null,null,null,null,null,null,null,null,null,null,null,null,null,null,null,null,null,null,null,null,null,null,null,null,null,null,null,null,null,null,"x"]
[null,"",null,null,null,null,null,null,null,null,null,null,null,null,null,null,null,null,null,null,null,null,null,null,null,null,null,null,null,null,null,null,null,""]
["RGL-073F","x",null,null,null,null,null,null,null,null,null,null,null,null,{"$f":"IF(Q1055<>\"\",Q1055,\"\")","v":""},{"$f":"IF(Q1055<>\"\",ROUND($P$13*(AVERAGE(Q1055:U1055)-36),0),\"\")","v":""},null,null,null,null,null,null,null,null,null,null,null,null,null,null,null,null,null,"x"]
[null,"x",null,null,null,null,null,null,null,null,null,null,null,null,null,null,null,null,null,null,null,null,null,null,null,null,null,null,null,null,null,null,null,"x"]
[null,"",null,null,null,null,null,null,null,null,null,null,null,null,null,null,null,null,null,null,null,null,null,null,null,null,null,null,null,null,null,null,null,""]
["RGL-073B","x",null,null,null,null,null,null,null,null,null,null,null,null,null,null,null,null,null,null,null,null,null,null,null,null,null,null,null,null,null,null,null,"x"]
[null,"x",null,null,null,null,null,null,null,null,null,null,null,null,null,null,null,null,null,null,null,null,null,null,null,null,null,null,null,null,null,null,null,"x"]
[null,"",null,null,null,null,null,null,null,null,null,null,null,null,null,null,null,null,null,null,null,null,null,null,null,null,null,null,null,null,null,null,null,""]
["RGL-074F","x",null,null,null,null,null,null,null,null,null,null,null,null,{"$f":"IF(Q1061<>\"\",Q1061,\"\")","v":""},{"$f":"IF(Q1061<>\"\",ROUND($P$13*(AVERAGE(Q1061:U1061)-36),0),\"\")","v":""},null,null,null,null,null,null,null,null,null,null,null,null,null,null,null,null,null,"x"]
[null,"x",null,null,null,null,null,null,null,null,null,null,null,null,null,null,null,null,null,null,null,null,null,null,null,null,null,null,null,null,null,null,null,"x"]
[null,"",null,null,null,null,null,null,null,null,null,null,null,null,null,null,null,null,null,null,null,null,null,null,null,null,null,null,null,null,null,null,null,""]
["RGL-074B","x",null,null,null,null,null,null,null,null,null,null,null,null,null,null,null,null,null,null,null,null,null,null,null,null,null,null,null,null,null,null,null,"x"]
[null,"x",null,null,null,null,null,null,null,null,null,null,null,null,null,null,null,null,null,null,null,null,null,null,null,null,null,null,null,null,null,null,null,"x"]
[null,"",null,null,null,null,null,null,null,null,null,null,null,null,null,null,null,null,null,null,null,null,null,null,null,null,null,null,null,null,null,null,null,""]
["RGL-075F","x",null,null,null,null,null,null,null,null,null,null,null,null,{"$f":"IF(Q1067<>\"\",Q1067,\"\")","v":""},{"$f":"IF(Q1067<>\"\",ROUND($P$13*(AVERAGE(Q1067:U1067)-36),0),\"\")","v":""},null,null,null,null,null,null,null,null,null,null,null,null,null,null,null,null,null,"x"]
[null,"x",null,null,null,null,null,null,null,null,null,null,null,null,null,null,null,null,null,null,null,null,null,null,null,null,null,null,null,null,null,null,null,"x"]
[null,"",null,null,null,null,null,null,null,null,null,null,null,null,null,null,null,null,null,null,null,null,null,null,null,null,null,null,null,null,null,null,null,""]
["RGL-075B","x",null,null,null,null,null,null,null,null,null,null,null,null,null,null,null,null,null,null,null,null,null,null,null,null,null,null,null,null,null,null,null,"x"]
[null,"x",null,null,null,null,null,null,null,null,null,null,null,null,null,null,null,null,null,null,null,null,null,null,null,null,null,null,null,null,null,null,null,"x"]
[null,"",null,null,null,null,null,null,null,null,null,null,null,null,null,null,null,null,null,null,null,null,null,null,null,null,null,null,null,null,null,null,null,""]
["RGL-076F","x",null,null,null,null,null,null,null,null,null,null,null,null,{"$f":"IF(Q1073<>\"\",Q1073,\"\")","v":""},{"$f":"IF(Q1073<>\"\",ROUND($P$13*(AVERAGE(Q1073:U1073)-36),0),\"\")","v":""},null,null,null,null,null,null,null,null,null,null,null,null,null,null,null,null,null,"x"]
[null,"x",null,null,null,null,null,null,null,null,null,null,null,null,null,null,null,null,null,null,null,null,null,null,null,null,null,null,null,null,null,null,null,"x"]
[null,"",null,null,null,null,null,null,null,null,null,null,null,null,null,null,null,null,null,null,null,null,null,null,null,null,null,null,null,null,null,null,null,""]
["RGL-076B","x",null,null,null,null,null,null,null,null,null,null,null,null,null,null,null,null,null,null,null,null,null,null,null,null,null,null,null,null,null,null,null,"x"]
[null,"x",null,null,null,null,null,null,null,null,null,null,null,null,null,null,null,null,null,null,null,null,null,null,null,null,null,null,null,null,null,null,null,"x"]
[null,"",null,null,null,null,null,null,null,null,null,null,null,null,null,null,null,null,null,null,null,null,null,null,null,null,null,null,null,null,null,null,null,""]
["RGL-077F","x",null,null,null,null,null,null,null,null,null,null,null,null,{"$f":"IF(Q1079<>\"\",Q1079,\"\")","v":""},{"$f":"IF(Q1079<>\"\",ROUND($P$13*(AVERAGE(Q1079:U1079)-36),0),\"\")","v":""},null,null,null,null,null,null,null,null,null,null,null,null,null,null,null,null,null,"x"]
[null,"x",null,null,null,null,null,null,null,null,null,null,null,null,null,null,null,null,null,null,null,null,null,null,null,null,null,null,null,null,null,null,null,"x"]
[null,"",null,null,null,null,null,null,null,null,null,null,null,null,null,null,null,null,null,null,null,null,null,null,null,null,null,null,null,null,null,null,null,""]
["RGL-077B","x",null,null,null,null,null,null,null,null,null,null,null,null,null,null,null,null,null,null,null,null,null,null,null,null,null,null,null,null,null,null,null,"x"]
[null,"x",null,null,null,null,null,null,null,null,null,null,null,null,null,null,null,null,null,null,null,null,null,null,null,null,null,null,null,null,null,null,null,"x"]
[null,"",null,null,null,null,null,null,null,null,null,null,null,null,null,null,null,null,null,null,null,null,null,null,null,null,null,null,null,null,null,null,null,""]
["RGL-078F","x",null,null,null,null,null,null,null,null,null,null,null,null,{"$f":"IF(Q1085<>\"\",Q1085,\"\")","v":""},{"$f":"IF(Q1085<>\"\",ROUND($P$13*(AVERAGE(Q1085:U1085)-36),0),\"\")","v":""},null,null,null,null,null,null,null,null,null,null,null,null,null,null,null,null,null,"x"]
[null,"x",null,null,null,null,null,null,null,null,null,null,null,null,null,null,null,null,null,null,null,null,null,null,null,null,null,null,null,null,null,null,null,"x"]
[null,"",null,null,null,null,null,null,null,null,null,null,null,null,null,null,null,null,null,null,null,null,null,null,null,null,null,null,null,null,null,null,null,""]
["RGL-078B","x",null,null,null,null,null,null,null,null,null,null,null,null,null,null,null,null,null,null,null,null,null,null,null,null,null,null,null,null,null,null,null,"x"]
[null,"x",null,null,null,null,null,null,null,null,null,null,null,null,null,null,null,null,null,null,null,null,null,null,null,null,null,null,null,null,null,null,null,"x"]
[null,"",null,null,null,null,null,null,null,null,null,null,null,null,null,null,null,null,null,null,null,null,null,null,null,null,null,null,null,null,null,null,null,""]
["RGL-079F","x",null,null,null,null,null,null,null,null,null,null,null,null,{"$f":"IF(Q1091<>\"\",Q1091,\"\")","v":""},{"$f":"IF(Q1091<>\"\",ROUND($P$13*(AVERAGE(Q1091:U1091)-36),0),\"\")","v":""},null,null,null,null,null,null,null,null,null,null,null,null,null,null,null,null,null,"x"]
[null,"x",null,null,null,null,null,null,null,null,null,null,null,null,null,null,null,null,null,null,null,null,null,null,null,null,null,null,null,null,null,null,null,"x"]
[null,"",null,null,null,null,null,null,null,null,null,null,null,null,null,null,null,null,null,null,null,null,null,null,null,null,null,null,null,null,null,null,null,""]
["RGL-079B","x",null,null,null,null,null,null,null,null,null,null,null,null,null,null,null,null,null,null,null,null,null,null,null,null,null,null,null,null,null,null,null,"x"]
[null,"x",null,null,null,null,null,null,null,null,null,null,null,null,null,null,null,null,null,null,null,null,null,null,null,null,null,null,null,null,null,null,null,"x"]
[null,"",null,null,null,null,null,null,null,null,null,null,null,null,null,null,null,null,null,null,null,null,null,null,null,null,null,null,null,null,null,null,null,""]
["RGL-080F","x",null,null,null,null,null,null,null,null,null,null,null,null,{"$f":"IF(Q1097<>\"\",Q1097,\"\")","v":""},{"$f":"IF(Q1097<>\"\",ROUND($P$13*(AVERAGE(Q1097:U1097)-36),0),\"\")","v":""},null,null,null,null,null,null,null,null,null,null,null,null,null,null,null,null,null,"x"]
[null,"x",null,null,null,null,null,null,null,null,null,null,null,null,null,null,null,null,null,null,null,null,null,null,null,null,null,null,null,null,null,null,null,"x"]
[null,"",null,null,null,null,null,null,null,null,null,null,null,null,null,null,null,null,null,null,null,null,null,null,null,null,null,null,null,null,null,null,null,""]
["RGL-080B","x",null,null,null,null,null,null,null,null,null,null,null,null,null,null,null,null,null,null,null,null,null,null,null,null,null,null,null,null,null,null,null,"x"]
[null,"x",null,null,null,null,null,null,null,null,null,null,null,null,null,null,null,null,null,null,null,null,null,null,null,null,null,null,null,null,null,null,null,"x"]
[null,"",null,null,null,null,null,null,null,null,null,null,null,null,null,null,null,null,null,null,null,null,null,null,null,null,null,null,null,null,null,null,null,""]
["RGL-081F","x",null,null,null,null,null,null,null,null,null,null,null,null,{"$f":"IF(Q1103<>\"\",Q1103,\"\")","v":""},{"$f":"IF(Q1103<>\"\",ROUND($P$13*(AVERAGE(Q1103:U1103)-36),0),\"\")","v":""},null,null,null,null,null,null,null,null,null,null,null,null,null,null,null,null,null,"x"]
[null,"x",null,null,null,null,null,null,null,null,null,null,null,null,null,null,null,null,null,null,null,null,null,null,null,null,null,null,null,null,null,null,null,"x"]
[null,"",null,null,null,null,null,null,null,null,null,null,null,null,null,null,null,null,null,null,null,null,null,null,null,null,null,null,null,null,null,null,null,""]
["RGL-081B","x",null,null,null,null,null,null,null,null,null,null,null,null,null,null,null,null,null,null,null,null,null,null,null,null,null,null,null,null,null,null,null,"x"]
[null,"x",null,null,null,null,null,null,null,null,null,null,null,null,null,null,null,null,null,null,null,null,null,null,null,null,null,null,null,null,null,null,null,"x"]
[null,"",null,null,null,null,null,null,null,null,null,null,null,null,null,null,null,null,null,null,null,null,null,null,null,null,null,null,null,null,null,null,null,""]
["RGL-082F","x",null,null,null,null,null,null,null,null,null,null,null,null,{"$f":"IF(Q1109<>\"\",Q1109,\"\")","v":""},{"$f":"IF(Q1109<>\"\",ROUND($P$13*(AVERAGE(Q1109:U1109)-36),0),\"\")","v":""},null,null,null,null,null,null,null,null,null,null,null,null,null,null,null,null,null,"x"]
[null,"x",null,null,null,null,null,null,null,null,null,null,null,null,null,null,null,null,null,null,null,null,null,null,null,null,null,null,null,null,null,null,null,"x"]
[null,"",null,null,null,null,null,null,null,null,null,null,null,null,null,null,null,null,null,null,null,null,null,null,null,null,null,null,null,null,null,null,null,""]
["RGL-082B","x",null,null,null,null,null,null,null,null,null,null,null,null,null,null,null,null,null,null,null,null,null,null,null,null,null,null,null,null,null,null,null,"x"]
[null,"x",null,null,null,null,null,null,null,null,null,null,null,null,null,null,null,null,null,null,null,null,null,null,null,null,null,null,null,null,null,null,null,"x"]
[null,"",null,null,null,null,null,null,null,null,null,null,null,null,null,null,null,null,null,null,null,null,null,null,null,null,null,null,null,null,null,null,null,""]
["RGL-083F","x",null,null,null,null,null,null,null,null,null,null,null,null,{"$f":"IF(Q1115<>\"\",Q1115,\"\")","v":""},{"$f":"IF(Q1115<>\"\",ROUND($P$13*(AVERAGE(Q1115:U1115)-36),0),\"\")","v":""},null,null,null,null,null,null,null,null,null,null,null,null,null,null,null,null,null,"x"]
[null,"x",null,null,null,null,null,null,null,null,null,null,null,null,null,null,null,null,null,null,null,null,null,null,null,null,null,null,null,null,null,null,null,"x"]
[null,"",null,null,null,null,null,null,null,null,null,null,null,null,null,null,null,null,null,null,null,null,null,null,null,null,null,null,null,null,null,null,null,""]
["RGL-083B","x",null,null,null,null,null,null,null,null,null,null,null,null,null,null,null,null,null,null,null,null,null,null,null,null,null,null,null,null,null,null,null,"x"]
[null,"x",null,null,null,null,null,null,null,null,null,null,null,null,null,null,null,null,null,null,null,null,null,null,null,null,null,null,null,null,null,null,null,"x"]
[null,"",null,null,null,null,null,null,null,null,null,null,null,null,null,null,null,null,null,null,null,null,null,null,null,null,null,null,null,null,null,null,null,""]
["RGL-084F","x",null,null,null,null,null,null,null,null,null,null,null,null,{"$f":"IF(Q1121<>\"\",Q1121,\"\")","v":""},{"$f":"IF(Q1121<>\"\",ROUND($P$13*(AVERAGE(Q1121:U1121)-36),0),\"\")","v":""},null,null,null,null,null,null,null,null,null,null,null,null,null,null,null,null,null,"x"]
[null,"x",null,null,null,null,null,null,null,null,null,null,null,null,null,null,null,null,null,null,null,null,null,null,null,null,null,null,null,null,null,null,null,"x"]
[null,"",null,null,null,null,null,null,null,null,null,null,null,null,null,null,null,null,null,null,null,null,null,null,null,null,null,null,null,null,null,null,null,""]
["RGL-084B","x",null,null,null,null,null,null,null,null,null,null,null,null,null,null,null,null,null,null,null,null,null,null,null,null,null,null,null,null,null,null,null,"x"]
[null,"x",null,null,null,null,null,null,null,null,null,null,null,null,null,null,null,null,null,null,null,null,null,null,null,null,null,null,null,null,null,null,null,"x"]
[null,"",null,null,null,null,null,null,null,null,null,null,null,null,null,null,null,null,null,null,null,null,null,null,null,null,null,null,null,null,null,null,null,""]
["RGL-085F","x",null,null,null,null,null,null,null,null,null,null,null,null,{"$f":"IF(Q1127<>\"\",Q1127,\"\")","v":""},{"$f":"IF(Q1127<>\"\",ROUND($P$13*(AVERAGE(Q1127:U1127)-36),0),\"\")","v":""},null,null,null,null,null,null,null,null,null,null,null,null,null,null,null,null,null,"x"]
[null,"x",null,null,null,null,null,null,null,null,null,null,null,null,null,null,null,null,null,null,null,null,null,null,null,null,null,null,null,null,null,null,null,"x"]
[null,"",null,null,null,null,null,null,null,null,null,null,null,null,null,null,null,null,null,null,null,null,null,null,null,null,null,null,null,null,null,null,null,""]
["RGL-085B","x",null,null,null,null,null,null,null,null,null,null,null,null,null,null,null,null,null,null,null,null,null,null,null,null,null,null,null,null,null,null,null,"x"]
[null,"x",null,null,null,null,null,null,null,null,null,null,null,null,null,null,null,null,null,null,null,null,null,null,null,null,null,null,null,null,null,null,null,"x"]
[null,"",null,null,null,null,null,null,null,null,null,null,null,null,null,null,null,null,null,null,null,null,null,null,null,null,null,null,null,null,null,null,null,""]
["RGL-086F","x",null,null,null,null,null,null,null,null,null,null,null,null,{"$f":"IF(Q1133<>\"\",Q1133,\"\")","v":""},{"$f":"IF(Q1133<>\"\",ROUND($P$13*(AVERAGE(Q1133:U1133)-36),0),\"\")","v":""},null,null,null,null,null,null,null,null,null,null,null,null,null,null,null,null,null,"x"]
[null,"x",null,null,null,null,null,null,null,null,null,null,null,null,null,null,null,null,null,null,null,null,null,null,null,null,null,null,null,null,null,null,null,"x"]
[null,"",null,null,null,null,null,null,null,null,null,null,null,null,null,null,null,null,null,null,null,null,null,null,null,null,null,null,null,null,null,null,null,""]
["RGL-086B","x",null,null,null,null,null,null,null,null,null,null,null,null,null,null,null,null,null,null,null,null,null,null,null,null,null,null,null,null,null,null,null,"x"]
[null,"x",null,null,null,null,null,null,null,null,null,null,null,null,null,null,null,null,null,null,null,null,null,null,null,null,null,null,null,null,null,null,null,"x"]
[null,"",null,null,null,null,null,null,null,null,null,null,null,null,null,null,null,null,null,null,null,null,null,null,null,null,null,null,null,null,null,null,null,""]
["RGL-087F","x",null,null,null,null,null,null,null,null,null,null,null,null,{"$f":"IF(Q1139<>\"\",Q1139,\"\")","v":""},{"$f":"IF(Q1139<>\"\",ROUND($P$13*(AVERAGE(Q1139:U1139)-36),0),\"\")","v":""},null,null,null,null,null,null,null,null,null,null,null,null,null,null,null,null,null,"x"]
[null,"x",null,null,null,null,null,null,null,null,null,null,null,null,null,null,null,null,null,null,null,null,null,null,null,null,null,null,null,null,null,null,null,"x"]
[null,"",null,null,null,null,null,null,null,null,null,null,null,null,null,null,null,null,null,null,null,null,null,null,null,null,null,null,null,null,null,null,null,""]
["RGL-087B","x",null,null,null,null,null,null,null,null,null,null,null,null,null,null,null,null,null,null,null,null,null,null,null,null,null,null,null,null,null,null,null,"x"]
[null,"x",null,null,null,null,null,null,null,null,null,null,null,null,null,null,null,null,null,null,null,null,null,null,null,null,null,null,null,null,null,null,null,"x"]
[null,"",null,null,null,null,null,null,null,null,null,null,null,null,null,null,null,null,null,null,null,null,null,null,null,null,null,null,null,null,null,null,null,""]
["RGL-088F","x",null,null,null,null,null,null,null,null,null,null,null,null,{"$f":"IF(Q1145<>\"\",Q1145,\"\")","v":""},{"$f":"IF(Q1145<>\"\",ROUND($P$13*(AVERAGE(Q1145:U1145)-36),0),\"\")","v":""},null,null,null,null,null,null,null,null,null,null,null,null,null,null,null,null,null,"x"]
[null,"x",null,null,null,null,null,null,null,null,null,null,null,null,null,null,null,null,null,null,null,null,null,null,null,null,null,null,null,null,null,null,null,"x"]
[null,"",null,null,null,null,null,null,null,null,null,null,null,null,null,null,null,null,null,null,null,null,null,null,null,null,null,null,null,null,null,null,null,""]
["RGL-088B","x",null,null,null,null,null,null,null,null,null,null,null,null,null,null,null,null,null,null,null,null,null,null,null,null,null,null,null,null,null,null,null,"x"]
[null,"x",null,null,null,null,null,null,null,null,null,null,null,null,null,null,null,null,null,null,null,null,null,null,null,null,null,null,null,null,null,null,null,"x"]
[null,"",null,null,null,null,null,null,null,null,null,null,null,null,null,null,null,null,null,null,null,null,null,null,null,null,null,null,null,null,null,null,null,""]
["RGL-089F","x",null,null,null,null,null,null,null,null,null,null,null,null,{"$f":"IF(Q1151<>\"\",Q1151,\"\")","v":""},{"$f":"IF(Q1151<>\"\",ROUND($P$13*(AVERAGE(Q1151:U1151)-36),0),\"\")","v":""},null,null,null,null,null,null,null,null,null,null,null,null,null,null,null,null,null,"x"]
[null,"x",null,null,null,null,null,null,null,null,null,null,null,null,null,null,null,null,null,null,null,null,null,null,null,null,null,null,null,null,null,null,null,"x"]
[null,"",null,null,null,null,null,null,null,null,null,null,null,null,null,null,null,null,null,null,null,null,null,null,null,null,null,null,null,null,null,null,null,""]
["RGL-089B","x",null,null,null,null,null,null,null,null,null,null,null,null,null,null,null,null,null,null,null,null,null,null,null,null,null,null,null,null,null,null,null,"x"]
[null,"x",null,null,null,null,null,null,null,null,null,null,null,null,null,null,null,null,null,null,null,null,null,null,null,null,null,null,null,null,null,null,null,"x"]
[null,"",null,null,null,null,null,null,null,null,null,null,null,null,null,null,null,null,null,null,null,null,null,null,null,null,null,null,null,null,null,null,null,""]
["RGL-090F","x",null,null,null,null,null,null,null,null,null,null,null,null,{"$f":"IF(Q1157<>\"\",Q1157,\"\")","v":""},{"$f":"IF(Q1157<>\"\",ROUND($P$13*(AVERAGE(Q1157:U1157)-36),0),\"\")","v":""},null,null,null,null,null,null,null,null,null,null,null,null,null,null,null,null,null,"x"]
[null,"x",null,null,null,null,null,null,null,null,null,null,null,null,null,null,null,null,null,null,null,null,null,null,null,null,null,null,null,null,null,null,null,"x"]
[null,"",null,null,null,null,null,null,null,null,null,null,null,null,null,null,null,null,null,null,null,null,null,null,null,null,null,null,null,null,null,null,null,""]
["RGL-090B","x",null,null,null,null,null,null,null,null,null,null,null,null,null,null,null,null,null,null,null,null,null,null,null,null,null,null,null,null,null,null,null,"x"]
[null,"x",null,null,null,null,null,null,null,null,null,null,null,null,null,null,null,null,null,null,null,null,null,null,null,null,null,null,null,null,null,null,null,"x"]
[null,"",null,null,null,null,null,null,null,null,null,null,null,null,null,null,null,null,null,null,null,null,null,null,null,null,null,null,null,null,null,null,null,""]
["RGL-091F","x",null,null,null,null,null,null,null,null,null,null,null,null,{"$f":"IF(Q1163<>\"\",Q1163,\"\")","v":""},{"$f":"IF(Q1163<>\"\",ROUND($P$13*(AVERAGE(Q1163:U1163)-36),0),\"\")","v":""},null,null,null,null,null,null,null,null,null,null,null,null,null,null,null,null,null,"x"]
[null,"x",null,null,null,null,null,null,null,null,null,null,null,null,null,null,null,null,null,null,null,null,null,null,null,null,null,null,null,null,null,null,null,"x"]
[null,"",null,null,null,null,null,null,null,null,null,null,null,null,null,null,null,null,null,null,null,null,null,null,null,null,null,null,null,null,null,null,null,""]
["RGL-091B","x",null,null,null,null,null,null,null,null,null,null,null,null,null,null,null,null,null,null,null,null,null,null,null,null,null,null,null,null,null,null,null,"x"]
[null,"x",null,null,null,null,null,null,null,null,null,null,null,null,null,null,null,null,null,null,null,null,null,null,null,null,null,null,null,null,null,null,null,"x"]
[null,"",null,null,null,null,null,null,null,null,null,null,null,null,null,null,null,null,null,null,null,null,null,null,null,null,null,null,null,null,null,null,null,""]
["RGL-092F","x",null,null,null,null,null,null,null,null,null,null,null,null,{"$f":"IF(Q1169<>\"\",Q1169,\"\")","v":""},{"$f":"IF(Q1169<>\"\",ROUND($P$13*(AVERAGE(Q1169:U1169)-36),0),\"\")","v":""},null,null,null,null,null,null,null,null,null,null,null,null,null,null,null,null,null,"x"]
[null,"x",null,null,null,null,null,null,null,null,null,null,null,null,null,null,null,null,null,null,null,null,null,null,null,null,null,null,null,null,null,null,null,"x"]
[null,"",null,null,null,null,null,null,null,null,null,null,null,null,null,null,null,null,null,null,null,null,null,null,null,null,null,null,null,null,null,null,null,""]
["RGL-092B","x",null,null,null,null,null,null,null,null,null,null,null,null,null,null,null,null,null,null,null,null,null,null,null,null,null,null,null,null,null,null,null,"x"]
[null,"x",null,null,null,null,null,null,null,null,null,null,null,null,null,null,null,null,null,null,null,null,null,null,null,null,null,null,null,null,null,null,null,"x"]
[null,"",null,null,null,null,null,null,null,null,null,null,null,null,null,null,null,null,null,null,null,null,null,null,null,null,null,null,null,null,null,null,null,""]
["RGL-093F","x",null,null,null,null,null,null,null,null,null,null,null,null,{"$f":"IF(Q1175<>\"\",Q1175,\"\")","v":""},{"$f":"IF(Q1175<>\"\",ROUND($P$13*(AVERAGE(Q1175:U1175)-36),0),\"\")","v":""},null,null,null,null,null,null,null,null,null,null,null,null,null,null,null,null,null,"x"]
[null,"x",null,null,null,null,null,null,null,null,null,null,null,null,null,null,null,null,null,null,null,null,null,null,null,null,null,null,null,null,null,null,null,"x"]
[null,"",null,null,null,null,null,null,null,null,null,null,null,null,null,null,null,null,null,null,null,null,null,null,null,null,null,null,null,null,null,null,null,""]
["RGL-093B","x",null,null,null,null,null,null,null,null,null,null,null,null,null,null,null,null,null,null,null,null,null,null,null,null,null,null,null,null,null,null,null,"x"]
[null,"x",null,null,null,null,null,null,null,null,null,null,null,null,null,null,null,null,null,null,null,null,null,null,null,null,null,null,null,null,null,null,null,"x"]
[null,"",null,null,null,null,null,null,null,null,null,null,null,null,null,null,null,null,null,null,null,null,null,null,null,null,null,null,null,null,null,null,null,""]
["RGL-094F","x",null,null,null,null,null,null,null,null,null,null,null,null,{"$f":"IF(Q1181<>\"\",Q1181,\"\")","v":""},{"$f":"IF(Q1181<>\"\",ROUND($P$13*(AVERAGE(Q1181:U1181)-36),0),\"\")","v":""},null,null,null,null,null,null,null,null,null,null,null,null,null,null,null,null,null,"x"]
[null,"x",null,null,null,null,null,null,null,null,null,null,null,null,null,null,null,null,null,null,null,null,null,null,null,null,null,null,null,null,null,null,null,"x"]
[null,"",null,null,null,null,null,null,null,null,null,null,null,null,null,null,null,null,null,null,null,null,null,null,null,null,null,null,null,null,null,null,null,""]
["RGL-094B","x",null,null,null,null,null,null,null,null,null,null,null,null,null,null,null,null,null,null,null,null,null,null,null,null,null,null,null,null,null,null,null,"x"]
[null,"x",null,null,null,null,null,null,null,null,null,null,null,null,null,null,null,null,null,null,null,null,null,null,null,null,null,null,null,null,null,null,null,"x"]
[null,"",null,null,null,null,null,null,null,null,null,null,null,null,null,null,null,null,null,null,null,null,null,null,null,null,null,null,null,null,null,null,null,""]
["RGL-095F","x",null,null,null,null,null,null,null,null,null,null,null,null,{"$f":"IF(Q1187<>\"\",Q1187,\"\")","v":""},{"$f":"IF(Q1187<>\"\",ROUND($P$13*(AVERAGE(Q1187:U1187)-36),0),\"\")","v":""},null,null,null,null,null,null,null,null,null,null,null,null,null,null,null,null,null,"x"]
[null,"x",null,null,null,null,null,null,null,null,null,null,null,null,null,null,null,null,null,null,null,null,null,null,null,null,null,null,null,null,null,null,null,"x"]
[null,"",null,null,null,null,null,null,null,null,null,null,null,null,null,null,null,null,null,null,null,null,null,null,null,null,null,null,null,null,null,null,null,""]
["RGL-095B","x",null,null,null,null,null,null,null,null,null,null,null,null,null,null,null,null,null,null,null,null,null,null,null,null,null,null,null,null,null,null,null,"x"]
[null,"x",null,null,null,null,null,null,null,null,null,null,null,null,null,null,null,null,null,null,null,null,null,null,null,null,null,null,null,null,null,null,null,"x"]
[null,"",null,null,null,null,null,null,null,null,null,null,null,null,null,null,null,null,null,null,null,null,null,null,null,null,null,null,null,null,null,null,null,""]
["RGL-096F","x",null,null,null,null,null,null,null,null,null,null,null,null,{"$f":"IF(Q1193<>\"\",Q1193,\"\")","v":""},{"$f":"IF(Q1193<>\"\",ROUND($P$13*(AVERAGE(Q1193:U1193)-36),0),\"\")","v":""},null,null,null,null,null,null,null,null,null,null,null,null,null,null,null,null,null,"x"]
[null,"x",null,null,null,null,null,null,null,null,null,null,null,null,null,null,null,null,null,null,null,null,null,null,null,null,null,null,null,null,null,null,null,"x"]
[null,"",null,null,null,null,null,null,null,null,null,null,null,null,null,null,null,null,null,null,null,null,null,null,null,null,null,null,null,null,null,null,null,""]
["RGL-096B","x",null,null,null,null,null,null,null,null,null,null,null,null,null,null,null,null,null,null,null,null,null,null,null,null,null,null,null,null,null,null,null,"x"]
[null,"x",null,null,null,null,null,null,null,null,null,null,null,null,null,null,null,null,null,null,null,null,null,null,null,null,null,null,null,null,null,null,null,"x"]
[null,"",null,null,null,null,null,null,null,null,null,null,null,null,null,null,null,null,null,null,null,null,null,null,null,null,null,null,null,null,null,null,null,""]
["RGL-097F","x",null,null,null,null,null,null,null,null,null,null,null,null,{"$f":"IF(Q1199<>\"\",Q1199,\"\")","v":""},{"$f":"IF(Q1199<>\"\",ROUND($P$13*(AVERAGE(Q1199:U1199)-36),0),\"\")","v":""},null,null,null,null,null,null,null,null,null,null,null,null,null,null,null,null,null,"x"]
[null,"x",null,null,null,null,null,null,null,null,null,null,null,null,null,null,null,null,null,null,null,null,null,null,null,null,null,null,null,null,null,null,null,"x"]
[null,"",null,null,null,null,null,null,null,null,null,null,null,null,null,null,null,null,null,null,null,null,null,null,null,null,null,null,null,null,null,null,null,""]
["RGL-097B","x",null,null,null,null,null,null,null,null,null,null,null,null,null,null,null,null,null,null,null,null,null,null,null,null,null,null,null,null,null,null,null,"x"]
[null,"x",null,null,null,null,null,null,null,null,null,null,null,null,null,null,null,null,null,null,null,null,null,null,null,null,null,null,null,null,null,null,null,"x"]
[null,"",null,null,null,null,null,null,null,null,null,null,null,null,null,null,null,null,null,null,null,null,null,null,null,null,null,null,null,null,null,null,null,""]
["RGL-098F","x",null,null,null,null,null,null,null,null,null,null,null,null,{"$f":"IF(Q1205<>\"\",Q1205,\"\")","v":""},{"$f":"IF(Q1205<>\"\",ROUND($P$13*(AVERAGE(Q1205:U1205)-36),0),\"\")","v":""},null,null,null,null,null,null,null,null,null,null,null,null,null,null,null,null,null,"x"]
[null,"x",null,null,null,null,null,null,null,null,null,null,null,null,null,null,null,null,null,null,null,null,null,null,null,null,null,null,null,null,null,null,null,"x"]
[null,"",null,null,null,null,null,null,null,null,null,null,null,null,null,null,null,null,null,null,null,null,null,null,null,null,null,null,null,null,null,null,null,""]
["RGL-098B","x",null,null,null,null,null,null,null,null,null,null,null,null,null,null,null,null,null,null,null,null,null,null,null,null,null,null,null,null,null,null,null,"x"]
[null,"x",null,null,null,null,null,null,null,null,null,null,null,null,null,null,null,null,null,null,null,null,null,null,null,null,null,null,null,null,null,null,null,"x"]
[null,"",null,null,null,null,null,null,null,null,null,null,null,null,null,null,null,null,null,null,null,null,null,null,null,null,null,null,null,null,null,null,null,""]
["RGL-099F","x",null,null,null,null,null,null,null,null,null,null,null,null,null,{"$f":"IF(Q1211<>\"\",ROUND($P$13*(AVERAGE(Q1211:U1211)-36),0),\"\")","v":""},null,null,null,null,null,null,null,null,null,null,null,null,null,null,null,null,null,"x"]
[null,"x",null,null,null,null,null,null,null,null,null,null,null,null,null,null,null,null,null,null,null,null,null,null,null,null,null,null,null,null,null,null,null,"x"]
[]
["RGL-099B","x",null,null,null,null,null,null,null,null,null,null,null,null,null,null,null,null,null,null,null,null,null,null,null,null,null,null,null,null,null,null,null,"x"]
[null,"x",null,null,null,null,null,null,null,null,null,null,null,null,null,null,null,null,null,null,null,null,null,null,null,null,null,null,null,null,null,null,null,"x"]
[]
["RGL-100F","x",null,null,null,null,null,null,null,null,null,null,null,null,null,{"$f":"IF(Q1217<>\"\",ROUND($P$13*(AVERAGE(Q1217:U1217)-36),0),\"\")","v":""},null,null,null,null,null,null,null,null,null,null,null,null,null,null,null,null,null,"x"]
[null,"x",null,null,null,null,null,null,null,null,null,null,null,null,null,null,null,null,null,null,null,null,null,null,null,null,null,null,null,null,null,null,null,"x"]
[]
["RGL-100B","x",null,null,null,null,null,null,null,null,null,null,null,null,null,null,null,null,null,null,null,null,null,null,null,null,null,null,null,null,null,null,null,"x"]
[null,"x",null,null,null,null,null,null,null,null,null,null,null,null,null,null,null,null,null,null,null,null,null,null,null,null,null,null,null,null,null,null,null,"x"]

{"sheet":"SCORE ENTRY WORKSHEET","index":18,"n_rows":102,"n_cols":42,"rows_kept":102,"cut":false,"hidden":false,"merged":[[37,1,37,2],[37,4,37,5],[37,7,37,8],[37,10,37,11],[37,13,37,14],[38,1,38,2],[38,4,38,5],[38,7,38,8],[38,10,38,11],[38,13,38,14],[35,1,35,2],[35,4,35,5],[35,7,35,8],[35,10,35,11],[35,13,35,14],[36,1,36,2],[36,4,36,5],[36,7,36,8],[36,10,36,11],[36,13,36,14],[33,13,33,14],[34,1,34,2],[34,4,34,5],[34,7,34,8],[34,10,34,11],[34,13,34,14],[33,1,33,2],[33,4,33,5],[33,7,33,8],[33,10,33,11],[11,0,11,2],[12,0,12,2],[13,0,13,2],[14,0,14,2],[27,0,27,12],[10,0,10,2],[0,34,0,37],[0,39,0,42],[6,0,6,12],[7,0,7,12],[9,0,9,2]]}
[8,null,null,null,null,null,null,null,null,null,null,null,null,null,null,null,null,null,null,1,null,null,null,null,null,null,null,null,null,null,null,null,null,null,"Tee Times To Be Loaded",null,null,null,null,"Tee Times Loaded"]
[]
[]
[]
[]
[null,null,null,null,null,null,null,null,null,null,null,null,null,null,null,null,null,null,null,null,null,null,null,null,null,null,null,null,null,null,null,null,null,null,null,null,{"$f":"IF(AI6<>\"\",TEXT(AI6, \"h:mm AM/PM\")&\" - \"&AJ6,\"\")","v":""}]
[{"$f":"'COURSE & LEAGUE DETAILS'!$B$3","v":"Woods at Westminster"},null,null,null,null,null,null,null,null,null,null,null,null,null,"format ",null,null,null,null,null,null,null,null,null,null,null,null,null,null,null,null,null,null,null,null,null,""]
[{"$f":"'COURSE & LEAGUE DETAILS'!$B$2&\" - \"&N12&\" - \"&N14&\" - \"&TEXT(N13, \"MMM dd, yyyy\")","v":"Romano Golf League - Week 8 - BACK - Aug 23, 2017"},null,null,null,null,null,null,null,null,null,null,null,null,null,null,null,null,null,null,null,null,null,null,null,null,null,null,null,null,null,null,null,null,null,null,null,""]
[null,null,null,null,null,null,null,null,null,null,null,null,null,null,null,null,null,null,null,null,null,null,null,null,null,null,null,null,null,null,null,null,null,null,null,null,""]
["HOLE",null,null,{"$f":"IF(LEFT($N$14)=\"F\",1,IF(LEFT($N$14)=\"B\",10,\"ERROR\"))","v":10},{"$f":"IF(LEFT($N$14)=\"F\",2,IF(LEFT($N$14)=\"B\",11,\"ERROR\"))","v":11},{"$f":"IF(LEFT($N$14)=\"F\",3,IF(LEFT($N$14)=\"B\",12,\"ERROR\"))","v":12},{"$f":"IF(LEFT($N$14)=\"F\",4,IF(LEFT($N$14)=\"B\",13,\"ERROR\"))","v":13},{"$f":"IF(LEFT($N$14)=\"F\",5,IF(LEFT($N$14)=\"B\",14,\"ERROR\"))","v":14},{"$f":"IF(LEFT($N$14)=\"F\",6,IF(LEFT($N$14)=\"B\",15,\"ERROR\"))","v":15},{"$f":"IF(LEFT($N$14)=\"F\",7,IF(LEFT($N$14)=\"B\",16,\"ERROR\"))","v":16},{"$f":"IF(LEFT($N$14)=\"F\",8,IF(LEFT($N$14)=\"B\",17,\"ERROR\"))","v":17},{"$f":"IF(LEFT($N$14)=\"F\",9,IF(LEFT($N$14)=\"B\",18,\"ERROR\"))","v":18},{"$f":"IF(LEFT($N$14)=\"F\",\"OUT\",IF(LEFT($N$14)=\"B\",\"IN\",\"ERROR\"))","v":"IN"},null,null,null,null,null,null,null,null,null,null,null,null,null,null,null,null,null,null,null,null,null,null,null,"",null,null,null,null,{"$f":"IF(AN468<>\"\",TEXT(AN468, \"h:mm AM/PM\")&\" - \"&AO10,\"\")","v":""}]
["WHITE",null,null,{"$f":"IF($D$10=1,'COURSE & LEAGUE DETAILS'!$B$6,IF($D$10=10,'COURSE & LEAGUE DETAILS'!$B$14,\"ERROR\"))","v":345},{"$f":"IF($D$10=1,'COURSE & LEAGUE DETAILS'!$C$6,IF($D$10=10,'COURSE & LEAGUE DETAILS'!$C$14,\"ERROR\"))","v":220},{"$f":"IF($D$10=1,'COURSE & LEAGUE DETAILS'!$D$6,IF($D$10=10,'COURSE & LEAGUE DETAILS'!$D$14,\"ERROR\"))","v":330},{"$f":"IF($D$10=1,'COURSE & LEAGUE DETAILS'!$E$6,IF($D$10=10,'COURSE & LEAGUE DETAILS'!$E$14,\"ERROR\"))","v":435},{"$f":"IF($D$10=1,'COURSE & LEAGUE DETAILS'!$F$6,IF($D$10=10,'COURSE & LEAGUE DETAILS'!$F$14,\"ERROR\"))","v":145},{"$f":"IF($D$10=1,'COURSE & LEAGUE DETAILS'!$G$6,IF($D$10=10,'COURSE & LEAGUE DETAILS'!$G$14,\"ERROR\"))","v":315},{"$f":"IF($D$10=1,'COURSE & LEAGUE DETAILS'!$H$6,IF($D$10=10,'COURSE & LEAGUE DETAILS'!$H$14,\"ERROR\"))","v":130},{"$f":"IF($D$10=1,'COURSE & LEAGUE DETAILS'!$I$6,IF($D$10=10,'COURSE & LEAGUE DETAILS'!$I$14,\"ERROR\"))","v":300},{"$f":"IF($D$10=1,'COURSE & LEAGUE DETAILS'!$J$6,IF($D$10=10,'COURSE & LEAGUE DETAILS'!$J$14,\"ERROR\"))","v":340},{"$f":"IF($D$10=1,'COURSE & LEAGUE DETAILS'!$K$6,IF($D$10=10,'COURSE & LEAGUE DETAILS'!$K$14,\"ERROR\"))","v":2560},null,null,null,null,null,null,null,null,null,null,null,null,null,null,null,null,null,null,null,null,null,null,null,"",null,null,null,null,""]
["MEN'S PAR    ",null,null,{"$f":"IF($D$10=1,'COURSE & LEAGUE DETAILS'!$B$7,IF($D$10=10,'COURSE & LEAGUE DETAILS'!$B$15,\"ERROR\"))","v":5},{"$f":"IF($D$10=1,'COURSE & LEAGUE DETAILS'!$C$7,IF($D$10=10,'COURSE & LEAGUE DETAILS'!$C$15,\"ERROR\"))","v":4},{"$f":"IF($D$10=1,'COURSE & LEAGUE DETAILS'!$D$7,IF($D$10=10,'COURSE & LEAGUE DETAILS'!$D$15,\"ERROR\"))","v":4},{"$f":"IF($D$10=1,'COURSE & LEAGUE DETAILS'!$E$7,IF($D$10=10,'COURSE & LEAGUE DETAILS'!$E$15,\"ERROR\"))","v":5},{"$f":"IF($D$10=1,'COURSE & LEAGUE DETAILS'!$F$7,IF($D$10=10,'COURSE & LEAGUE DETAILS'!$F$15,\"ERROR\"))","v":3},{"$f":"IF($D$10=1,'COURSE & LEAGUE DETAILS'!$G$7,IF($D$10=10,'COURSE & LEAGUE DETAILS'!$G$15,\"ERROR\"))","v":4},{"$f":"IF($D$10=1,'COURSE & LEAGUE DETAILS'!$H$7,IF($D$10=10,'COURSE & LEAGUE DETAILS'!$H$15,\"ERROR\"))","v":3},{"$f":"IF($D$10=1,'COURSE & LEAGUE DETAILS'!$I$7,IF($D$10=10,'COURSE & LEAGUE DETAILS'!$I$15,\"ERROR\"))","v":4},{"$f":"IF($D$10=1,'COURSE & LEAGUE DETAILS'!$J$7,IF($D$10=10,'COURSE & LEAGUE DETAILS'!$J$15,\"ERROR\"))","v":4},{"$f":"IF($D$10=1,'COURSE & LEAGUE DETAILS'!$K$7,IF($D$10=10,'COURSE & LEAGUE DETAILS'!$K$15,\"ERROR\"))","v":36},"Week 8",{"$f":"AJ4","v":0},null,null,null,null,null,null,null,null,null,null,null,null,null,null,null,null,null,null,null,null,null,"",null,null,null,null,""]
["MEN'S HCP    ",null,null,{"$f":"IF($D$10=1,'COURSE & LEAGUE DETAILS'!$B$8,IF($D$10=10,'COURSE & LEAGUE DETAILS'!$B$16,\"ERROR\"))","v":6},{"$f":"IF($D$10=1,'COURSE & LEAGUE DETAILS'!$C$8,IF($D$10=10,'COURSE & LEAGUE DETAILS'!$C$16,\"ERROR\"))","v":10},{"$f":"IF($D$10=1,'COURSE & LEAGUE DETAILS'!$D$8,IF($D$10=10,'COURSE & LEAGUE DETAILS'!$D$16,\"ERROR\"))","v":8},{"$f":"IF($D$10=1,'COURSE & LEAGUE DETAILS'!$E$8,IF($D$10=10,'COURSE & LEAGUE DETAILS'!$E$16,\"ERROR\"))","v":4},{"$f":"IF($D$10=1,'COURSE & LEAGUE DETAILS'!$F$8,IF($D$10=10,'COURSE & LEAGUE DETAILS'!$F$16,\"ERROR\"))","v":16},{"$f":"IF($D$10=1,'COURSE & LEAGUE DETAILS'!$G$8,IF($D$10=10,'COURSE & LEAGUE DETAILS'!$G$16,\"ERROR\"))","v":12},{"$f":"IF($D$10=1,'COURSE & LEAGUE DETAILS'!$H$8,IF($D$10=10,'COURSE & LEAGUE DETAILS'!$H$16,\"ERROR\"))","v":18},{"$f":"IF($D$10=1,'COURSE & LEAGUE DETAILS'!$I$8,IF($D$10=10,'COURSE & LEAGUE DETAILS'!$I$16,\"ERROR\"))","v":14},{"$f":"IF($D$10=1,'COURSE & LEAGUE DETAILS'!$J$8,IF($D$10=10,'COURSE & LEAGUE DETAILS'!$J$16,\"ERROR\"))","v":2},null,"08/23/17",{"$f":"IF(AJ3<>\"\",TEXT(AJ3,\"mm/dd/yy\"),TEXT('SCORES LOAD STATUS'!C1,\"mm/dd/yy\"))","v":"04/26/17"},null,null,null,null,null,null,null,null,null,null,null,null,null,null,null,null,null,null,null,null,null,"",null,null,null,null,""]
["RED",null,null,{"$f":"IF($D$10=1,'COURSE & LEAGUE DETAILS'!$B$9,IF($D$10=10,'COURSE & LEAGUE DETAILS'!$B$17,\"ERROR\"))","v":290},{"$f":"IF($D$10=1,'COURSE & LEAGUE DETAILS'!$C$9,IF($D$10=10,'COURSE & LEAGUE DETAILS'!$C$17,\"ERROR\"))","v":200},{"$f":"IF($D$10=1,'COURSE & LEAGUE DETAILS'!$D$9,IF($D$10=10,'COURSE & LEAGUE DETAILS'!$D$17,\"ERROR\"))","v":205},{"$f":"IF($D$10=1,'COURSE & LEAGUE DETAILS'!$E$9,IF($D$10=10,'COURSE & LEAGUE DETAILS'!$E$17,\"ERROR\"))","v":350},{"$f":"IF($D$10=1,'COURSE & LEAGUE DETAILS'!$F$9,IF($D$10=10,'COURSE & LEAGUE DETAILS'!$F$17,\"ERROR\"))","v":140},{"$f":"IF($D$10=1,'COURSE & LEAGUE DETAILS'!$G$9,IF($D$10=10,'COURSE & LEAGUE DETAILS'!$G$17,\"ERROR\"))","v":290},{"$f":"IF($D$10=1,'COURSE & LEAGUE DETAILS'!$H$9,IF($D$10=10,'COURSE & LEAGUE DETAILS'!$H$17,\"ERROR\"))","v":125},{"$f":"IF($D$10=1,'COURSE & LEAGUE DETAILS'!$I$9,IF($D$10=10,'COURSE & LEAGUE DETAILS'!$I$17,\"ERROR\"))","v":255},{"$f":"IF($D$10=1,'COURSE & LEAGUE DETAILS'!$J$9,IF($D$10=10,'COURSE & LEAGUE DETAILS'!$J$17,\"ERROR\"))","v":280},{"$f":"IF($D$10=1,'COURSE & LEAGUE DETAILS'!$K$9,IF($D$10=10,'COURSE & LEAGUE DETAILS'!$K$17,\"ERROR\"))","v":2135},"BACK",{"$f":"AJ5","v":0},null,null,null,null,null,null,null,null,null,null,null,null,null,null,null,null,null,null,null,null,null,"",null,null,null,null,""]
["WOMEN'S PAR    ",null,null,{"$f":"IF($D$10=1,'COURSE & LEAGUE DETAILS'!$B$10,IF($D$10=10,'COURSE & LEAGUE DETAILS'!$B$18,\"ERROR\"))","v":4},{"$f":"IF($D$10=1,'COURSE & LEAGUE DETAILS'!$C$10,IF($D$10=10,'COURSE & LEAGUE DETAILS'!$C$18,\"ERROR\"))","v":4},{"$f":"IF($D$10=1,'COURSE & LEAGUE DETAILS'!$D$10,IF($D$10=10,'COURSE & LEAGUE DETAILS'!$D$18,\"ERROR\"))","v":4},{"$f":"IF($D$10=1,'COURSE & LEAGUE DETAILS'!$E$10,IF($D$10=10,'COURSE & LEAGUE DETAILS'!$E$18,\"ERROR\"))","v":5},{"$f":"IF($D$10=1,'COURSE & LEAGUE DETAILS'!$F$10,IF($D$10=10,'COURSE & LEAGUE DETAILS'!$F$18,\"ERROR\"))","v":3},{"$f":"IF($D$10=1,'COURSE & LEAGUE DETAILS'!$G$10,IF($D$10=10,'COURSE & LEAGUE DETAILS'!$G$18,\"ERROR\"))","v":4},{"$f":"IF($D$10=1,'COURSE & LEAGUE DETAILS'!$H$10,IF($D$10=10,'COURSE & LEAGUE DETAILS'!$H$18,\"ERROR\"))","v":3},{"$f":"IF($D$10=1,'COURSE & LEAGUE DETAILS'!$I$10,IF($D$10=10,'COURSE & LEAGUE DETAILS'!$I$18,\"ERROR\"))","v":4},{"$f":"IF($D$10=1,'COURSE & LEAGUE DETAILS'!$J$10,IF($D$10=10,'COURSE & LEAGUE DETAILS'!$J$18,\"ERROR\"))","v":4},{"$f":"IF($D$10=1,'COURSE & LEAGUE DETAILS'!$K$10,IF($D$10=10,'COURSE & LEAGUE DETAILS'!$K$18,\"ERROR\"))","v":35},"5:12 PM",{"$f":"IF(AI6<>\"\",TEXT(AI6,\"h:mm AM/PM\"),TEXT('SCORES LOAD STATUS'!A4,\"h:mm AM/PM\"))","v":"4:00 PM"},null,null,null,null,null,null,null,null,null,null,null,null,null,null,null,null,null,null,null,null,null,"",null,null,null,null,""]
["HCP","TEAM","WOMEN'S HCP",{"$f":"IF($D$10=1,'COURSE & LEAGUE DETAILS'!$B$11,IF($D$10=10,'COURSE & LEAGUE DETAILS'!$B$19,\"ERROR\"))","v":4},{"$f":"IF($D$10=1,'COURSE & LEAGUE DETAILS'!$C$11,IF($D$10=10,'COURSE & LEAGUE DETAILS'!$C$19,\"ERROR\"))","v":2},{"$f":"IF($D$10=1,'COURSE & LEAGUE DETAILS'!$D$11,IF($D$10=10,'COURSE & LEAGUE DETAILS'!$D$19,\"ERROR\"))","v":8},{"$f":"IF($D$10=1,'COURSE & LEAGUE DETAILS'!$E$11,IF($D$10=10,'COURSE & LEAGUE DETAILS'!$E$19,\"ERROR\"))","v":6},{"$f":"IF($D$10=1,'COURSE & LEAGUE DETAILS'!$F$11,IF($D$10=10,'COURSE & LEAGUE DETAILS'!$F$19,\"ERROR\"))","v":16},{"$f":"IF($D$10=1,'COURSE & LEAGUE DETAILS'!$G$11,IF($D$10=10,'COURSE & LEAGUE DETAILS'!$G$19,\"ERROR\"))","v":12},{"$f":"IF($D$10=1,'COURSE & LEAGUE DETAILS'!$H$11,IF($D$10=10,'COURSE & LEAGUE DETAILS'!$H$19,\"ERROR\"))","v":18},{"$f":"IF($D$10=1,'COURSE & LEAGUE DETAILS'!$I$11,IF($D$10=10,'COURSE & LEAGUE DETAILS'!$I$19,\"ERROR\"))","v":14},{"$f":"IF($D$10=1,'COURSE & LEAGUE DETAILS'!$J$11,IF($D$10=10,'COURSE & LEAGUE DETAILS'!$J$19,\"ERROR\"))","v":10},null,{"$f":"IFERROR(VLOOKUP($N$15,$AI:$AJ,2,FALSE),HLOOKUP($N$13,'SCORES LOAD STATUS'!C1:CI5,4,FALSE))","v":"19 v 18"},null,null,null,null,null,null,null,null,null,null,null,null,null,null,null,null,null,null,null,null,null,null,"",null,null,null,null,""]
[null,null,null,{"$f":"D43","v":1},{"$f":"E43","v":0},1,1,0,0,0,0,1,{"$f":"IF(B18=\"Course\",\"\",IF(B18=\"DNP\",\"\",SUM(D17:L17)))","v":4},null,null,null,null,null,null,null,null,null,null,null,null,null,null,null,null,null,null,null,null,null,null,null,"",null,null,null,null,""]
[{"$f":"IF(B18=\"DNP\",IF(B20=\"DNP\",\"ERROR\",\"\"),IF(B18=\"COURSE\",0,VLOOKUP(B18,'LEAGUE MEMBERSHIP'!$B$8:$J$107,6,FALSE)))","v":15},{"$f":"$N$18&\"A\"","v":"19A"},{"$f":"IFERROR(VLOOKUP(B18,'LEAGUE MEMBERSHIP'!$B$8:$G$107,5,FALSE),\"\")","v":"John Pavone"},null,null,null,null,null,null,null,null,null,{"$f":"IF(SUM(D18:L18)=0,\"\",SUM(D18:L18))","v":""},{"$f":"IF(FIND(\"v\",$N$16)=3,LEFT($N$16,1),LEFT($N$16,2))","v":"19"},{"$f":"COUNTBLANK(Player_1_Scores)","v":9},null,null,null,null,null,null,null,null,null,null,null,null,null,null,null,null,null,null,null,null,null,"",null,null,null,null,""]
[null,null,null,{"$f":"D44","v":1},{"$f":"E44","v":1},1,1,0,1,0,1,1,{"$f":"IF(B20=\"Course\",\"\",IF(B20=\"DNP\",\"\",SUM(D19:L19)))","v":7},null,null,null,null,null,null,null,null,null,null,null,null,null,null,null,null,null,null,null,null,null,null,null,"",null,null,null,null,""]
[{"$f":"IF(B20=\"DNP\",IF(B18=\"DNP\",\"ERROR\",\"\"),IF(B20=\"COURSE\",0,VLOOKUP(B20,'LEAGUE MEMBERSHIP'!$B$8:$J$107,6,FALSE)))","v":18},{"$f":"$N$20&\"B\"","v":"19B"},{"$f":"IFERROR(VLOOKUP(B20,'LEAGUE MEMBERSHIP'!$B$8:$G$107,5,FALSE),\"\")","v":"Ernie Beliveau"},null,null,null,null,null,null,null,null,null,{"$f":"IF(SUM(D20:L20)=0,\"\",SUM(D20:L20))","v":""},{"$f":"IF(FIND(\"v\",$N$16)=3,LEFT($N$16,1),LEFT($N$16,2))","v":"19"},{"$f":"COUNTBLANK(Player_2_Scores)","v":9},null,null,null,null,null,null,null,null,null,null,null,null,null,null,null,null,null,null,null,null,null,"",null,null,null,null,""]
[null,null,{"$f":"IF(LEN(N18)=1,\"Team 0\"&N18,\"Team \"&N18)","v":"Team 19"},{"$f":"IF($B$24=\"Course\",IF($B$26=\"Course\",D56,D51),D51)","v":""},{"$f":"IF($B$24=\"Course\",IF($B$26=\"Course\",E56,E51),E51)","v":""},{"$f":"IF($B$24=\"Course\",IF($B$26=\"Course\",F56,F51),F51)","v":""},"","","","","","",{"$f":"SUM(D21:L21)","v":0},null,null,null,null,null,null,null,null,null,null,null,null,null,null,null,null,null,null,null,null,null,null,null,"",null,null,null,null,""]
[null,null,{"$f":"IF(N24=\"COURSE\",\"Team 16\",IF(LEN(N24)=1,\"Team 0\"&N24,\"Team \"&N24))","v":"Team 18"},{"$f":"IF($B$18=\"Course\",IF($B$20=\"Course\",D65,D60),D60)","v":""},{"$f":"IF($B$18=\"Course\",IF($B$20=\"Course\",E65,E60),E60)","v":""},{"$f":"IF($B$18=\"Course\",IF($B$20=\"Course\",F65,F60),F60)","v":""},"","","","","","",{"$f":"SUM(D22:L22)","v":0},null,null,null,null,null,null,null,null,null,null,null,null,null,null,null,null,null,null,null,null,null,null,null,"",null,null,null,null,""]
[null,null,null,{"$f":"D46","v":0},{"$f":"E46","v":0},0,0,0,0,0,0,0,{"$f":"IF(B24=\"Course\",\"\",IF(B24=\"DNP\",\"\",SUM(D23:L23)))","v":0},null,null,null,null,null,null,null,null,null,null,null,null,null,null,null,null,null,null,null,null,null,null,null,"",null,null,null,null,""]
[{"$f":"IF(B24=\"DNP\",IF(B26=\"DNP\",\"ERROR\",\"\"),IF(B24=\"COURSE\",0,VLOOKUP(B24,'LEAGUE MEMBERSHIP'!$B$8:$J$107,6,FALSE)))","v":11},{"$f":"$N$24&\"A\"","v":"18A"},{"$f":"IFERROR(VLOOKUP(B24,'LEAGUE MEMBERSHIP'!$B$8:$G$107,5,FALSE),\"\")","v":"Norm Gamache"},null,null,null,null,null,null,null,null,null,{"$f":"IF(SUM(D24:L24)=0,\"\",SUM(D24:L24))","v":""},{"$f":"IF(LEN($N$16)-FIND(\"v\",$N$16)=2,RIGHT($N$16,1),RIGHT($N$16,2))","v":"18"},{"$f":"COUNTBLANK(Player_3_Scores)","v":9},null,null,null,null,null,null,null,null,null,null,null,null,null,null,null,null,null,null,null,null,null,"",null,null,null,null,""]
[null,null,null,{"$f":"D47","v":2},{"$f":"E47","v":2},2,2,0,1,0,1,2,{"$f":"IF(B26=\"Course\",\"\",IF(B26=\"DNP\",\"\",SUM(D25:L25)))","v":12},null,null,null,null,null,null,null,null,null,null,null,null,null,null,null,null,null,null,null,null,null,null,null,"",null,null,null,null,""]
[{"$f":"IF(B26=\"DNP\",IF(B24=\"DNP\",\"ERROR\",\"\"),IF(B26=\"COURSE\",0,VLOOKUP(B26,'LEAGUE MEMBERSHIP'!$B$8:$J$107,6,FALSE)))","v":23},{"$f":"$N$24&\"B\"","v":"18B"},{"$f":"IFERROR(VLOOKUP(B26,'LEAGUE MEMBERSHIP'!$B$8:$G$107,5,FALSE),\"\")","v":"Michelle Bouvier"},null,null,null,null,null,null,null,null,null,{"$f":"IF(SUM(D26:L26)=0,\"\",SUM(D26:L26))","v":""},{"$f":"IF(LEN($N$16)-FIND(\"v\",$N$16)=2,RIGHT($N$16,1),RIGHT($N$16,2))","v":"18"},{"$f":"COUNTBLANK(Player_4_Scores)","v":9},null,null,null,null,null,null,null,null,null,null,null,null,null,null,null,null,null,null,null,null,null,"",null,null,null,null,""]
[null,null,null,null,null,null,null,null,null,null,null,null,null,null,null,null,null,null,null,null,null,null,null,null,null,null,null,null,null,null,null,null,null,null,null,null,"",null,null,null,null,""]
[{"$f":"CONCATENATE(\"TEE TIME: \",TEXT(N15,\"h:mm AM/PM\"))","v":"TEE TIME: 5:12 PM"},null,null,null,null,null,null,null,null,null,null,null,null,null,null,null,null,null,null,null,null,null,null,null,null,null,null,null,null,null,null,null,null,null,null,null,"",null,null,null,null,""]
[null,null,null,null,null,null,null,null,null,null,null,null,null,null,null,null,null,null,null,null,null,null,null,null,null,null,null,null,null,null,null,null,null,null,null,null,"",null,null,null,null,""]
[null,null,null,{"$f":"N13","v":"08/23/17"},null,null,null,null,null,null,null,null,null,null,null,null,null,null,null,null,null,null,null,null,null,null,null,null,null,null,null,null,null,null,null,null,"",null,null,null,null,""]
[null,null,null,null,null,null,null,null,null,null,null,null,null,null,null,null,null,null,null,null,null,null,null,null,null,null,null,null,null,null,null,null,null,null,null,null,"",null,null,null,null,""]
[null,null,null,{"$f":"N15","v":"5:12 PM"},null,null,null,null,null,null,null,null,null,null,null,null,null,null,null,null,null,null,null,null,null,null,null,null,null,null,null,null,null,null,null,null,""]
[null,null,null,null,null,"Not all scores entered.  If needed, enter \"Course\" or \"DNP\" for absent team / player.",null,null,null,null,null,null,null,null,null,null,null,null,null,null,null,null,null,null,null,null,null,null,null,null,null,null,null,null,null,null,""]
["Sub1",{"$f":"IF(ISERROR(VLOOKUP(A34,'LEAGUE MEMBERSHIP'!$B$8:$J$107,5,FALSE)),\"\",VLOOKUP(A34,'LEAGUE MEMBERSHIP'!$B$8:$J$107,5,FALSE))","v":"P.J. Romano"},null,"Sub7",{"$f":"IF(ISERROR(VLOOKUP(D34,'LEAGUE MEMBERSHIP'!$B$8:$J$107,5,FALSE)),\"\",VLOOKUP(D34,'LEAGUE MEMBERSHIP'!$B$8:$J$107,5,FALSE))","v":"Dennis St. Jean"},null,"Sub13",{"$f":"IF(ISERROR(VLOOKUP(G34,'LEAGUE MEMBERSHIP'!$B$8:$J$107,5,FALSE)),\"\",VLOOKUP(G34,'LEAGUE MEMBERSHIP'!$B$8:$J$107,5,FALSE))","v":"Genie Ray Richard"},null,"Sub19",{"$f":"IF(ISERROR(VLOOKUP(J34,'LEAGUE MEMBERSHIP'!$B$8:$J$107,5,FALSE)),\"\",VLOOKUP(J34,'LEAGUE MEMBERSHIP'!$B$8:$J$107,5,FALSE))","v":"Ed Robbins"},null,"Sub25",{"$f":"IF(ISERROR(VLOOKUP(M34,'LEAGUE MEMBERSHIP'!$B$8:$J$107,5,FALSE)),\"\",VLOOKUP(M34,'LEAGUE MEMBERSHIP'!$B$8:$J$107,5,FALSE))","v":"Dave Flood"},null,null,null,null,null,null,null,null,null,null,null,null,null,null,null,null,null,null,null,null,null,null,""]
["Sub2",{"$f":"IF(ISERROR(VLOOKUP(A35,'LEAGUE MEMBERSHIP'!$B$8:$J$107,5,FALSE)),\"\",VLOOKUP(A35,'LEAGUE MEMBERSHIP'!$B$8:$J$107,5,FALSE))","v":"PJ Fontaine"},null,"Sub8",{"$f":"IF(ISERROR(VLOOKUP(D35,'LEAGUE MEMBERSHIP'!$B$8:$J$107,5,FALSE)),\"\",VLOOKUP(D35,'LEAGUE MEMBERSHIP'!$B$8:$J$107,5,FALSE))","v":"Joe Fratticelli"},null,"Sub14",{"$f":"IF(ISERROR(VLOOKUP(G35,'LEAGUE MEMBERSHIP'!$B$8:$J$107,5,FALSE)),\"\",VLOOKUP(G35,'LEAGUE MEMBERSHIP'!$B$8:$J$107,5,FALSE))","v":"John MacDonald"},null,"Sub20",{"$f":"IF(ISERROR(VLOOKUP(J35,'LEAGUE MEMBERSHIP'!$B$8:$J$107,5,FALSE)),\"\",VLOOKUP(J35,'LEAGUE MEMBERSHIP'!$B$8:$J$107,5,FALSE))","v":"Mark Louney"},null,"Sub26",{"$f":"IF(ISERROR(VLOOKUP(M35,'LEAGUE MEMBERSHIP'!$B$8:$J$107,5,FALSE)),\"\",VLOOKUP(M35,'LEAGUE MEMBERSHIP'!$B$8:$J$107,5,FALSE))","v":"Ann Goodwin"},null,null,null,null,null,null,null,null,null,null,null,null,null,null,null,null,null,null,null,null,null,null,""]
["Sub3",{"$f":"IF(ISERROR(VLOOKUP(A36,'LEAGUE MEMBERSHIP'!$B$8:$J$107,5,FALSE)),\"\",VLOOKUP(A36,'LEAGUE MEMBERSHIP'!$B$8:$J$107,5,FALSE))","v":"Jim Hedlund"},null,"Sub9",{"$f":"IF(ISERROR(VLOOKUP(D36,'LEAGUE MEMBERSHIP'!$B$8:$J$107,5,FALSE)),\"\",VLOOKUP(D36,'LEAGUE MEMBERSHIP'!$B$8:$J$107,5,FALSE))","v":"Pete Collette"},null,"Sub15",{"$f":"IF(ISERROR(VLOOKUP(G36,'LEAGUE MEMBERSHIP'!$B$8:$J$107,5,FALSE)),\"\",VLOOKUP(G36,'LEAGUE MEMBERSHIP'!$B$8:$J$107,5,FALSE))","v":"Darryl Gagne"},null,"Sub21",{"$f":"IF(ISERROR(VLOOKUP(J36,'LEAGUE MEMBERSHIP'!$B$8:$J$107,5,FALSE)),\"\",VLOOKUP(J36,'LEAGUE MEMBERSHIP'!$B$8:$J$107,5,FALSE))","v":"Paul Stedman"},null,"Sub27",{"$f":"IF(ISERROR(VLOOKUP(M36,'LEAGUE MEMBERSHIP'!$B$8:$J$107,5,FALSE)),\"\",VLOOKUP(M36,'LEAGUE MEMBERSHIP'!$B$8:$J$107,5,FALSE))","v":"Gary Bittner"},null,null,null,null,null,null,null,null,null,null,null,null,null,null,null,null,null,null,null,null,null,null,""]
["Sub4",{"$f":"IF(ISERROR(VLOOKUP(A37,'LEAGUE MEMBERSHIP'!$B$8:$J$107,5,FALSE)),\"\",VLOOKUP(A37,'LEAGUE MEMBERSHIP'!$B$8:$J$107,5,FALSE))","v":"Don Shank"},null,"Sub10",{"$f":"IF(ISERROR(VLOOKUP(D37,'LEAGUE MEMBERSHIP'!$B$8:$J$107,5,FALSE)),\"\",VLOOKUP(D37,'LEAGUE MEMBERSHIP'!$B$8:$J$107,5,FALSE))","v":"Ray Henderson"},null,"Sub16",{"$f":"IF(ISERROR(VLOOKUP(G37,'LEAGUE MEMBERSHIP'!$B$8:$J$107,5,FALSE)),\"\",VLOOKUP(G37,'LEAGUE MEMBERSHIP'!$B$8:$J$107,5,FALSE))","v":"Becky Bartkus"},null,"Sub22",{"$f":"IF(ISERROR(VLOOKUP(J37,'LEAGUE MEMBERSHIP'!$B$8:$J$107,5,FALSE)),\"\",VLOOKUP(J37,'LEAGUE MEMBERSHIP'!$B$8:$J$107,5,FALSE))","v":"Jan Hedlund"},null,"Sub28",{"$f":"IF(ISERROR(VLOOKUP(M37,'LEAGUE MEMBERSHIP'!$B$8:$J$107,5,FALSE)),\"\",VLOOKUP(M37,'LEAGUE MEMBERSHIP'!$B$8:$J$107,5,FALSE))","v":"Scott Leavenworth"},null,{"$f":"IF(ISERROR(VLOOKUP(O36,#REF!,2,FALSE)),\"\",VLOOKUP(O36,#REF!,2,FALSE))","v":""},null,null,null,null,null,null,null,null,null,null,null,null,null,null,null,null,null,null,null,null,""]
["Sub5",{"$f":"IF(ISERROR(VLOOKUP(A38,'LEAGUE MEMBERSHIP'!$B$8:$J$107,5,FALSE)),\"\",VLOOKUP(A38,'LEAGUE MEMBERSHIP'!$B$8:$J$107,5,FALSE))","v":"Tom Farias"},null,"Sub11",{"$f":"IF(ISERROR(VLOOKUP(D38,'LEAGUE MEMBERSHIP'!$B$8:$J$107,5,FALSE)),\"\",VLOOKUP(D38,'LEAGUE MEMBERSHIP'!$B$8:$J$107,5,FALSE))","v":"Pete K Normandin"},null,"Sub17",{"$f":"IF(ISERROR(VLOOKUP(G38,'LEAGUE MEMBERSHIP'!$B$8:$J$107,5,FALSE)),\"\",VLOOKUP(G38,'LEAGUE MEMBERSHIP'!$B$8:$J$107,5,FALSE))","v":"Dave Cormier"},null,"Sub23",{"$f":"IF(ISERROR(VLOOKUP(J38,'LEAGUE MEMBERSHIP'!$B$8:$J$107,5,FALSE)),\"\",VLOOKUP(J38,'LEAGUE MEMBERSHIP'!$B$8:$J$107,5,FALSE))","v":"Brenda Louney"},null,"Sub29",{"$f":"IF(ISERROR(VLOOKUP(M38,'LEAGUE MEMBERSHIP'!$B$8:$J$107,5,FALSE)),\"\",VLOOKUP(M38,'LEAGUE MEMBERSHIP'!$B$8:$J$107,5,FALSE))","v":"Dave DiGiovanni"},null,{"$f":"IF(ISERROR(VLOOKUP(O37,#REF!,2,FALSE)),\"\",VLOOKUP(O37,#REF!,2,FALSE))","v":""},null,null,null,null,null,null,null,null,null,null,null,null,null,null,null,null,null,null,null,null,""]
["Sub6",{"$f":"IF(ISERROR(VLOOKUP(A39,'LEAGUE MEMBERSHIP'!$B$8:$J$107,5,FALSE)),\"\",VLOOKUP(A39,'LEAGUE MEMBERSHIP'!$B$8:$J$107,5,FALSE))","v":"Joe Pearson"},null,"Sub12",{"$f":"IF(ISERROR(VLOOKUP(D39,'LEAGUE MEMBERSHIP'!$B$8:$J$107,5,FALSE)),\"\",VLOOKUP(D39,'LEAGUE MEMBERSHIP'!$B$8:$J$107,5,FALSE))","v":"Ron Brassard"},null,"Sub18",{"$f":"IF(ISERROR(VLOOKUP(G39,'LEAGUE MEMBERSHIP'!$B$8:$J$107,5,FALSE)),\"\",VLOOKUP(G39,'LEAGUE MEMBERSHIP'!$B$8:$J$107,5,FALSE))","v":"Doug Cormier"},null,"Sub24",{"$f":"IF(ISERROR(VLOOKUP(J39,'LEAGUE MEMBERSHIP'!$B$8:$J$107,5,FALSE)),\"\",VLOOKUP(J39,'LEAGUE MEMBERSHIP'!$B$8:$J$107,5,FALSE))","v":"Kyle Butterfield"},null,"Sub30",{"$f":"IF(ISERROR(VLOOKUP(M39,'LEAGUE MEMBERSHIP'!$B$8:$J$107,5,FALSE)),\"\",VLOOKUP(M39,'LEAGUE MEMBERSHIP'!$B$8:$J$107,5,FALSE))","v":"Alessandro Conte"},null,{"$f":"IF(ISERROR(VLOOKUP(O38,#REF!,2,FALSE)),\"\",VLOOKUP(O38,#REF!,2,FALSE))","v":""}]
[null,null,null,null,null,null,null,null,null,null,null,null,null,"# non-par 3s",null,{"$f":"IF(ISERROR(VLOOKUP(O39,#REF!,2,FALSE)),\"\",VLOOKUP(O39,#REF!,2,FALSE))","v":""}]
[null,null,"Men's Hcp. Rank",{"$f":"IF(D12<>3,RANK(D13,$D$13:$L$13,1),\"\")","v":3},{"$f":"IF(E12<>3,RANK(E13,$D$13:$L$13,1),\"\")","v":5},4,2,"",6,"",7,1,null,{"$f":"COUNTIF(D12:L12,\"<>\"&3)","v":7}]
[null,null,"Women's Hcp. Rank",{"$f":"IF(D15<>3,RANK(D16,$D$16:$L$16,1),\"\")","v":2},{"$f":"IF(E15<>3,RANK(E16,$D$16:$L$16,1),\"\")","v":1},4,3,"",6,"",7,5,null,{"$f":"COUNTIF(D15:L15,\"<>\"&3)","v":7}]
[{"$f":"MIN(A18:A26)","v":11},{"$f":"IF(A18<>\"\",A18-$A$43,\"\")","v":4},{"$f":"VLOOKUP(B18,'LEAGUE MEMBERSHIP'!B:E,4,FALSE)","v":"M"},{"$f":"IF($B43=\"\",\"\",IF($C43=\"M\",IF(D$12=3,0,IF($B43-$N$41>=D$41,2,IF($B43>=D$41,1,0))),IF($C43=\"F\",IF(D$15=3,0,IF($B43-$N$42>=D$42,2,IF($B43>=D$42,1,0))))))","v":1},{"$f":"IF($B43=\"\",\"\",IF($C43=\"M\",IF(E$12=3,0,IF($B43-$N$41>=E$41,2,IF($B43>=E$41,1,0))),IF($C43=\"F\",IF(E$15=3,0,IF($B43-$N$42>=E$42,2,IF($B43>=E$42,1,0))))))","v":0},1,1,0,0,0,0,1]
[null,{"$f":"IF(A20<>\"\",A20-$A$43,\"\")","v":7},{"$f":"VLOOKUP(B20,'LEAGUE MEMBERSHIP'!B:E,4,FALSE)","v":"M"},{"$f":"IF($B44=\"\",\"\",IF($C44=\"M\",IF(D$12=3,0,IF($B44-$N$41>=D$41,2,IF($B44>=D$41,1,0))),IF($C44=\"F\",IF(D$15=3,0,IF($B44-$N$42>=D$42,2,IF($B44>=D$42,1,0))))))","v":1},1,1,1,0,1,0,1,1]
[]
[null,{"$f":"IF(A24<>\"\",A24-$A$43,\"\")","v":0},{"$f":"VLOOKUP(B24,'LEAGUE MEMBERSHIP'!B:E,4,FALSE)","v":"M"},{"$f":"IF($B46=\"\",\"\",IF($C46=\"M\",IF(D$12=3,0,IF($B46-$N$41>=D$41,2,IF($B46>=D$41,1,0))),IF($C46=\"F\",IF(D$15=3,0,IF($B46-$N$42>=D$42,2,IF($B46>=D$42,1,0))))))","v":0},{"$f":"IF($B46=\"\",\"\",IF($C46=\"M\",IF(E$12=3,0,IF($B46-$N$41>=E$41,2,IF($B46>=E$41,1,0))),IF($C46=\"F\",IF(E$15=3,0,IF($B46-$N$42>=E$42,2,IF($B46>=E$42,1,0))))))","v":0},0,0,0,0,0,0,0]
[null,{"$f":"IF(A26<>\"\",A26-$A$43,\"\")","v":12},{"$f":"VLOOKUP(B26,'LEAGUE MEMBERSHIP'!B:E,4,FALSE)","v":"F"},{"$f":"IF($B47=\"\",\"\",IF($C47=\"M\",IF(D$12=3,0,IF($B47-$N$41>=D$41,2,IF($B47>=D$41,1,0))),IF($C47=\"F\",IF(D$15=3,0,IF($B47-$N$42>=D$42,2,IF($B47>=D$42,1,0))))))","v":2},2,2,2,0,1,0,1,2]
[null,null,"Player A",{"$f":"IF(D18<>\"\",D18-D17,\"\")","v":""},"","","","","","","",""]
[null,null,"Player B",{"$f":"IF(D20<>\"\",D20-D19,\"\")","v":""},"","","","","","","",""]
[null,null,"Score to Use",{"$f":"IF(D48<>\"\",IF(D49<>\"\",MIN(D48:D49),D48),D49)","v":""},{"$f":"IF(E48<>\"\",IF(E49<>\"\",MIN(E48:E49),E48),E49)","v":""},"","","","","","",""]
[null,null,"Versus Team",{"$f":"IF(D50<>\"\",IF(D59<>\"\",IF(D50<D59,1,IF(D50=D59,1/2,0)),\"\"),\"\")","v":""},"","","","","","","",""]
[null,null,"Versus Course (Player A = M)",{"$f":"IF(D48<>\"\",IF($C43=\"M\",IF(D48<D$12,1,IF(D48=D$12,1/2,0)),\"\"),\"\")","v":""},{"$f":"IF(E48<>\"\",IF($C43=\"M\",IF(E48<E$12,1,IF(E48=E$12,1/2,0)),\"\"),\"\")","v":""},"","","","","","",""]
[null,null,"Versus Course (Player B = M)",{"$f":"IF(D49<>\"\",IF($C44=\"M\",IF(D49<D$12,1,IF(D49=D$12,1/2,0)),\"\"),\"\")","v":""},"","","","","","","",""]
[null,null,"Versus Course (Player A = F)",{"$f":"IF(D48<>\"\",IF($C43=\"F\",IF(D48<D$15,1,IF(D48=D$15,1/2,0)),\"\"),\"\")","v":""},{"$f":"IF(E48<>\"\",IF($C43=\"F\",IF(E48<E$15,1,IF(E48=E$15,1/2,0)),\"\"),\"\")","v":""},"","","","","","",""]
[null,null,"Versus Course (Player B = F)",{"$f":"IF(D49<>\"\",IF($C44=\"F\",IF(D49<D$15,1,IF(D49=D$15,1/2,0)),\"\"),\"\")","v":""},"","","","","","","",""]
[null,null,"Score to Use Versus Course",{"$f":"MAX(D52:D55)","v":0},0,0,0,0,0,0,0,0]
[null,null,"Player A",{"$f":"IF(D24<>\"\",D24-D23,\"\")","v":""},"","","","","","","",""]
[null,null,"Player B",{"$f":"IF(D26<>\"\",D26-D25,\"\")","v":""},"","","","","","","",""]
[null,{"$f":"$N$18&\"A\"","v":"19A"},"Score to Use",{"$f":"IF(D57<>\"\",IF(D58<>\"\",MIN(D57:D58),D57),D58)","v":""},{"$f":"IF(E57<>\"\",IF(E58<>\"\",MIN(E57:E58),E57),E58)","v":""},"","","","","","",""]
[null,null,"Versus Team",{"$f":"IF(D59<>\"\",IF(D50<>\"\",IF(D59<D50,1,IF(D59=D50,1/2,0)),\"\"),\"\")","v":""},"","","","","","","",""]
[null,{"$f":"$N$20&\"B\"","v":"19B"},"Versus Course (Player A = M)",{"$f":"IF(D57<>\"\",IF($C46=\"M\",IF(D57<D$12,1,IF(D57=D$12,1/2,0)),\"\"),\"\")","v":""},"","","","","","","",""]
[null,null,"Versus Course (Player B = M)","","","","","","","","",""]
[null,null,"Versus Course (Player A = F)",{"$f":"IF(D57<>\"\",IF($C46=\"F\",IF(D57<D$15,1,IF(D57=D$15,1/2,0)),\"\"),\"\")","v":""},"","","","","","","",""]
[null,null,"Versus Course (Player B = F)","","","","","","","","",""]
[null,{"$f":"$N$24&\"A\"","v":"18A"},"Score to Use Versus Course",{"$f":"MAX(D61:D64)","v":0},{"$f":"MAX(E61:E64)","v":0},0,0,0,0,0,0,0]
[]
[null,{"$f":"$N$24&\"B\"","v":"18B"}]
[]
[{"$f":"133-COUNTBLANK($A$34:$O$39)","v":103}]
["6A","6B","12A","12B"]
["DNP","DNP","DNP","DNP"]
["Course","Course","Course","Course"]
[{"$f":"IF($B34=\"\",\"\",$A34)","v":"Sub1"},"Sub1","Sub1","Sub1"]
["Sub2","Sub2","Sub2","Sub2"]
["Sub3","Sub3","Sub3","Sub3"]
["Sub4","Sub4","Sub4","Sub4"]
["Sub5","Sub5","Sub5","Sub5"]
["Sub6","Sub6","Sub6","Sub6"]
[{"$f":"IF($E34=\"\",\"\",$D34)","v":"Sub7"},"Sub7","Sub7","Sub7"]
["Sub8","Sub8","Sub8","Sub8"]
["Sub9","Sub9","Sub9","Sub9"]
["Sub10","Sub10","Sub10","Sub10"]
["Sub11","Sub11","Sub11","Sub11"]
["Sub12","Sub12","Sub12","Sub12"]
[{"$f":"IF($H34=\"\",\"\",$G34)","v":"Sub13"},{"$f":"IF($H34=\"\",\"\",$G34)","v":"Sub13"},{"$f":"IF($H34=\"\",\"\",$G34)","v":"Sub13"},{"$f":"IF($H34=\"\",\"\",$G34)","v":"Sub13"}]
[{"$f":"IF($H35=\"\",\"\",$G35)","v":"Sub14"},"Sub14","Sub14","Sub14"]
["Sub15","Sub15","Sub15","Sub15"]
["Sub16","Sub16","Sub16","Sub16"]
["Sub17","Sub17","Sub17","Sub17"]
["Sub18","Sub18","Sub18","Sub18"]
[{"$f":"IF($K34=\"\",\"\",$J34)","v":"Sub19"},{"$f":"IF($K34=\"\",\"\",$J34)","v":"Sub19"},{"$f":"IF($K34=\"\",\"\",$J34)","v":"Sub19"},{"$f":"IF($K34=\"\",\"\",$J34)","v":"Sub19"}]
[{"$f":"IF($K35=\"\",\"\",$J35)","v":"Sub20"},"Sub20","Sub20","Sub20"]
["Sub21","Sub21","Sub21","Sub21"]
["Sub22","Sub22","Sub22","Sub22"]
["Sub23","Sub23","Sub23","Sub23"]
["Sub24","Sub24","Sub24","Sub24"]
[{"$f":"IF($N34=\"\",\"\",$M34)","v":"Sub25"},{"$f":"IF($N34=\"\",\"\",$M34)","v":"Sub25"},{"$f":"IF($N34=\"\",\"\",$M34)","v":"Sub25"},{"$f":"IF($N34=\"\",\"\",$M34)","v":"Sub25"}]
[{"$f":"IF($N35=\"\",\"\",$M35)","v":"Sub26"},"Sub26","Sub26","Sub26"]
["Sub27","Sub27","Sub27","Sub27"]
["Sub28","Sub28","Sub28","Sub28"]
["Sub29","Sub29","Sub29","Sub29"]
["Sub30","Sub30","Sub30","Sub30"]

{"sheet":"SCORES LOAD STATUS","index":19,"n_rows":48,"n_cols":21,"rows_kept":48,"cut":false,"hidden":false,"merged":[]}
["Date","","04/26/17","05/03/17","05/10/17","05/17/17","05/24/17","05/31/17","06/07/17","06/14/17","06/21/17","06/28/17","07/05/17","07/12/17","07/19/17","07/26/17","08/02/17","08/09/17","08/16/17","08/23/17","08/30/17"]
["Week","","Week 1","Week 2","Week 3","Week 4","Week 5","Week 6","Week 7","Week 8","Week 9","Week 10","Week 1","Week 2","Week 3","Week 4","Week 5","Week 6","Week 7","Week 8","Week 9"]
["Side","","FRONT","BACK","FRONT","BACK","FRONT","BACK","FRONT","BACK","FRONT","BACK","FRONT","BACK","FRONT","BACK","FRONT","BACK","FRONT","BACK","FRONT"]
["4:00 PM"," ' ","1 v 12","12 v 5","1 v 14","3 v 6","12 v 20","4 v 9","17 v 19","8 v 9","18 v 9","6 v 16","14 v 3","5 v 13","9 v 7","7 v 11","10 v 4","17 v 14","17 v 16","19 v 18","17 v 4"]
["4:08 PM"," ' ","2 v 14","14 v 7","12 v 16","2 v 7","5 v 6","14 v 16","14 v 9","5 v 19","16 v 7","3 v 13","1 v 10","7 v 15","1 v 8","18 v 17","16 v 13","20 v 11","10 v 12","5 v 11","1 v 9"]
["4:16 PM"," ' ","6 v 18","11 v 4","13 v 15","14 v 20","1 v 16","5 v 8","16 v 20","4 v 18","13 v 4","10 v 20","12 v 11","3 v 11","10 v 6","20 v 15","9 v 5","18 v 13","1 v 5","8 v 14","19 v 6"]
["4:24 PM"," ' ","4 v 16","18 v 20","7 v 8","12 v 9","13 v 19","13 v 17","13 v 8","1 v 13","1 v 20","4 v 14","19 v 8","10 v 18","15 v 12","5 v 3","18 v 11","8 v 4","19 v 14","9 v 15","18 v 5"]
["4:32 PM"," ' ","11 v 13","13 v 6","2 v 18","11 v 8","14 v 18","12 v 18","11 v 6","6 v 20","14 v 5","9 v 19","18 v 7","8 v 16","18 v 3","10 v 14","1 v 7","10 v 2","9 v 11","10 v 16","15 v 2"]
["4:40 PM"," ' ","8 v 20","2 v 3","3 v 19","4 v 5","3 v 8","3 v 10","2 v 5","12 v 14","11 v 2","5 v 15","15 v 4","1 v 2","16 v 11","8 v 12","8 v 6","16 v 15","20 v 13","4 v 2","14 v 11"]
["4:48 PM"," ' ","9 v 10","16 v 9","6 v 9","13 v 10","2 v 9","6 v 7","1 v 18","2 v 16","19 v 10","8 v 18","13 v 2","6 v 14","20 v 5","1 v 4","15 v 14","1 v 6","18 v 15","7 v 13","16 v 3"]
["4:56 PM"," ' ","7 v 19","17 v 10","5 v 10","1 v 17","4 v 7","11 v 19","3 v 4","3 v 17","15 v 6","2 v 12","17 v 6","20 v 19","14 v 13","19 v 16","19 v 2","9 v 3","6 v 4","1 v 3","13 v 12"]
["5:04 PM"," ' ","3 v 15","1 v 19","4 v 20","15 v 19","15 v 17","2 v 20","15 v 10","7 v 10","17 v 8","7 v 17","20 v 9","9 v 17","17 v 2","9 v 13","17 v 12","19 v 12","7 v 3","20 v 17","20 v 7"]
["5:12 PM"," ' ","5 v 17","15 v 8","11 v 17","16 v 18","11 v 10","1 v 15","12 v 7","11 v 15","12 v 3","1 v 11","16 v 5","4 v 12","19 v 4","6 v 2","20 v 3","7 v 5","8 v 2","6 v 12","10 v 8"]
[null,""]
[null,""]
[null,""]
[null,""]
[null,""]
[null,""]
[null,""]
[null,""]
[null,""]
[null,""]
[null,""]
[null,""]
[null,""]
[null,""]
[null,""]
[]
["04/26/17"]
["05/03/17"]
["05/10/17"]
["05/17/17"]
["05/24/17"]
["05/31/17"]
["06/07/17"]
["06/14/17"]
["06/21/17"]
["06/28/17"]
["07/05/17"]
["07/12/17"]
["07/19/17"]
["07/26/17"]
["08/02/17"]
["08/09/17"]
["08/16/17"]
["08/23/17"]
["08/30/17"]

{"sheet":"MATCH HISTORY 1","index":20,"n_rows":47,"n_cols":16,"rows_kept":47,"cut":false,"hidden":false,"merged":[[15,14,15,19],[15,2,15,12],[32,2,32,11]]}
[null,"17 v 10",{"$f":"TEXT(A1, \"mm/dd/yy\")&B1","v":"01/00/0017 v 10"},null,null,null,null,null,null,null,null,"First Half",null,null,"First Half"]
[null,null,null,null,null,null,null,null,null,null,null,"Second Half",null,null,"Second Half"]
[]
[]
[]
[]
[]
[]
[]
[]
[]
[]
[]
[]
[]
[null,null,"``",null,null,null,null,null,null,null,null,null,null,null,"Team Members"]
[null,null,"Week","Week 1","Week 2","Week 3","Week 4","Week 5","Week 6","Week 7","Week 8","Week 9","Week 10",null,"Team 01",{"$f":"IF(VLOOKUP(O17,'TEAM ROSTERS & SUB LIST'!$B:$I,3,FALSE)<>\"\",VLOOKUP(O17,'TEAM ROSTERS & SUB LIST'!$B:$I,3,FALSE)&\" / \"&VLOOKUP(O17,'TEAM ROSTERS & SUB LIST'!$B:$I,5,FALSE),\"\")","v":"John Normandin / Pete Normandin"}]
[null,null,"Date","04/26/17","05/03/17","05/10/17","05/17/17","05/24/17","05/31/17","06/07/17","06/14/17","06/21/17","06/28/17",null,"Team 02",{"$f":"IF(VLOOKUP(O18,'TEAM ROSTERS & SUB LIST'!$B:$I,3,FALSE)<>\"\",VLOOKUP(O18,'TEAM ROSTERS & SUB LIST'!$B:$I,3,FALSE)&\" / \"&VLOOKUP(O18,'TEAM ROSTERS & SUB LIST'!$B:$I,5,FALSE),\"\")","v":"Jono Normandin / Nathan Wallace"}]
[null,null,"Side","FRONT","BACK","FRONT","BACK","FRONT","BACK","FRONT","BACK","FRONT","BACK",null,"Team 03",{"$f":"IF(VLOOKUP(O19,'TEAM ROSTERS & SUB LIST'!$B:$I,3,FALSE)<>\"\",VLOOKUP(O19,'TEAM ROSTERS & SUB LIST'!$B:$I,3,FALSE)&\" / \"&VLOOKUP(O19,'TEAM ROSTERS & SUB LIST'!$B:$I,5,FALSE),\"\")","v":"Pete Romano / Don Frigoletto"}]
[null,null,"Tee Time",null,null,null,null,null,null,null,null,null,null,null,"Team 04",{"$f":"IF(VLOOKUP(O20,'TEAM ROSTERS & SUB LIST'!$B:$I,3,FALSE)<>\"\",VLOOKUP(O20,'TEAM ROSTERS & SUB LIST'!$B:$I,3,FALSE)&\" / \"&VLOOKUP(O20,'TEAM ROSTERS & SUB LIST'!$B:$I,5,FALSE),\"\")","v":"Peg Romano / Lynn Laroche"}]
[null,null,"16:00:00","1 v 12","12 v 5","1 v 14","3 v 6","12 v 20","4 v 9","17 v 19","8 v 9","18 v 9","6 v 16",null,"Team 05",{"$f":"IF(VLOOKUP(O21,'TEAM ROSTERS & SUB LIST'!$B:$I,3,FALSE)<>\"\",VLOOKUP(O21,'TEAM ROSTERS & SUB LIST'!$B:$I,3,FALSE)&\" / \"&VLOOKUP(O21,'TEAM ROSTERS & SUB LIST'!$B:$I,5,FALSE),\"\")","v":"Dennis Normandin / Mark Normandin"}]
[null,null,"16:08:00","2 v 14","14 v 7","12 v 16","2 v 7","5 v 6","14 v 16","14 v 9","5 v 19","16 v 7","3 v 13",null,"Team 06",{"$f":"IF(VLOOKUP(O22,'TEAM ROSTERS & SUB LIST'!$B:$I,3,FALSE)<>\"\",VLOOKUP(O22,'TEAM ROSTERS & SUB LIST'!$B:$I,3,FALSE)&\" / \"&VLOOKUP(O22,'TEAM ROSTERS & SUB LIST'!$B:$I,5,FALSE),\"\")","v":"Vance Butterfield / Bob Schleyer"}]
[null,null,"16:16:00","6 v 18","11 v 4","13 v 15","14 v 20","1 v 16","5 v 8","16 v 20","4 v 18","13 v 4","10 v 20",null,"Team 07",{"$f":"IF(VLOOKUP(O23,'TEAM ROSTERS & SUB LIST'!$B:$I,3,FALSE)<>\"\",VLOOKUP(O23,'TEAM ROSTERS & SUB LIST'!$B:$I,3,FALSE)&\" / \"&VLOOKUP(O23,'TEAM ROSTERS & SUB LIST'!$B:$I,5,FALSE),\"\")","v":"John Fairbanks / Debbie Fairbanks"}]
[null,null,"16:24:00","4 v 16","18 v 20","7 v 8","12 v 9","13 v 19","13 v 17","13 v 8","1 v 13","1 v 20","4 v 14",null,"Team 08",{"$f":"IF(VLOOKUP(O24,'TEAM ROSTERS & SUB LIST'!$B:$I,3,FALSE)<>\"\",VLOOKUP(O24,'TEAM ROSTERS & SUB LIST'!$B:$I,3,FALSE)&\" / \"&VLOOKUP(O24,'TEAM ROSTERS & SUB LIST'!$B:$I,5,FALSE),\"\")","v":"Steve Lawrence / Mike Benson"}]
[null,null,"16:32:00","11 v 13","13 v 6","2 v 18","11 v 8","14 v 18","12 v 18","11 v 6","6 v 20","14 v 5","9 v 19",null,"Team 09",{"$f":"IF(VLOOKUP(O25,'TEAM ROSTERS & SUB LIST'!$B:$I,3,FALSE)<>\"\",VLOOKUP(O25,'TEAM ROSTERS & SUB LIST'!$B:$I,3,FALSE)&\" / \"&VLOOKUP(O25,'TEAM ROSTERS & SUB LIST'!$B:$I,5,FALSE),\"\")","v":"Mike Doane / John Cassin"}]
[null,null,"16:40:00","8 v 20","2 v 3","3 v 19","4 v 5","3 v 8","3 v 10","2 v 5","12 v 14","11 v 2","5 v 15",null,"Team 10",{"$f":"IF(VLOOKUP(O26,'TEAM ROSTERS & SUB LIST'!$B:$I,3,FALSE)<>\"\",VLOOKUP(O26,'TEAM ROSTERS & SUB LIST'!$B:$I,3,FALSE)&\" / \"&VLOOKUP(O26,'TEAM ROSTERS & SUB LIST'!$B:$I,5,FALSE),\"\")","v":"Ron Ekstrom / Beth Romano"}]
[null,null,"16:48:00","9 v 10","16 v 9","6 v 9","13 v 10","2 v 9","6 v 7","1 v 18","2 v 16","19 v 10","8 v 18",null,"Team 11",{"$f":"IF(VLOOKUP(O27,'TEAM ROSTERS & SUB LIST'!$B:$I,3,FALSE)<>\"\",VLOOKUP(O27,'TEAM ROSTERS & SUB LIST'!$B:$I,3,FALSE)&\" / \"&VLOOKUP(O27,'TEAM ROSTERS & SUB LIST'!$B:$I,5,FALSE),\"\")","v":"Jim Haskins / Anthony Conte"}]
[null,null,"16:56:00","7 v 19","17 v 10","5 v 10","1 v 17","4 v 7","11 v 19","3 v 4","3 v 17","15 v 6","2 v 12",null,"Team 12",{"$f":"IF(VLOOKUP(O28,'TEAM ROSTERS & SUB LIST'!$B:$I,3,FALSE)<>\"\",VLOOKUP(O28,'TEAM ROSTERS & SUB LIST'!$B:$I,3,FALSE)&\" / \"&VLOOKUP(O28,'TEAM ROSTERS & SUB LIST'!$B:$I,5,FALSE),\"\")","v":"Sal Ciufetti / Kevin Nivala"}]
[null,null,"17:04:00","3 v 15","1 v 19","4 v 20","15 v 19","15 v 17","2 v 20","15 v 10","7 v 10","17 v 8","7 v 17",null,"Team 13",{"$f":"IF(VLOOKUP(O29,'TEAM ROSTERS & SUB LIST'!$B:$I,3,FALSE)<>\"\",VLOOKUP(O29,'TEAM ROSTERS & SUB LIST'!$B:$I,3,FALSE)&\" / \"&VLOOKUP(O29,'TEAM ROSTERS & SUB LIST'!$B:$I,5,FALSE),\"\")","v":"Tim Hurley / Walter Drake"}]
[null,null,"17:12:00","5 v 17","15 v 8","11 v 17","16 v 18","11 v 10","1 v 15","12 v 7","11 v 15","12 v 3","1 v 11",null,"Team 14",{"$f":"IF(VLOOKUP(O30,'TEAM ROSTERS & SUB LIST'!$B:$I,3,FALSE)<>\"\",VLOOKUP(O30,'TEAM ROSTERS & SUB LIST'!$B:$I,3,FALSE)&\" / \"&VLOOKUP(O30,'TEAM ROSTERS & SUB LIST'!$B:$I,5,FALSE),\"\")","v":"Paul Fontaine / Ralph Romano III"}]
[null,null,null,null,null,null,null,null,null,null,null,null,null,null,"Team 15",{"$f":"IF(VLOOKUP(O31,'TEAM ROSTERS & SUB LIST'!$B:$I,3,FALSE)<>\"\",VLOOKUP(O31,'TEAM ROSTERS & SUB LIST'!$B:$I,3,FALSE)&\" / \"&VLOOKUP(O31,'TEAM ROSTERS & SUB LIST'!$B:$I,5,FALSE),\"\")","v":"Gary Leavenworth / Patty Leavenworth"}]
[null,null,null,null,null,null,null,null,null,null,null,null,null,null,"Team 16",{"$f":"IF(VLOOKUP(O32,'TEAM ROSTERS & SUB LIST'!$B:$I,3,FALSE)<>\"\",VLOOKUP(O32,'TEAM ROSTERS & SUB LIST'!$B:$I,3,FALSE)&\" / \"&VLOOKUP(O32,'TEAM ROSTERS & SUB LIST'!$B:$I,5,FALSE),\"\")","v":"Kevin O'Loughlin / Mike Romano"}]
[null,null,"Schedule - 2017 - Second Half",null,null,null,null,null,null,null,null,null,null,null,"Team 17",{"$f":"IF(VLOOKUP(O33,'TEAM ROSTERS & SUB LIST'!$B:$I,3,FALSE)<>\"\",VLOOKUP(O33,'TEAM ROSTERS & SUB LIST'!$B:$I,3,FALSE)&\" / \"&VLOOKUP(O33,'TEAM ROSTERS & SUB LIST'!$B:$I,5,FALSE),\"\")","v":"Carol Ekstrom / Mike Dauphinais"}]
[null,null,"Week","Week 1","Week 2","Week 3","Week 4","Week 5","Week 6","Week 7","Week 8","Week 9",null,null,"Team 18",{"$f":"IF(VLOOKUP(O34,'TEAM ROSTERS & SUB LIST'!$B:$I,3,FALSE)<>\"\",VLOOKUP(O34,'TEAM ROSTERS & SUB LIST'!$B:$I,3,FALSE)&\" / \"&VLOOKUP(O34,'TEAM ROSTERS & SUB LIST'!$B:$I,5,FALSE),\"\")","v":"Norm Gamache / Michelle Bouvier"}]
[null,null,"Date","07/05/17","07/12/17","07/19/17","07/26/17","08/02/17","08/09/17","08/16/17","08/23/17","08/30/17",null,null,"Team 19",{"$f":"IF(VLOOKUP(O35,'TEAM ROSTERS & SUB LIST'!$B:$I,3,FALSE)<>\"\",VLOOKUP(O35,'TEAM ROSTERS & SUB LIST'!$B:$I,3,FALSE)&\" / \"&VLOOKUP(O35,'TEAM ROSTERS & SUB LIST'!$B:$I,5,FALSE),\"\")","v":"John Pavone / Ernie Beliveau"}]
[null,null,"Side","FRONT","BACK","FRONT","BACK","FRONT","BACK","FRONT","BACK","FRONT",null,null,"Team 20",{"$f":"IF(VLOOKUP(O36,'TEAM ROSTERS & SUB LIST'!$B:$I,3,FALSE)<>\"\",VLOOKUP(O36,'TEAM ROSTERS & SUB LIST'!$B:$I,3,FALSE)&\" / \"&VLOOKUP(O36,'TEAM ROSTERS & SUB LIST'!$B:$I,5,FALSE),\"\")","v":"Sheila Sundstrom / Ray Hoy"}]
[null,null,"Tee Time",null,null,null,null,null,null,null,null,null,null,null,"Team 21",{"$f":"IF(VLOOKUP(O37,'TEAM ROSTERS & SUB LIST'!$B:$I,3,FALSE)<>\"\",VLOOKUP(O37,'TEAM ROSTERS & SUB LIST'!$B:$I,3,FALSE)&\" / \"&VLOOKUP(O37,'TEAM ROSTERS & SUB LIST'!$B:$I,5,FALSE),\"\")","v":""}]
[null,null,"16:00:00","14 v 3","5 v 13","9 v 7","7 v 11","10 v 4","17 v 14","17 v 16","19 v 18","17 v 4",null,null,"Team 22",{"$f":"IF(VLOOKUP(O38,'TEAM ROSTERS & SUB LIST'!$B:$I,3,FALSE)<>\"\",VLOOKUP(O38,'TEAM ROSTERS & SUB LIST'!$B:$I,3,FALSE)&\" / \"&VLOOKUP(O38,'TEAM ROSTERS & SUB LIST'!$B:$I,5,FALSE),\"\")","v":""}]
[null,null,"16:08:00","1 v 10","7 v 15","1 v 8","18 v 17","16 v 13","20 v 11","10 v 12","5 v 11","1 v 9"]
[null,null,"16:16:00","12 v 11","3 v 11","10 v 6","20 v 15","9 v 5","18 v 13","1 v 5","8 v 14","19 v 6"]
[null,null,"16:24:00","19 v 8","10 v 18","15 v 12","5 v 3","18 v 11","8 v 4","19 v 14","9 v 15","18 v 5"]
[null,null,"16:32:00","18 v 7","8 v 16","18 v 3","10 v 14","1 v 7","10 v 2","9 v 11","10 v 16","15 v 2"]
[null,null,"16:40:00","15 v 4","1 v 2","16 v 11","8 v 12","8 v 6","16 v 15","20 v 13","4 v 2","14 v 11"]
[null,null,"16:48:00","13 v 2","6 v 14","20 v 5","1 v 4","15 v 14","1 v 6","18 v 15","7 v 13","16 v 3"]
[null,null,"16:56:00","17 v 6","20 v 19","14 v 13","19 v 16","19 v 2","9 v 3","6 v 4","1 v 3","13 v 12"]
[null,null,"17:04:00","20 v 9","9 v 17","17 v 2","9 v 13","17 v 12","19 v 12","7 v 3","20 v 17","20 v 7"]
[null,null,"17:12:00","16 v 5","4 v 12","19 v 4","6 v 2","20 v 3","7 v 5","8 v 2","6 v 12","10 v 8"]

{"sheet":"MATCH HISTORY 2","index":21,"n_rows":234,"n_cols":78,"rows_kept":234,"cut":false,"hidden":false,"merged":[[6,0,6,2],[7,0,7,2],[8,0,8,2],[21,0,21,12],[0,0,0,12],[1,0,1,12],[2,0,2,12],[3,0,3,2],[4,0,4,2],[5,0,5,2]]}
[{"$f":"'COURSE & LEAGUE DETAILS'!$B$3","v":"Woods at Westminster"},null,null,null,null,null,null,null,null,null,null,null,null,null,null,null,null,null,null,{"$f":"IF(ISERROR(VLOOKUP($K$24,$A$75:$BZ$1000,54,FALSE)),\"No Data Available\",VLOOKUP($K$24,$A$75:$BZ$1000,54,FALSE))","v":"No Data Available"}]
[{"$f":"IF(LEFT(N9,2)=\"No\",'COURSE & LEAGUE DETAILS'!$B$2&\" - \"&N6&\" - \"&TEXT(N9,\"mmm dd, yyyy\"),'COURSE & LEAGUE DETAILS'!$B$2&\" - \"&N6&\" - \"&TEXT(N9,\"mmm dd, yyyy\")&\" - \"&N8&\" Side\")","v":"Romano Golf League - Team 17 v Team 10 - No Data Available"}]
[]
["HOLE",null,null,{"$f":"IF(LEFT($N$8)=\"F\",1,IF(LEFT($N$8)=\"B\",10,\"ERROR\"))","v":1},{"$f":"IF(LEFT($N$8)=\"F\",2,IF(LEFT($N$8)=\"B\",11,\"ERROR\"))","v":2},{"$f":"IF(LEFT($N$8)=\"F\",3,IF(LEFT($N$8)=\"B\",12,\"ERROR\"))","v":3},{"$f":"IF(LEFT($N$8)=\"F\",4,IF(LEFT($N$8)=\"B\",13,\"ERROR\"))","v":4},{"$f":"IF(LEFT($N$8)=\"F\",5,IF(LEFT($N$8)=\"B\",14,\"ERROR\"))","v":5},{"$f":"IF(LEFT($N$8)=\"F\",6,IF(LEFT($N$8)=\"B\",15,\"ERROR\"))","v":6},{"$f":"IF(LEFT($N$8)=\"F\",7,IF(LEFT($N$8)=\"B\",16,\"ERROR\"))","v":7},{"$f":"IF(LEFT($N$8)=\"F\",8,IF(LEFT($N$8)=\"B\",17,\"ERROR\"))","v":8},{"$f":"IF(LEFT($N$8)=\"F\",9,IF(LEFT($N$8)=\"B\",18,\"ERROR\"))","v":9},{"$f":"IF(LEFT($N$8)=\"F\",\"OUT\",IF(LEFT($N$8)=\"B\",\"IN\",\"ERROR\"))","v":"OUT"}]
["WHITE",null,null,{"$f":"IF($D$4=1,'COURSE & LEAGUE DETAILS'!$B$6,IF($D$4=10,'COURSE & LEAGUE DETAILS'!$B$14,\"ERROR\"))","v":460},{"$f":"IF($D$4=1,'COURSE & LEAGUE DETAILS'!$C$6,IF($D$4=10,'COURSE & LEAGUE DETAILS'!$C$14,\"ERROR\"))","v":275},{"$f":"IF($D$4=1,'COURSE & LEAGUE DETAILS'!$D$6,IF($D$4=10,'COURSE & LEAGUE DETAILS'!$D$14,\"ERROR\"))","v":525},{"$f":"IF($D$4=1,'COURSE & LEAGUE DETAILS'!$E$6,IF($D$4=10,'COURSE & LEAGUE DETAILS'!$E$14,\"ERROR\"))","v":295},{"$f":"IF($D$4=1,'COURSE & LEAGUE DETAILS'!$F$6,IF($D$4=10,'COURSE & LEAGUE DETAILS'!$F$14,\"ERROR\"))","v":345},{"$f":"IF($D$4=1,'COURSE & LEAGUE DETAILS'!$G$6,IF($D$4=10,'COURSE & LEAGUE DETAILS'!$G$14,\"ERROR\"))","v":175},{"$f":"IF($D$4=1,'COURSE & LEAGUE DETAILS'!$H$6,IF($D$4=10,'COURSE & LEAGUE DETAILS'!$H$14,\"ERROR\"))","v":405},{"$f":"IF($D$4=1,'COURSE & LEAGUE DETAILS'!$I$6,IF($D$4=10,'COURSE & LEAGUE DETAILS'!$I$14,\"ERROR\"))","v":145},{"$f":"IF($D$4=1,'COURSE & LEAGUE DETAILS'!$J$6,IF($D$4=10,'COURSE & LEAGUE DETAILS'!$J$14,\"ERROR\"))","v":320},{"$f":"IF($D$4=1,'COURSE & LEAGUE DETAILS'!$K$6,IF($D$4=10,'COURSE & LEAGUE DETAILS'!$K$14,\"ERROR\"))","v":2945}]
["MEN'S PAR    ",null,null,{"$f":"IF($D$4=1,'COURSE & LEAGUE DETAILS'!$B$7,IF($D$4=10,'COURSE & LEAGUE DETAILS'!$B$15,\"ERROR\"))","v":5},{"$f":"IF($D$4=1,'COURSE & LEAGUE DETAILS'!$C$7,IF($D$4=10,'COURSE & LEAGUE DETAILS'!$C$15,\"ERROR\"))","v":4},{"$f":"IF($D$4=1,'COURSE & LEAGUE DETAILS'!$D$7,IF($D$4=10,'COURSE & LEAGUE DETAILS'!$D$15,\"ERROR\"))","v":5},{"$f":"IF($D$4=1,'COURSE & LEAGUE DETAILS'!$E$7,IF($D$4=10,'COURSE & LEAGUE DETAILS'!$E$15,\"ERROR\"))","v":4},{"$f":"IF($D$4=1,'COURSE & LEAGUE DETAILS'!$F$7,IF($D$4=10,'COURSE & LEAGUE DETAILS'!$F$15,\"ERROR\"))","v":4},{"$f":"IF($D$4=1,'COURSE & LEAGUE DETAILS'!$G$7,IF($D$4=10,'COURSE & LEAGUE DETAILS'!$G$15,\"ERROR\"))","v":3},{"$f":"IF($D$4=1,'COURSE & LEAGUE DETAILS'!$H$7,IF($D$4=10,'COURSE & LEAGUE DETAILS'!$H$15,\"ERROR\"))","v":4},{"$f":"IF($D$4=1,'COURSE & LEAGUE DETAILS'!$I$7,IF($D$4=10,'COURSE & LEAGUE DETAILS'!$I$15,\"ERROR\"))","v":3},{"$f":"IF($D$4=1,'COURSE & LEAGUE DETAILS'!$J$7,IF($D$4=10,'COURSE & LEAGUE DETAILS'!$J$15,\"ERROR\"))","v":4},{"$f":"IF($D$4=1,'COURSE & LEAGUE DETAILS'!$K$7,IF($D$4=10,'COURSE & LEAGUE DETAILS'!$K$15,\"ERROR\"))","v":36},{"$f":"IFERROR(VLOOKUP($K$24,$A$75:$BC$240,2,FALSE),\"Team \"&IF(FIND(\" v \",$K$24)=10,RIGHT(LEFT($K$24,9),1),RIGHT(LEFT($K$24,10),2))&\" v Team \"&IF(FIND(\" v \",RIGHT($K$24,5))=1,RIGHT($K$24,2),RIGHT($K$24,1)))","v":"Team 17 v Team 10"}]
["MEN'S HCP    ",null,null,{"$f":"IF($D$4=1,'COURSE & LEAGUE DETAILS'!$B$8,IF($D$4=10,'COURSE & LEAGUE DETAILS'!$B$16,\"ERROR\"))","v":5},{"$f":"IF($D$4=1,'COURSE & LEAGUE DETAILS'!$C$8,IF($D$4=10,'COURSE & LEAGUE DETAILS'!$C$16,\"ERROR\"))","v":7},{"$f":"IF($D$4=1,'COURSE & LEAGUE DETAILS'!$D$8,IF($D$4=10,'COURSE & LEAGUE DETAILS'!$D$16,\"ERROR\"))","v":3},{"$f":"IF($D$4=1,'COURSE & LEAGUE DETAILS'!$E$8,IF($D$4=10,'COURSE & LEAGUE DETAILS'!$E$16,\"ERROR\"))","v":9},{"$f":"IF($D$4=1,'COURSE & LEAGUE DETAILS'!$F$8,IF($D$4=10,'COURSE & LEAGUE DETAILS'!$F$16,\"ERROR\"))","v":11},{"$f":"IF($D$4=1,'COURSE & LEAGUE DETAILS'!$G$8,IF($D$4=10,'COURSE & LEAGUE DETAILS'!$G$16,\"ERROR\"))","v":17},{"$f":"IF($D$4=1,'COURSE & LEAGUE DETAILS'!$H$8,IF($D$4=10,'COURSE & LEAGUE DETAILS'!$H$16,\"ERROR\"))","v":1},{"$f":"IF($D$4=1,'COURSE & LEAGUE DETAILS'!$I$8,IF($D$4=10,'COURSE & LEAGUE DETAILS'!$I$16,\"ERROR\"))","v":15},{"$f":"IF($D$4=1,'COURSE & LEAGUE DETAILS'!$J$8,IF($D$4=10,'COURSE & LEAGUE DETAILS'!$J$16,\"ERROR\"))","v":13},null,{"$f":"LEFT(K24,5)","v":"01/00"}]
["RED",null,null,{"$f":"IF($D$4=1,'COURSE & LEAGUE DETAILS'!$B$9,IF($D$4=10,'COURSE & LEAGUE DETAILS'!$B$17,\"ERROR\"))","v":375},{"$f":"IF($D$4=1,'COURSE & LEAGUE DETAILS'!$C$9,IF($D$4=10,'COURSE & LEAGUE DETAILS'!$C$17,\"ERROR\"))","v":250},{"$f":"IF($D$4=1,'COURSE & LEAGUE DETAILS'!$D$9,IF($D$4=10,'COURSE & LEAGUE DETAILS'!$D$17,\"ERROR\"))","v":475},{"$f":"IF($D$4=1,'COURSE & LEAGUE DETAILS'!$E$9,IF($D$4=10,'COURSE & LEAGUE DETAILS'!$E$17,\"ERROR\"))","v":255},{"$f":"IF($D$4=1,'COURSE & LEAGUE DETAILS'!$F$9,IF($D$4=10,'COURSE & LEAGUE DETAILS'!$F$17,\"ERROR\"))","v":325},{"$f":"IF($D$4=1,'COURSE & LEAGUE DETAILS'!$G$9,IF($D$4=10,'COURSE & LEAGUE DETAILS'!$G$17,\"ERROR\"))","v":155},{"$f":"IF($D$4=1,'COURSE & LEAGUE DETAILS'!$H$9,IF($D$4=10,'COURSE & LEAGUE DETAILS'!$H$17,\"ERROR\"))","v":375},{"$f":"IF($D$4=1,'COURSE & LEAGUE DETAILS'!$I$9,IF($D$4=10,'COURSE & LEAGUE DETAILS'!$I$17,\"ERROR\"))","v":130},{"$f":"IF($D$4=1,'COURSE & LEAGUE DETAILS'!$J$9,IF($D$4=10,'COURSE & LEAGUE DETAILS'!$J$17,\"ERROR\"))","v":290},{"$f":"IF($D$4=1,'COURSE & LEAGUE DETAILS'!$K$9,IF($D$4=10,'COURSE & LEAGUE DETAILS'!$K$17,\"ERROR\"))","v":2630},{"$f":"IF(ISERROR(VLOOKUP($K$24,$A$75:$BC$240,55,FALSE)),\"FRONT\",VLOOKUP($K$24,$A$75:$BC$240,55,FALSE))","v":"FRONT"}]
["WOMEN'S PAR    ",null,null,{"$f":"IF($D$4=1,'COURSE & LEAGUE DETAILS'!$B$10,IF($D$4=10,'COURSE & LEAGUE DETAILS'!$B$18,\"ERROR\"))","v":5},{"$f":"IF($D$4=1,'COURSE & LEAGUE DETAILS'!$C$10,IF($D$4=10,'COURSE & LEAGUE DETAILS'!$C$18,\"ERROR\"))","v":4},{"$f":"IF($D$4=1,'COURSE & LEAGUE DETAILS'!$D$10,IF($D$4=10,'COURSE & LEAGUE DETAILS'!$D$18,\"ERROR\"))","v":5},{"$f":"IF($D$4=1,'COURSE & LEAGUE DETAILS'!$E$10,IF($D$4=10,'COURSE & LEAGUE DETAILS'!$E$18,\"ERROR\"))","v":4},{"$f":"IF($D$4=1,'COURSE & LEAGUE DETAILS'!$F$10,IF($D$4=10,'COURSE & LEAGUE DETAILS'!$F$18,\"ERROR\"))","v":4},{"$f":"IF($D$4=1,'COURSE & LEAGUE DETAILS'!$G$10,IF($D$4=10,'COURSE & LEAGUE DETAILS'!$G$18,\"ERROR\"))","v":3},{"$f":"IF($D$4=1,'COURSE & LEAGUE DETAILS'!$H$10,IF($D$4=10,'COURSE & LEAGUE DETAILS'!$H$18,\"ERROR\"))","v":5},{"$f":"IF($D$4=1,'COURSE & LEAGUE DETAILS'!$I$10,IF($D$4=10,'COURSE & LEAGUE DETAILS'!$I$18,\"ERROR\"))","v":3},{"$f":"IF($D$4=1,'COURSE & LEAGUE DETAILS'!$J$10,IF($D$4=10,'COURSE & LEAGUE DETAILS'!$J$18,\"ERROR\"))","v":4},{"$f":"IF($D$4=1,'COURSE & LEAGUE DETAILS'!$K$10,IF($D$4=10,'COURSE & LEAGUE DETAILS'!$K$18,\"ERROR\"))","v":37},{"$f":"IF(ISERROR(VLOOKUP($K$24,$A$75:$BZ$1000,74,FALSE)),\"No Data Available\",VLOOKUP($K$24,$A$75:$BZ$1000,74,FALSE))","v":"No Data Available"}]
["HCP","TEAM","WOMEN'S HCP",{"$f":"IF($D$4=1,'COURSE & LEAGUE DETAILS'!$B$11,IF($D$4=10,'COURSE & LEAGUE DETAILS'!$B$19,\"ERROR\"))","v":5},{"$f":"IF($D$4=1,'COURSE & LEAGUE DETAILS'!$C$11,IF($D$4=10,'COURSE & LEAGUE DETAILS'!$C$19,\"ERROR\"))","v":7},{"$f":"IF($D$4=1,'COURSE & LEAGUE DETAILS'!$D$11,IF($D$4=10,'COURSE & LEAGUE DETAILS'!$D$19,\"ERROR\"))","v":3},{"$f":"IF($D$4=1,'COURSE & LEAGUE DETAILS'!$E$11,IF($D$4=10,'COURSE & LEAGUE DETAILS'!$E$19,\"ERROR\"))","v":9},{"$f":"IF($D$4=1,'COURSE & LEAGUE DETAILS'!$F$11,IF($D$4=10,'COURSE & LEAGUE DETAILS'!$F$19,\"ERROR\"))","v":11},{"$f":"IF($D$4=1,'COURSE & LEAGUE DETAILS'!$G$11,IF($D$4=10,'COURSE & LEAGUE DETAILS'!$G$19,\"ERROR\"))","v":17},{"$f":"IF($D$4=1,'COURSE & LEAGUE DETAILS'!$H$11,IF($D$4=10,'COURSE & LEAGUE DETAILS'!$H$19,\"ERROR\"))","v":1},{"$f":"IF($D$4=1,'COURSE & LEAGUE DETAILS'!$I$11,IF($D$4=10,'COURSE & LEAGUE DETAILS'!$I$19,\"ERROR\"))","v":15},{"$f":"IF($D$4=1,'COURSE & LEAGUE DETAILS'!$J$11,IF($D$4=10,'COURSE & LEAGUE DETAILS'!$J$19,\"ERROR\"))","v":13},null,{"$f":"IF(ISERROR(VLOOKUP($K$24,$A$75:$BZ$1000,3,FALSE)),\"4:00 PM\",VLOOKUP($K$24,$A$75:$BZ$1000,3,FALSE))","v":"4:00 PM"}]
[null,null,null,{"$f":"IF(D37=FALSE,\"\",IF($B12=\"DNP\",0,IF($B12=\"Course\",0,D37)))","v":""},{"$f":"IF(E37=FALSE,\"\",IF($B12=\"DNP\",0,IF($B12=\"Course\",0,E37)))","v":""},"","","","","","","",{"$f":"IF(B12<>\"DNP\",SUM(D11:L11),\"\")","v":0}]
[{"$f":"IF(ISERROR(VLOOKUP($K$24,$A$75:$BZ$1000,6,FALSE)),\"\",VLOOKUP($K$24,$A$75:$BZ$1000,6,FALSE))","v":""},{"$f":"IF(ISERROR(VLOOKUP($K$24,$A$75:$BZ$1000,7,FALSE)),\"\",VLOOKUP($K$24,$A$75:$BZ$1000,7,FALSE))","v":""},{"$f":"IF(ISERROR(VLOOKUP($K$24,$A$75:$BZ$1000,8,FALSE)),\"\",VLOOKUP($K$24,$A$75:$BZ$1000,8,FALSE))","v":""},{"$f":"IF(ISERROR(VLOOKUP($K$24,$A$75:$BZ$1000,9,FALSE)),\"\",VLOOKUP($K$24,$A$75:$BZ$1000,9,FALSE))","v":""},{"$f":"IF(ISERROR(VLOOKUP($K$24,$A$75:$BZ$1000,10,FALSE)),\"\",VLOOKUP($K$24,$A$75:$BZ$1000,10,FALSE))","v":""},{"$f":"IF(ISERROR(VLOOKUP($K$24,$A$75:$BZ$1000,11,FALSE)),\"\",VLOOKUP($K$24,$A$75:$BZ$1000,11,FALSE))","v":""},{"$f":"IF(ISERROR(VLOOKUP($K$24,$A$75:$BZ$1000,12,FALSE)),\"\",VLOOKUP($K$24,$A$75:$BZ$1000,12,FALSE))","v":""},{"$f":"IF(ISERROR(VLOOKUP($K$24,$A$75:$BZ$1000,13,FALSE)),\"\",VLOOKUP($K$24,$A$75:$BZ$1000,13,FALSE))","v":""},{"$f":"IF(ISERROR(VLOOKUP($K$24,$A$75:$BZ$1000,14,FALSE)),\"\",VLOOKUP($K$24,$A$75:$BZ$1000,14,FALSE))","v":""},{"$f":"IF(ISERROR(VLOOKUP($K$24,$A$75:$BZ$1000,15,FALSE)),\"\",VLOOKUP($K$24,$A$75:$BZ$1000,15,FALSE))","v":""},{"$f":"IF(ISERROR(VLOOKUP($K$24,$A$75:$BZ$1000,16,FALSE)),\"\",VLOOKUP($K$24,$A$75:$BZ$1000,16,FALSE))","v":""},{"$f":"IF(ISERROR(VLOOKUP($K$24,$A$75:$BZ$1000,17,FALSE)),\"\",VLOOKUP($K$24,$A$75:$BZ$1000,17,FALSE))","v":""},{"$f":"SUM(D12:L12)","v":0}]
[null,null,null,{"$f":"IF(D38=FALSE,\"\",IF($B14=\"DNP\",0,IF($B14=\"Course\",0,D38)))","v":""},{"$f":"IF(E38=FALSE,\"\",IF($B14=\"DNP\",0,IF($B14=\"Course\",0,E38)))","v":""},"","","","","","","",{"$f":"IF(B14<>\"DNP\",SUM(D13:L13),\"\")","v":0}]
[{"$f":"IF(ISERROR(VLOOKUP($K$24,$A$75:$BZ$1000,18,FALSE)),\"\",VLOOKUP($K$24,$A$75:$BZ$1000,18,FALSE))","v":""},{"$f":"IF(ISERROR(VLOOKUP($K$24,$A$75:$BZ$1000,19,FALSE)),\"\",VLOOKUP($K$24,$A$75:$BZ$1000,19,FALSE))","v":""},{"$f":"IF(ISERROR(VLOOKUP($K$24,$A$75:$BZ$1000,20,FALSE)),\"\",VLOOKUP($K$24,$A$75:$BZ$1000,20,FALSE))","v":""},{"$f":"IF(ISERROR(VLOOKUP($K$24,$A$75:$BZ$1000,21,FALSE)),\"\",VLOOKUP($K$24,$A$75:$BZ$1000,21,FALSE))","v":""},{"$f":"IF(ISERROR(VLOOKUP($K$24,$A$75:$BZ$1000,22,FALSE)),\"\",VLOOKUP($K$24,$A$75:$BZ$1000,22,FALSE))","v":""},{"$f":"IF(ISERROR(VLOOKUP($K$24,$A$75:$BZ$1000,23,FALSE)),\"\",VLOOKUP($K$24,$A$75:$BZ$1000,23,FALSE))","v":""},{"$f":"IF(ISERROR(VLOOKUP($K$24,$A$75:$BZ$1000,24,FALSE)),\"\",VLOOKUP($K$24,$A$75:$BZ$1000,24,FALSE))","v":""},{"$f":"IF(ISERROR(VLOOKUP($K$24,$A$75:$BZ$1000,25,FALSE)),\"\",VLOOKUP($K$24,$A$75:$BZ$1000,25,FALSE))","v":""},{"$f":"IF(ISERROR(VLOOKUP($K$24,$A$75:$BZ$1000,26,FALSE)),\"\",VLOOKUP($K$24,$A$75:$BZ$1000,26,FALSE))","v":""},{"$f":"IF(ISERROR(VLOOKUP($K$24,$A$75:$BZ$1000,27,FALSE)),\"\",VLOOKUP($K$24,$A$75:$BZ$1000,27,FALSE))","v":""},{"$f":"IF(ISERROR(VLOOKUP($K$24,$A$75:$BZ$1000,28,FALSE)),\"\",VLOOKUP($K$24,$A$75:$BZ$1000,28,FALSE))","v":""},{"$f":"IF(ISERROR(VLOOKUP($K$24,$A$75:$BZ$1000,29,FALSE)),\"\",VLOOKUP($K$24,$A$75:$BZ$1000,29,FALSE))","v":""},{"$f":"SUM(D14:L14)","v":0}]
[null,null,{"$f":"IF(ISERROR(VLOOKUP($K$24,$A$75:$BZ$1000,4,FALSE)),\"\",VLOOKUP($K$24,$A$75:$BZ$1000,4,FALSE))","v":""},{"$f":"IF(ISERROR(VLOOKUP($K$24,$A$75:$BZ$1000,56,FALSE)),\"\",VLOOKUP($K$24,$A$75:$BZ$1000,56,FALSE))","v":""},{"$f":"IF(ISERROR(VLOOKUP($K$24,$A$75:$BZ$1000,57,FALSE)),\"\",VLOOKUP($K$24,$A$75:$BZ$1000,57,FALSE))","v":""},{"$f":"IF(ISERROR(VLOOKUP($K$24,$A$75:$BZ$1000,58,FALSE)),\"\",VLOOKUP($K$24,$A$75:$BZ$1000,58,FALSE))","v":""},{"$f":"IF(ISERROR(VLOOKUP($K$24,$A$75:$BZ$1000,59,FALSE)),\"\",VLOOKUP($K$24,$A$75:$BZ$1000,59,FALSE))","v":""},{"$f":"IF(ISERROR(VLOOKUP($K$24,$A$75:$BZ$1000,60,FALSE)),\"\",VLOOKUP($K$24,$A$75:$BZ$1000,60,FALSE))","v":""},{"$f":"IF(ISERROR(VLOOKUP($K$24,$A$75:$BZ$1000,61,FALSE)),\"\",VLOOKUP($K$24,$A$75:$BZ$1000,61,FALSE))","v":""},{"$f":"IF(ISERROR(VLOOKUP($K$24,$A$75:$BZ$1000,62,FALSE)),\"\",VLOOKUP($K$24,$A$75:$BZ$1000,62,FALSE))","v":""},{"$f":"IF(ISERROR(VLOOKUP($K$24,$A$75:$BZ$1000,63,FALSE)),\"\",VLOOKUP($K$24,$A$75:$BZ$1000,63,FALSE))","v":""},{"$f":"IF(ISERROR(VLOOKUP($K$24,$A$75:$BZ$1000,64,FALSE)),\"\",VLOOKUP($K$24,$A$75:$BZ$1000,64,FALSE))","v":""},{"$f":"SUM(D15:L15)","v":0}]
[null,null,{"$f":"IF(ISERROR(VLOOKUP($K$24,$A$75:$BZ$1000,5,FALSE)),\"\",VLOOKUP($K$24,$A$75:$BZ$1000,5,FALSE))","v":""},{"$f":"IF(ISERROR(VLOOKUP($K$24,$A$75:$BZ$1000,65,FALSE)),\"\",VLOOKUP($K$24,$A$75:$BZ$1000,65,FALSE))","v":""},{"$f":"IF(ISERROR(VLOOKUP($K$24,$A$75:$BZ$1000,66,FALSE)),\"\",VLOOKUP($K$24,$A$75:$BZ$1000,66,FALSE))","v":""},{"$f":"IF(ISERROR(VLOOKUP($K$24,$A$75:$BZ$1000,67,FALSE)),\"\",VLOOKUP($K$24,$A$75:$BZ$1000,67,FALSE))","v":""},{"$f":"IF(ISERROR(VLOOKUP($K$24,$A$75:$BZ$1000,68,FALSE)),\"\",VLOOKUP($K$24,$A$75:$BZ$1000,68,FALSE))","v":""},{"$f":"IF(ISERROR(VLOOKUP($K$24,$A$75:$BZ$1000,69,FALSE)),\"\",VLOOKUP($K$24,$A$75:$BZ$1000,69,FALSE))","v":""},{"$f":"IF(ISERROR(VLOOKUP($K$24,$A$75:$BZ$1000,70,FALSE)),\"\",VLOOKUP($K$24,$A$75:$BZ$1000,70,FALSE))","v":""},{"$f":"IF(ISERROR(VLOOKUP($K$24,$A$75:$BZ$1000,71,FALSE)),\"\",VLOOKUP($K$24,$A$75:$BZ$1000,71,FALSE))","v":""},{"$f":"IF(ISERROR(VLOOKUP($K$24,$A$75:$BZ$1000,72,FALSE)),\"\",VLOOKUP($K$24,$A$75:$BZ$1000,72,FALSE))","v":""},{"$f":"IF(ISERROR(VLOOKUP($K$24,$A$75:$BZ$1000,73,FALSE)),\"\",VLOOKUP($K$24,$A$75:$BZ$1000,73,FALSE))","v":""},{"$f":"SUM(D16:L16)","v":0}]
[null,null,null,{"$f":"IF(D40=FALSE,\"\",IF($B18=\"DNP\",0,IF($B18=\"Course\",0,D40)))","v":""},{"$f":"IF(E40=FALSE,\"\",IF($B18=\"DNP\",0,IF($B18=\"Course\",0,E40)))","v":""},"","","","","","","",{"$f":"IF(B18<>\"DNP\",SUM(D17:L17),\"\")","v":0}]
[{"$f":"IF(ISERROR(VLOOKUP($K$24,$A$75:$BZ$1000,30,FALSE)),\"\",VLOOKUP($K$24,$A$75:$BZ$1000,30,FALSE))","v":""},{"$f":"IF(ISERROR(VLOOKUP($K$24,$A$75:$BZ$1000,31,FALSE)),\"\",VLOOKUP($K$24,$A$75:$BZ$1000,31,FALSE))","v":""},{"$f":"IF(ISERROR(VLOOKUP($K$24,$A$75:$BZ$1000,32,FALSE)),\"\",VLOOKUP($K$24,$A$75:$BZ$1000,32,FALSE))","v":""},{"$f":"IF(ISERROR(VLOOKUP($K$24,$A$75:$BZ$1000,33,FALSE)),\"\",VLOOKUP($K$24,$A$75:$BZ$1000,33,FALSE))","v":""},{"$f":"IF(ISERROR(VLOOKUP($K$24,$A$75:$BZ$1000,34,FALSE)),\"\",VLOOKUP($K$24,$A$75:$BZ$1000,34,FALSE))","v":""},{"$f":"IF(ISERROR(VLOOKUP($K$24,$A$75:$BZ$1000,35,FALSE)),\"\",VLOOKUP($K$24,$A$75:$BZ$1000,35,FALSE))","v":""},{"$f":"IF(ISERROR(VLOOKUP($K$24,$A$75:$BZ$1000,36,FALSE)),\"\",VLOOKUP($K$24,$A$75:$BZ$1000,36,FALSE))","v":""},{"$f":"IF(ISERROR(VLOOKUP($K$24,$A$75:$BZ$1000,37,FALSE)),\"\",VLOOKUP($K$24,$A$75:$BZ$1000,37,FALSE))","v":""},{"$f":"IF(ISERROR(VLOOKUP($K$24,$A$75:$BZ$1000,38,FALSE)),\"\",VLOOKUP($K$24,$A$75:$BZ$1000,38,FALSE))","v":""},{"$f":"IF(ISERROR(VLOOKUP($K$24,$A$75:$BZ$1000,39,FALSE)),\"\",VLOOKUP($K$24,$A$75:$BZ$1000,39,FALSE))","v":""},{"$f":"IF(ISERROR(VLOOKUP($K$24,$A$75:$BZ$1000,40,FALSE)),\"\",VLOOKUP($K$24,$A$75:$BZ$1000,40,FALSE))","v":""},{"$f":"IF(ISERROR(VLOOKUP($K$24,$A$75:$BZ$1000,41,FALSE)),\"\",VLOOKUP($K$24,$A$75:$BZ$1000,41,FALSE))","v":""},{"$f":"SUM(D18:L18)","v":0}]
[null,null,null,{"$f":"IF(D41=FALSE,\"\",IF($B20=\"DNP\",0,IF($B20=\"Course\",0,D41)))","v":""},{"$f":"IF(E41=FALSE,\"\",IF($B20=\"DNP\",0,IF($B20=\"Course\",0,E41)))","v":""},"","","","","","","",{"$f":"IF(B20<>\"DNP\",SUM(D19:L19),\"\")","v":0}]
[{"$f":"IF(ISERROR(VLOOKUP($K$24,$A$75:$BZ$1000,42,FALSE)),\"\",VLOOKUP($K$24,$A$75:$BZ$1000,42,FALSE))","v":""},{"$f":"IF(ISERROR(VLOOKUP($K$24,$A$75:$BZ$1000,43,FALSE)),\"\",VLOOKUP($K$24,$A$75:$BZ$1000,43,FALSE))","v":""},{"$f":"IF(ISERROR(VLOOKUP($K$24,$A$75:$BZ$1000,44,FALSE)),\"\",VLOOKUP($K$24,$A$75:$BZ$1000,44,FALSE))","v":""},{"$f":"IF(ISERROR(VLOOKUP($K$24,$A$75:$BZ$1000,45,FALSE)),\"\",VLOOKUP($K$24,$A$75:$BZ$1000,45,FALSE))","v":""},{"$f":"IF(ISERROR(VLOOKUP($K$24,$A$75:$BZ$1000,46,FALSE)),\"\",VLOOKUP($K$24,$A$75:$BZ$1000,46,FALSE))","v":""},{"$f":"IF(ISERROR(VLOOKUP($K$24,$A$75:$BZ$1000,47,FALSE)),\"\",VLOOKUP($K$24,$A$75:$BZ$1000,47,FALSE))","v":""},{"$f":"IF(ISERROR(VLOOKUP($K$24,$A$75:$BZ$1000,48,FALSE)),\"\",VLOOKUP($K$24,$A$75:$BZ$1000,48,FALSE))","v":""},{"$f":"IF(ISERROR(VLOOKUP($K$24,$A$75:$BZ$1000,49,FALSE)),\"\",VLOOKUP($K$24,$A$75:$BZ$1000,49,FALSE))","v":""},{"$f":"IF(ISERROR(VLOOKUP($K$24,$A$75:$BZ$1000,50,FALSE)),\"\",VLOOKUP($K$24,$A$75:$BZ$1000,50,FALSE))","v":""},{"$f":"IF(ISERROR(VLOOKUP($K$24,$A$75:$BZ$1000,51,FALSE)),\"\",VLOOKUP($K$24,$A$75:$BZ$1000,51,FALSE))","v":""},{"$f":"IF(ISERROR(VLOOKUP($K$24,$A$75:$BZ$1000,52,FALSE)),\"\",VLOOKUP($K$24,$A$75:$BZ$1000,52,FALSE))","v":""},{"$f":"IF(ISERROR(VLOOKUP($K$24,$A$75:$BZ$1000,53,FALSE)),\"\",VLOOKUP($K$24,$A$75:$BZ$1000,53,FALSE))","v":""},{"$f":"SUM(D20:L20)","v":0}]
[]
[{"$f":"CONCATENATE(\"TEE TIME: \",TEXT(N10,\"h:mm AM/PM\"))","v":"TEE TIME: 4:00 PM"}]
[]
[null,null,null,null,null,null,null,null,null,null,{"$f":"'MATCH HISTORY 1'!C1","v":"01/00/0017 v 10"}]
[]
[]
[]
[]
[]
[]
[]
[]
[]
[null,null,null,null,null,null,null,null,null,null,null,null,null,"# non-par 3s"]
[null,null,"Men's Hcp. Rank",{"$f":"IF(D6<>3,RANK(D7,$D$7:$L$7,1),\"\")","v":3},{"$f":"IF(E6<>3,RANK(E7,$D$7:$L$7,1),\"\")","v":4},2,5,6,"",1,"",7,null,{"$f":"COUNTIF(D6:L6,\"<>\"&3)","v":7}]
[null,null,"Women's Hcp. Rank",{"$f":"IF(D9<>3,RANK(D10,$D$10:$L$10,1),\"\")","v":3},{"$f":"IF(E9<>3,RANK(E10,$D$10:$L$10,1),\"\")","v":4},2,5,6,"",1,"",7,null,{"$f":"COUNTIF(D9:L9,\"<>\"&3)","v":7}]
[{"$f":"MIN(A12:A20)","v":0},{"$f":"IF(A12<>\"\",A12-$A$37,\"\")","v":""},{"$f":"IF(ISERROR(VLOOKUP($K$24,$A$75:$BZ$1000,75,FALSE)),\"\",VLOOKUP($K$24,$A$75:$BZ$1000,75,FALSE))","v":""},{"$f":"IF($B37=\"\",\"\",IF($C37=\"M\",IF(D$6=3,0,IF($B37-$N$35>=D$35,2,IF($B37>=D$35,1,0))),IF($C37=\"F\",IF(D$9=3,0,IF($B37-$N$36>=D$36,2,IF($B37>=D$36,1,0))))))","v":""},{"$f":"IF($B37=\"\",\"\",IF($C37=\"M\",IF(E$6=3,0,IF($B37-$N$35>=E$35,2,IF($B37>=E$35,1,0))),IF($C37=\"F\",IF(E$9=3,0,IF($B37-$N$36>=E$36,2,IF($B37>=E$36,1,0))))))","v":""},"","","","","","",""]
[null,{"$f":"IF(A14<>\"\",A14-$A$37,\"\")","v":""},{"$f":"IF(ISERROR(VLOOKUP($K$24,$A$75:$BZ$1000,76,FALSE)),\"\",VLOOKUP($K$24,$A$75:$BZ$1000,76,FALSE))","v":""},{"$f":"IF($B38=\"\",\"\",IF($C38=\"M\",IF(D$6=3,0,IF($B38-$N$35>=D$35,2,IF($B38>=D$35,1,0))),IF($C38=\"F\",IF(D$9=3,0,IF($B38-$N$36>=D$36,2,IF($B38>=D$36,1,0))))))","v":""},"","","","","","","",""]
[]
[null,{"$f":"IF(A18<>\"\",A18-$A$37,\"\")","v":""},{"$f":"IF(ISERROR(VLOOKUP($K$24,$A$75:$BZ$1000,77,FALSE)),\"\",VLOOKUP($K$24,$A$75:$BZ$1000,77,FALSE))","v":""},{"$f":"IF($B40=\"\",\"\",IF($C40=\"M\",IF(D$6=3,0,IF($B40-$N$35>=D$35,2,IF($B40>=D$35,1,0))),IF($C40=\"F\",IF(D$9=3,0,IF($B40-$N$36>=D$36,2,IF($B40>=D$36,1,0))))))","v":""},"","","","","","","",""]
[null,{"$f":"IF(A20<>\"\",A20-$A$37,\"\")","v":""},{"$f":"IF(ISERROR(VLOOKUP($K$24,$A$75:$BZ$1000,78,FALSE)),\"\",VLOOKUP($K$24,$A$75:$BZ$1000,78,FALSE))","v":""},"","","","","","","","",""]
[]
[]
[]
[]
[]
[]
[]
[]
[]
[]
[]
[]
[]
[]
[]
[]
[]
[]
[]
[]
[]
[]
[]
[]
[]
[]
[]
[]
[]
[{"$f":"'SCORE ENTRY WORKSHEET'!N13&'SCORE ENTRY WORKSHEET'!N16","v":"08/23/1719 v 18"},{"$f":"IF('SCORE ENTRY WORKSHEET'!N12<>\"\",'SCORE ENTRY WORKSHEET'!N12,\"\")","v":"Week 8"},{"$f":"IF('SCORE ENTRY WORKSHEET'!N15<>\"\",'SCORE ENTRY WORKSHEET'!N15,\"\")","v":"5:12 PM"},{"$f":"IF('SCORE ENTRY WORKSHEET'!C21<>\"\",'SCORE ENTRY WORKSHEET'!C21,\"\")","v":"Team 19"},{"$f":"IF('SCORE ENTRY WORKSHEET'!C22<>\"\",'SCORE ENTRY WORKSHEET'!C22,\"\")","v":"Team 18"},{"$f":"IF('SCORE ENTRY WORKSHEET'!A18<>\"\",'SCORE ENTRY WORKSHEET'!A18,\"\")","v":15},{"$f":"IF('SCORE ENTRY WORKSHEET'!B18<>\"\",'SCORE ENTRY WORKSHEET'!B18,\"\")","v":"19A"},{"$f":"IF('SCORE ENTRY WORKSHEET'!C18<>\"\",'SCORE ENTRY WORKSHEET'!C18,\"\")","v":"John Pavone"},{"$f":"IF('SCORE ENTRY WORKSHEET'!D18<>\"\",'SCORE ENTRY WORKSHEET'!D18,\"\")","v":""},{"$f":"IF('SCORE ENTRY WORKSHEET'!E18<>\"\",'SCORE ENTRY WORKSHEET'!E18,\"\")","v":""},{"$f":"IF('SCORE ENTRY WORKSHEET'!F18<>\"\",'SCORE ENTRY WORKSHEET'!F18,\"\")","v":""},{"$f":"IF('SCORE ENTRY WORKSHEET'!G18<>\"\",'SCORE ENTRY WORKSHEET'!G18,\"\")","v":""},{"$f":"IF('SCORE ENTRY WORKSHEET'!H18<>\"\",'SCORE ENTRY WORKSHEET'!H18,\"\")","v":""},{"$f":"IF('SCORE ENTRY WORKSHEET'!I18<>\"\",'SCORE ENTRY WORKSHEET'!I18,\"\")","v":""},{"$f":"IF('SCORE ENTRY WORKSHEET'!J18<>\"\",'SCORE ENTRY WORKSHEET'!J18,\"\")","v":""},{"$f":"IF('SCORE ENTRY WORKSHEET'!K18<>\"\",'SCORE ENTRY WORKSHEET'!K18,\"\")","v":""},{"$f":"IF('SCORE ENTRY WORKSHEET'!L18<>\"\",'SCORE ENTRY WORKSHEET'!L18,\"\")","v":""},{"$f":"IF('SCORE ENTRY WORKSHEET'!A20<>\"\",'SCORE ENTRY WORKSHEET'!A20,\"\")","v":18},{"$f":"IF('SCORE ENTRY WORKSHEET'!B20<>\"\",'SCORE ENTRY WORKSHEET'!B20,\"\")","v":"19B"},{"$f":"IF('SCORE ENTRY WORKSHEET'!C20<>\"\",'SCORE ENTRY WORKSHEET'!C20,\"\")","v":"Ernie Beliveau"},{"$f":"IF('SCORE ENTRY WORKSHEET'!D20<>\"\",'SCORE ENTRY WORKSHEET'!D20,\"\")","v":""},{"$f":"IF('SCORE ENTRY WORKSHEET'!E20<>\"\",'SCORE ENTRY WORKSHEET'!E20,\"\")","v":""},{"$f":"IF('SCORE ENTRY WORKSHEET'!F20<>\"\",'SCORE ENTRY WORKSHEET'!F20,\"\")","v":""},{"$f":"IF('SCORE ENTRY WORKSHEET'!G20<>\"\",'SCORE ENTRY WORKSHEET'!G20,\"\")","v":""},{"$f":"IF('SCORE ENTRY WORKSHEET'!H20<>\"\",'SCORE ENTRY WORKSHEET'!H20,\"\")","v":""},{"$f":"IF('SCORE ENTRY WORKSHEET'!I20<>\"\",'SCORE ENTRY WORKSHEET'!I20,\"\")","v":""},{"$f":"IF('SCORE ENTRY WORKSHEET'!J20<>\"\",'SCORE ENTRY WORKSHEET'!J20,\"\")","v":""},{"$f":"IF('SCORE ENTRY WORKSHEET'!K20<>\"\",'SCORE ENTRY WORKSHEET'!K20,\"\")","v":""},{"$f":"IF('SCORE ENTRY WORKSHEET'!L20<>\"\",'SCORE ENTRY WORKSHEET'!L20,\"\")","v":""},{"$f":"IF('SCORE ENTRY WORKSHEET'!A24<>\"\",'SCORE ENTRY WORKSHEET'!A24,\"\")","v":11},{"$f":"IF('SCORE ENTRY WORKSHEET'!B24<>\"\",'SCORE ENTRY WORKSHEET'!B24,\"\")","v":"18A"},{"$f":"IF('SCORE ENTRY WORKSHEET'!C24<>\"\",'SCORE ENTRY WORKSHEET'!C24,\"\")","v":"Norm Gamache"},{"$f":"IF('SCORE ENTRY WORKSHEET'!D24<>\"\",'SCORE ENTRY WORKSHEET'!D24,\"\")","v":""},{"$f":"IF('SCORE ENTRY WORKSHEET'!E24<>\"\",'SCORE ENTRY WORKSHEET'!E24,\"\")","v":""},{"$f":"IF('SCORE ENTRY WORKSHEET'!F24<>\"\",'SCORE ENTRY WORKSHEET'!F24,\"\")","v":""},{"$f":"IF('SCORE ENTRY WORKSHEET'!G24<>\"\",'SCORE ENTRY WORKSHEET'!G24,\"\")","v":""},{"$f":"IF('SCORE ENTRY WORKSHEET'!H24<>\"\",'SCORE ENTRY WORKSHEET'!H24,\"\")","v":""},{"$f":"IF('SCORE ENTRY WORKSHEET'!I24<>\"\",'SCORE ENTRY WORKSHEET'!I24,\"\")","v":""},{"$f":"IF('SCORE ENTRY WORKSHEET'!J24<>\"\",'SCORE ENTRY WORKSHEET'!J24,\"\")","v":""},{"$f":"IF('SCORE ENTRY WORKSHEET'!K24<>\"\",'SCORE ENTRY WORKSHEET'!K24,\"\")","v":""},{"$f":"IF('SCORE ENTRY WORKSHEET'!L24<>\"\",'SCORE ENTRY WORKSHEET'!L24,\"\")","v":""},{"$f":"IF('SCORE ENTRY WORKSHEET'!A26<>\"\",'SCORE ENTRY WORKSHEET'!A26,\"\")","v":23},{"$f":"IF('SCORE ENTRY WORKSHEET'!B26<>\"\",'SCORE ENTRY WORKSHEET'!B26,\"\")","v":"18B"},{"$f":"IF('SCORE ENTRY WORKSHEET'!C26<>\"\",'SCORE ENTRY WORKSHEET'!C26,\"\")","v":"Michelle Bouvier"},{"$f":"IF('SCORE ENTRY WORKSHEET'!D26<>\"\",'SCORE ENTRY WORKSHEET'!D26,\"\")","v":""},{"$f":"IF('SCORE ENTRY WORKSHEET'!E26<>\"\",'SCORE ENTRY WORKSHEET'!E26,\"\")","v":""},{"$f":"IF('SCORE ENTRY WORKSHEET'!F26<>\"\",'SCORE ENTRY WORKSHEET'!F26,\"\")","v":""},{"$f":"IF('SCORE ENTRY WORKSHEET'!G26<>\"\",'SCORE ENTRY WORKSHEET'!G26,\"\")","v":""},{"$f":"IF('SCORE ENTRY WORKSHEET'!H26<>\"\",'SCORE ENTRY WORKSHEET'!H26,\"\")","v":""},{"$f":"IF('SCORE ENTRY WORKSHEET'!I26<>\"\",'SCORE ENTRY WORKSHEET'!I26,\"\")","v":""},{"$f":"IF('SCORE ENTRY WORKSHEET'!J26<>\"\",'SCORE ENTRY WORKSHEET'!J26,\"\")","v":""},{"$f":"IF('SCORE ENTRY WORKSHEET'!K26<>\"\",'SCORE ENTRY WORKSHEET'!K26,\"\")","v":""},{"$f":"IF('SCORE ENTRY WORKSHEET'!L26<>\"\",'SCORE ENTRY WORKSHEET'!L26,\"\")","v":""},{"$f":"'MATCH RESULTS - 2017'!A7","v":"Pavone/Beliveau & Gamache/Bouvier, tie 0.0 - 0.0"},{"$f":"IF('SCORE ENTRY WORKSHEET'!N14<>\"\",'SCORE ENTRY WORKSHEET'!N14,\"\")","v":"BACK"},{"$f":"IF('SCORE ENTRY WORKSHEET'!D21<>\"\",'SCORE ENTRY WORKSHEET'!D21,\"\")","v":""},{"$f":"IF('SCORE ENTRY WORKSHEET'!E21<>\"\",'SCORE ENTRY WORKSHEET'!E21,\"\")","v":""},{"$f":"IF('SCORE ENTRY WORKSHEET'!F21<>\"\",'SCORE ENTRY WORKSHEET'!F21,\"\")","v":""},{"$f":"IF('SCORE ENTRY WORKSHEET'!G21<>\"\",'SCORE ENTRY WORKSHEET'!G21,\"\")","v":""},{"$f":"IF('SCORE ENTRY WORKSHEET'!H21<>\"\",'SCORE ENTRY WORKSHEET'!H21,\"\")","v":""},{"$f":"IF('SCORE ENTRY WORKSHEET'!I21<>\"\",'SCORE ENTRY WORKSHEET'!I21,\"\")","v":""},{"$f":"IF('SCORE ENTRY WORKSHEET'!J21<>\"\",'SCORE ENTRY WORKSHEET'!J21,\"\")","v":""},{"$f":"IF('SCORE ENTRY WORKSHEET'!K21<>\"\",'SCORE ENTRY WORKSHEET'!K21,\"\")","v":""},{"$f":"IF('SCORE ENTRY WORKSHEET'!L21<>\"\",'SCORE ENTRY WORKSHEET'!L21,\"\")","v":""},{"$f":"IF('SCORE ENTRY WORKSHEET'!D22<>\"\",'SCORE ENTRY WORKSHEET'!D22,\"\")","v":""},{"$f":"IF('SCORE ENTRY WORKSHEET'!E22<>\"\",'SCORE ENTRY WORKSHEET'!E22,\"\")","v":""},{"$f":"IF('SCORE ENTRY WORKSHEET'!F22<>\"\",'SCORE ENTRY WORKSHEET'!F22,\"\")","v":""},{"$f":"IF('SCORE ENTRY WORKSHEET'!G22<>\"\",'SCORE ENTRY WORKSHEET'!G22,\"\")","v":""},{"$f":"IF('SCORE ENTRY WORKSHEET'!H22<>\"\",'SCORE ENTRY WORKSHEET'!H22,\"\")","v":""},{"$f":"IF('SCORE ENTRY WORKSHEET'!I22<>\"\",'SCORE ENTRY WORKSHEET'!I22,\"\")","v":""},{"$f":"IF('SCORE ENTRY WORKSHEET'!J22<>\"\",'SCORE ENTRY WORKSHEET'!J22,\"\")","v":""},{"$f":"IF('SCORE ENTRY WORKSHEET'!K22<>\"\",'SCORE ENTRY WORKSHEET'!K22,\"\")","v":""},{"$f":"IF('SCORE ENTRY WORKSHEET'!L22<>\"\",'SCORE ENTRY WORKSHEET'!L22,\"\")","v":""},{"$f":"IF('SCORE ENTRY WORKSHEET'!N13<>\"\",'SCORE ENTRY WORKSHEET'!N13,\"\")","v":"08/23/17"},{"$f":"'SCORE ENTRY WORKSHEET'!C43","v":"M"},{"$f":"'SCORE ENTRY WORKSHEET'!C44","v":"M"},{"$f":"'SCORE ENTRY WORKSHEET'!C46","v":"M"},{"$f":"'SCORE ENTRY WORKSHEET'!C47","v":"F"}]
[]
[1,null,"Match History"]
[1]
["05/03/1712 v 5","Week 2","4:00 PM","Team 12","Team 05",14,"12A","Sal Ciufetti",8,7,8,8,4,6,5,6,4,7,"12B","Kevin Nivala",7,5,5,6,3,5,5,3,6,10,"5A","Dennis Normandin",7,5,6,6,3,7,4,4,5,"","DNP"," Partner Did Not Play","","","","","","","","","","Ciufetti/Nivala d. Normandin/Normandin, 5.0 - 4.0","BACK",0,0.5,1,0,0.5,1,0,1,1,1,0.5,0,1,0.5,0,1,0,0,"05/03/17","M","M","M","M"]
["05/03/1714 v 7","Week 2","4:08 PM","Team 14","Team 07",3,"14A","Paul Fontaine",4,4,4,5,4,5,4,4,6,6,"14B","Ralph Romano III",7,4,5,6,4,5,3,5,6,9,"7A","John Fairbanks",5,4,8,8,4,5,3,5,5,14,"7B","Debbie Fairbanks",9,8,6,8,6,6,4,6,6,"Fairbanks/Fairbanks d. Fontaine/Romano III, 5.0 - 4.0","BACK",0.5,0,0.5,1,0.5,0,0.5,1,0,0.5,1,0.5,0,0.5,1,0.5,0,1,"05/03/17","M","M","M","F"]
["05/03/1711 v 4","Week 2","4:16 PM","Team 11","Team 04",9,"11A","Jim Haskins",7,5,6,6,3,4,3,4,5,13,"11B","Anthony Conte",9,6,5,9,4,7,4,6,6,14,"4A","Peg Romano",8,7,6,6,6,7,6,7,5,16,"4B","Lynn Laroche",7,5,8,9,5,7,6,6,5,"Haskins/Conte d. Romano/Laroche, 5.0 - 4.0","BACK",0,0,1,0,1,1,1,1,0,1,1,0,1,0,0,0,0,1,"05/03/17","M","M","F","F"]
["05/03/1718 v 20","Week 2","4:24 PM","Team 18","Team 20",12,"18A","Norm Gamache",7,8,6,5,4,6,4,4,6,5,"Sub21","Doug Cormier",7,6,6,7,4,6,3,4,4,11,"20A","Sheila Sundstrom",5,7,5,6,4,6,6,5,5,10,"20B","Ray Hoy",7,6,8,6,4,6,6,6,7,"Gamache/Bouvier & Sundstrom/Hoy, tie 4.5 - 4.5","BACK",0,0,0,1,0.5,0.5,1,1,0.5,1,1,1,0,0.5,0.5,0,0,0.5,"05/03/17","M","M","F","M"]
["05/03/1713 v 6","Week 2","4:32 PM","Team 13","Team 06",10,"13A","Tim Hurley",5,6,6,7,4,4,5,5,4,16,"13B","Walter Drake",7,8,8,7,5,6,5,5,6,6,"6A","Vance Butterfield",5,6,6,7,5,5,3,4,3,8,"6B","Bob Schleyer",5,5,6,6,5,5,5,4,3,"Hurley/Drake d. Butterfield/Schleyer, 5.0 - 4.0","BACK",1,0,1,0.5,1,1,0,0.5,0,0,1,0,0.5,0,0,1,0.5,1,"05/03/17","M","M","M","M"]
["05/03/172 v 3","Week 2","4:40 PM","Team 02","Team 03",6,"2A","Jono Normandin",6,5,5,5,4,4,4,5,8,9,"2B","Nathan Wallace",10,6,4,8,5,7,6,6,6,15,"Sub3","Jim Hedlund",7,8,6,8,4,8,6,6,6,9,"3B","Don Frigoletto",5,6,5,7,4,5,3,4,5,"Normandin/Wallace & Romano/Frigoletto, tie 4.5 - 4.5","BACK",0,1,1,1,0.5,1,0,0,0,1,0,0,0,0.5,0,1,1,1,"05/03/17","M","M","M","M"]
["05/03/1716 v 9","Week 2","4:48 PM","Team 16","Team 09",16,"16A","Kevin O'Loughlin",9,7,8,9,6,6,5,7,7,16,"16B","Mike Romano",7,7,7,7,3,5,4,5,7,17,"9A","Mike Doane",8,6,6,6,6,4,4,5,7,9,"9B","John Cassin",9,5,5,4,4,5,5,5,5,"Doane/Cassin d. O'Loughlin/Romano, 6.0 - 3.0","BACK",1,0,0,0,1,0,0.5,0.5,0,0,1,1,1,0,1,0.5,0.5,1,"05/03/17","M","M","M","M"]
["05/03/1717 v 10","Week 2","4:56 PM","Team 17","Team 10",17,"17A","Carol Ekstrom",6,8,7,5,5,6,5,5,6,6,"17B","Mike Dauphinais",6,4,6,7,5,6,4,5,4,2,"10A","Ron Ekstrom",4,4,6,5,4,5,3,4,6,12,"10B","Beth Romano",7,8,6,10,5,7,5,5,5,"Ekstrom/Dauphinais d. Ekstrom/Romano, 5.5 - 3.5","BACK",0.5,0.5,0.5,1,0,1,0,1,1,0.5,0.5,0.5,0,1,0,1,0,0,"05/03/17","F","M","M","F"]
["05/03/171 v 19","Week 2","5:04 PM","Team 01","Team 19",15,"1A","John Normandin",8,8,8,9,6,8,6,8,7,16,"1B","Pete Normandin",6,6,7,6,4,5,6,6,7,14,"19A","John Pavone",6,5,8,5,3,6,6,4,7,19,"19B","Ernie Beliveau",7,8,7,7,6,8,6,5,8,"Pavone/Beliveau d. Normandin/Normandin, 5.5 - 3.5","BACK",0.5,0,0,0.5,0,1,0.5,0,1,0.5,1,1,0.5,1,0,0.5,1,0,"05/03/17","M","M","M","M"]
["05/03/1715 v 8","Week 2","5:12 PM","Team 15","Team 08",7,"15A","Gary Leavenworth",7,5,6,6,5,6,4,5,5,11,"15B","Patty Leavenworth",8,5,6,6,6,4,6,5,6,4,"8A","Steve Lawrence",5,6,4,6,3,4,4,5,6,20,"8B","Mike Benson",10,5,8,10,6,8,6,5,6,"Lawrence/Benson d. Leavenworth/Leavenworth, 6.0 - 3.0","BACK",0,0,0,1,0,1,0.5,0,0.5,1,1,1,0,1,0,0.5,1,0.5,"05/03/17","M","F","M","M"]
["05/10/171 v 14","Week 3","4:00 PM","Team 01","Team 14",17,"1A","John Normandin",10,8,10,7,5,5,7,3,5,15,"1B","Pete Normandin",7,6,10,6,5,5,6,5,6,3,"14A","Paul Fontaine",7,5,6,5,5,3,6,2,5,6,"14B","Ralph Romano III",5,4,6,6,5,4,6,4,3,"Fontaine/Romano III d. Normandin/Normandin, 5.0 - 4.0","FRONT",0,0.5,0,1,1,0,1,0,0.5,1,0.5,1,0,0,1,0,1,0.5,"05/10/17","M","M","M","M"]
["05/10/1712 v 16","Week 3","4:08 PM","Team 12","Team 16",15,"12A","Sal Ciufetti",6,5,8,7,5,4,7,3,5,8,"12B","Kevin Nivala",6,4,5,4,5,3,7,4,5,13,"Sub29","Ann Goodwin",10,6,8,5,5,4,7,3,6,15,"16B","Mike Romano",8,7,8,6,5,5,8,4,8,"Ciufetti/Nivala d. O'Loughlin/Romano, 7.0 - 2.0","FRONT",1,1,1,0.5,0.5,1,0.5,0.5,1,0,0,0,0.5,0.5,0,0.5,0.5,0,"05/10/17","M","M","F","M"]
["05/10/1713 v 15","Week 3","4:16 PM","Team 13","Team 15",9,"13A","Tim Hurley",6,5,7,5,7,3,4,3,4,17,"13B","Walter Drake",9,4,10,8,6,4,7,5,7,8,"15A","Gary Leavenworth",6,5,6,5,6,4,7,3,4,11,"15B","Patty Leavenworth",8,5,9,6,5,4,8,4,5,"Hurley/Drake d. Leavenworth/Leavenworth, 5.5 - 3.5","FRONT",0.5,1,0,0.5,0.5,1,1,0.5,0.5,0.5,0,1,0.5,0.5,0,0,0.5,0.5,"05/10/17","M","M","M","F"]
["05/10/177 v 8","Week 3","4:24 PM","Team 07","Team 08",9,"7A","John Fairbanks",7,6,9,5,5,4,7,5,6,14,"7B","Debbie Fairbanks",8,6,9,5,5,4,7,3,5,4,"8A","Steve Lawrence",6,4,6,6,6,4,4,2,6,20,"8B","Mike Benson",6,7,9,6,7,6,8,4,5,"Lawrence/Benson d. Fairbanks/Fairbanks, 7.0 - 2.0","FRONT",0,0,0,0.5,1,0.5,0,0,0,1,1,1,0.5,0,0.5,1,1,1,"05/10/17","M","F","M","M"]
["05/10/172 v 18","Week 3","4:32 PM","Team 02","Team 18",7,"2A","Jono Normandin",6,6,7,6,5,5,6,4,4,11,"2B","Nathan Wallace",6,7,9,7,6,5,8,5,4,12,"18A","Norm Gamache",8,6,9,5,5,4,7,4,8,"","DNP"," Partner Did Not Play","","","","","","","","","","Normandin/Wallace & Gamache/Bouvier, tie 4.5 - 4.5","FRONT",1,0,1,0,0.5,0,0.5,0.5,1,0,1,0,1,0.5,1,0.5,0.5,0,"05/10/17","M","M","M","M"]
["05/10/173 v 19","Week 3","4:40 PM","Team 03","Team 19",17,"3A","Pete Romano",10,5,10,8,6,5,8,4,7,8,"3B","Don Frigoletto",8,6,4,5,4,3,6,5,4,15,"19A","John Pavone",7,6,7,4,6,4,6,4,7,20,"19B","Ernie Beliveau",9,6,8,8,8,5,8,4,5,"Romano/Frigoletto & Pavone/Beliveau, tie 4.5 - 4.5","FRONT",0,0.5,1,0,1,1,0,0.5,0.5,1,0.5,0,1,0,0,1,0.5,0.5,"05/10/17","M","M","M","M"]
["05/10/176 v 9","Week 3","4:48 PM","Team 06","Team 09",6,"6A","Vance Butterfield",5,4,6,6,5,5,5,4,5,8,"6B","Bob Schleyer",6,5,7,6,4,4,5,3,4,"","DNP"," Partner Did Not Play","","","","","","","","","",8,"9B","John Cassin",7,6,8,4,4,4,8,4,4,"Butterfield/Schleyer d. Doane/Cassin, 6.5 - 2.5","FRONT",1,1,1,0,0.5,0.5,1,1,0.5,0,0,0,1,0.5,0.5,0,0,0.5,"05/10/17","M","M","M","M"]
["05/10/175 v 10","Week 3","4:56 PM","Team 05","Team 10",10,"5A","Dennis Normandin",8,6,6,6,5,3,6,3,6,13,"Sub30","Gary Bittner",4,5,9,7,5,4,8,4,4,2,"10A","Ron Ekstrom",6,5,6,5,4,3,6,2,4,13,"10B","Beth Romano",7,4,8,8,4,3,8,4,5,"Normandin/Normandin d. Ekstrom/Romano, 5.0 - 4.0","FRONT",1,0,1,0.5,0,0.5,1,0,1,0,1,0,0.5,1,0.5,0,1,0,"05/10/17","M","M","M","F"]
["05/10/174 v 20","Week 3","5:04 PM","Team 04","Team 20",14,"4A","Peg Romano",10,6,10,7,6,3,8,3,7,16,"4B","Lynn Laroche",9,6,9,6,6,4,8,3,7,11,"20A","Sheila Sundstrom",10,6,8,6,6,4,7,4,6,11,"20B","Ray Hoy",7,6,7,6,5,5,6,5,8,"Sundstrom/Hoy d. Romano/Laroche, 5.0 - 4.0","FRONT",0,1,0,1,0,1,0,1,0,1,0,1,0,1,0,1,0,1,"05/10/17","F","F","F","M"]
["05/10/1711 v 17","Week 3","5:12 PM","Team 11","Team 17",9,"11A","Jim Haskins",7,6,9,5,6,5,6,3,3,14,"11B","Anthony Conte",6,6,7,8,4,4,7,3,5,16,"17A","Carol Ekstrom",9,5,6,8,6,4,8,4,8,6,"17B","Mike Dauphinais",6,5,7,4,4,4,7,5,4,"Haskins/Conte d. Ekstrom/Dauphinais, 5.5 - 3.5","FRONT",1,0,0,0,1,0.5,1,1,1,0,1,1,1,0,0.5,0,0,0,"05/10/17","M","M","F","M"]
["05/17/173 v 6","Week 4","4:00 PM","Team 03","Team 06",18,"3A","Pete Romano",10,7,8,6,6,7,4,8,7,9,"3B","Don Frigoletto",5,4,6,9,6,4,4,5,5,6,"6A","Vance Butterfield",8,6,4,7,5,5,4,4,6,7,"6B","Bob Schleyer",6,8,7,7,4,5,4,6,7,"Romano/Frigoletto d. Butterfield/Schleyer, 5.5 - 3.5","BACK",1,1,0,1,0,1,0.5,0,1,0,0,1,0,1,0,0.5,1,0,"05/17/17","M","M","M","M"]
["05/17/172 v 7","Week 4","4:08 PM","Team 02","Team 07",8,"2A","Jono Normandin",7,6,4,7,3,5,3,4,4,12,"2B","Nathan Wallace",8,7,8,8,6,5,5,3,7,10,"7A","John Fairbanks",4,5,6,8,3,5,5,5,4,15,"7B","Debbie Fairbanks",7,7,8,6,6,6,5,4,5,"Fairbanks/Fairbanks d. Normandin/Wallace, 5.5 - 3.5","BACK",0,0,1,0,0.5,0.5,1,0.5,0,1,1,0,1,0.5,0.5,0,0.5,1,"05/17/17","M","M","M","F"]
["05/17/1714 v 20","Week 4","4:16 PM","Team 14","Team 20",3,"14A","Paul Fontaine",5,6,5,6,4,5,3,4,6,5,"14B","Ralph Romano III",5,5,8,9,4,5,6,4,4,12,"20A","Sheila Sundstrom",7,6,5,8,4,6,4,5,5,12,"20B","Ray Hoy",7,5,6,5,6,6,3,4,5,"Sundstrom/Hoy d. Fontaine/Romano III, 6.5 - 2.5","BACK",0.5,0,0,0,0.5,0.5,0.5,0,0.5,0.5,1,1,1,0.5,0.5,0.5,1,0.5,"05/17/17","M","M","F","M"]
["05/17/1712 v 9","Week 4","4:24 PM","Team 12","Team 09",14,"12A","Sal Ciufetti",5,5,5,7,5,5,4,5,7,7,"12B","Kevin Nivala",6,5,5,7,5,5,4,5,7,15,"9A","Mike Doane",8,7,8,8,6,3,5,5,4,9,"9B","John Cassin",5,6,6,8,4,8,3,5,4,"Ciufetti/Nivala & Doane/Cassin, tie 4.5 - 4.5","BACK",1,1,1,1,0,0,0,0.5,0,0,0,0,0,1,1,1,0.5,1,"05/17/17","M","M","M","M"]
["05/17/1711 v 8","Week 4","4:32 PM","Team 11","Team 08",10,"11A","Jim Haskins",7,5,6,7,3,4,6,5,6,14,"11B","Anthony Conte",5,8,8,8,4,3,3,5,5,5,"8A","Steve Lawrence",8,5,4,5,3,5,2,4,4,21,"8B","Mike Benson",10,5,7,8,4,5,6,8,6,"Lawrence/Benson d. Haskins/Conte, 5.0 - 4.0","BACK",1,0,0,0,0.5,1,0,0.5,1,0,1,1,1,0.5,0,1,0.5,0,"05/17/17","M","M","M","M"]
["05/17/174 v 5","Week 4","4:40 PM","Team 04","Team 05",15,"4A","Peg Romano",8,8,6,6,5,5,6,8,5,16,"4B","Lynn Laroche",7,8,6,7,5,6,5,6,6,11,"5A","Dennis Normandin",7,6,7,8,5,6,3,5,5,"","DNP"," Partner Did Not Play","","","","","","","","","","Romano/Laroche d. Normandin/Normandin, 5.0 - 4.0","BACK",1,0,1,1,0.5,1,0,0,0.5,0,1,0,0,0.5,0,1,1,0.5,"05/17/17","F","F","M","M"]
["05/17/1713 v 10","Week 4","4:48 PM","Team 13","Team 10",9,"13A","Tim Hurley",6,6,5,6,3,4,4,4,5,17,"13B","Walter Drake",7,7,8,9,5,6,5,5,6,3,"10A","Ron Ekstrom",6,5,4,5,5,4,4,5,6,13,"10B","Beth Romano",6,6,6,5,4,6,6,4,3,"Ekstrom/Romano d. Hurley/Drake, 5.5 - 3.5","BACK",0,0,0.5,0,1,1,0.5,0.5,0,1,1,0.5,1,0,0,0.5,0.5,1,"05/17/17","M","M","M","F"]
["05/17/171 v 17","Week 4","4:56 PM","Team 01","Team 17",18,"1A","John Normandin",7,8,8,8,5,8,6,7,7,15,"1B","Pete Normandin",9,6,8,7,6,7,6,4,8,16,"17A","Carol Ekstrom",7,5,6,7,5,7,4,5,4,6,"17B","Mike Dauphinais",7,5,5,7,4,5,5,5,6,"Ekstrom/Dauphinais d. Normandin/Normandin, 7.0 - 2.0","BACK",0.5,0,0,0.5,0,0,0,1,0,0.5,1,1,0.5,1,1,1,0,1,"05/17/17","M","M","F","M"]
["05/17/1715 v 19","Week 4","5:04 PM","Team 15","Team 19",7,"15A","Gary Leavenworth",5,7,4,6,4,4,3,5,6,12,"15B","Patty Leavenworth",4,4,8,5,6,8,6,4,4,14,"19A","John Pavone",6,5,7,8,5,6,5,5,7,20,"19B","Ernie Beliveau",8,7,6,8,4,7,6,6,7,"Leavenworth/Leavenworth d. Pavone/Beliveau, 7.5 - 1.5","BACK",1,1,0.5,1,0.5,1,1,0.5,1,0,0,0.5,0,0.5,0,0,0.5,0,"05/17/17","M","F","M","M"]
["05/17/1716 v 18","Week 4","5:12 PM","Team 16","Team 18",17,"16A","Kevin O'Loughlin",10,8,7,9,6,6,6,5,5,16,"16B","Mike Romano",7,7,8,7,6,5,4,5,7,14,"18A","Norm Gamache",4,5,6,7,4,5,4,4,6,18,"Sub30","Scott Leavenworth",7,5,7,10,5,6,5,5,5,"Gamache/Bouvier d. O'Loughlin/Romano, 6.5 - 2.5","BACK",0,0,0,1,0,0.5,0.5,0,0.5,1,1,1,0,1,0.5,0.5,1,0.5,"05/17/17","M","M","M","M"]
["05/24/1712 v 20","Week 5","4:00 PM","Team 12","Team 20",13,"12A","Sal Ciufetti",8,5,8,8,4,4,8,5,7,7,"12B","Kevin Nivala",6,4,7,5,4,3,5,4,5,12,"20A","Sheila Sundstrom",8,7,8,7,4,4,6,4,7,12,"20B","Ray Hoy",6,4,6,4,3,5,7,4,7,"Sundstrom/Hoy d. Ciufetti/Nivala, 5.5 - 3.5","FRONT",0,0,0,0,0.5,1,0.5,0.5,1,1,1,1,1,0.5,0,0.5,0.5,0,"05/24/17","M","M","F","M"]
["05/24/175 v 6","Week 5","4:08 PM","Team 05","Team 06",11,"5A","Dennis Normandin",7,6,6,8,4,5,8,4,5,4,"Sub4","Don Shank",8,4,5,5,5,4,6,3,4,7,"6A","Vance Butterfield",7,4,6,4,4,4,8,5,5,12,"Sub25","Kyle Butterfield",7,6,7,5,4,4,8,5,6,"Normandin/Normandin d. Butterfield/Schleyer, 5.0 - 4.0","FRONT",0.5,0.5,0.5,0,0.5,0.5,0.5,1,1,0.5,0.5,0.5,1,0.5,0.5,0.5,0,0,"05/24/17","M","M","M","M"]
["05/24/171 v 16","Week 5","4:16 PM","Team 01","Team 16",20,"1A","John Normandin",8,7,10,5,5,4,8,4,8,16,"1B","Pete Normandin",8,6,9,5,6,4,8,4,5,5,"Sub30","Dave DiGiovasnni",8,6,6,4,4,4,4,3,5,17,"16B","Mike Romano",9,4,10,7,4,5,8,3,7,"O'Loughlin/Romano d. Normandin/Normandin, 5.0 - 4.0","FRONT",1,0,0,1,0.5,0.5,0,0,1,0,1,1,0,0.5,0.5,1,1,0,"05/24/17","M","M","M","M"]
["05/24/1713 v 19","Week 5","4:24 PM","Team 13","Team 19",0,"Course"," Course","","","","","","","","","",0,"Course"," Course","","","","","","","","","",14,"19A","John Pavone",7,5,6,6,5,4,7,4,5,"","DNP"," Partner Did Not Play","","","","","","","","","","Pavone/Beliveau d. Hurley/Drake, 5.0 - 0.0","FRONT","","","","","","","","","",0.5,1,1,0.5,1,0,0,0,1,"05/24/17","M","M","M","M"]
["05/24/1714 v 18","Week 5","4:32 PM","Team 14","Team 18",4,"14A","Paul Fontaine",7,5,8,4,5,4,4,4,5,7,"14B","Ralph Romano III",7,5,6,6,4,5,5,4,7,13,"18A","Norm Gamache",6,6,8,5,5,4,7,4,8,22,"18B","Michelle Bouvier",10,8,10,6,6,6,8,5,7,"Fontaine/Romano III d. Gamache/Bouvier, 5.0 - 4.0","FRONT",0,0.5,1,0.5,0.5,0.5,1,0.5,0.5,1,0.5,0,0.5,0.5,0.5,0,0.5,0.5,"05/24/17","M","M","M","F"]
["05/24/173 v 8","Week 5","4:40 PM","Team 03","Team 08",20,"3A","Pete Romano",8,6,8,7,6,3,8,6,8,9,"3B","Don Frigoletto",8,4,8,4,5,4,8,4,4,4,"8A","Steve Lawrence",5,4,5,6,5,4,6,4,7,21,"8B","Mike Benson",8,8,8,8,6,4,7,6,5,"Lawrence/Benson d. Romano/Frigoletto, 5.0 - 4.0","FRONT",0,1,0,1,0.5,1,0,0.5,0,1,0,1,0,0.5,0,1,0.5,1,"05/24/17","M","M","M","M"]
["05/24/172 v 9","Week 5","4:48 PM","Team 02","Team 09",7,"2A","Jono Normandin",8,5,7,5,5,3,8,3,5,14,"2B","Nathan Wallace",8,4,8,7,4,4,6,4,6,15,"9A","Mike Doane",10,5,6,4,5,4,8,2,8,9,"9B","John Cassin",8,6,6,4,5,4,8,4,5,"Normandin/Wallace d. Doane/Cassin, 5.5 - 3.5","FRONT",1,1,0,0,1,1,1,0,0.5,0,0,1,1,0,0,0,1,0.5,"05/24/17","M","M","M","M"]
["05/24/174 v 7","Week 5","4:56 PM","Team 04","Team 07",16,"4A","Peg Romano",7,8,8,6,6,4,8,6,4,17,"4B","Lynn Laroche",10,8,10,6,6,4,7,5,5,"","DNP"," Partner Did Not Play","","","","","","","","","",15,"7B","Debbie Fairbanks",8,7,8,5,6,4,7,3,8,"Romano/Laroche & Fairbanks/Fairbanks, tie 4.5 - 4.5","FRONT",1,0,0.5,0,0.5,0.5,1,0,1,0,1,0.5,1,0.5,0.5,0,1,0,"05/24/17","F","F","M","F"]
["05/24/1715 v 17","Week 5","5:04 PM","Team 15","Team 17",7,"15A","Gary Leavenworth",9,6,6,4,4,3,7,4,5,17,"Sub29","Scott Leavenworth",7,5,9,7,6,5,7,5,8,15,"17A","Carol Ekstrom",9,6,8,5,6,6,7,6,5,7,"17B","Mike Dauphinais",10,2,7,6,5,2,7,4,5,"Leavenworth/Leavenworth & Ekstrom/Dauphinais, tie 4.5 - 4.5","FRONT",1,0,1,0.5,1,0,0.5,0.5,0,0,1,0,0.5,0,1,0.5,0.5,1,"05/24/17","M","M","F","M"]
["05/24/1711 v 10","Week 5","5:12 PM","Team 11","Team 10",11,"11A","Jim Haskins",9,5,6,4,6,3,6,3,2,12,"11B","Anthony Conte",7,6,6,6,6,5,8,5,4,4,"10A","Ron Ekstrom",6,7,6,4,3,3,6,2,3,11,"10B","Beth Romano",7,6,7,4,7,4,8,4,7,"Haskins/Conte d. Ekstrom/Romano, 5.5 - 3.5","FRONT",0.5,1,1,0.5,0,0.5,1,0,1,0.5,0,0,0.5,1,0.5,0,1,0,"05/24/17","M","M","M","F"]
["05/31/174 v 9","Week 6","4:00 PM","Team 04","Team 09",17,"4A","Peg Romano",6,6,4,6,6,6,4,5,5,18,"4B","Lynn Laroche",6,7,5,7,4,7,5,5,4,14,"9A","Mike Doane",8,6,7,7,4,4,5,4,7,10,"9B","John Cassin",4,5,4,5,4,6,5,2,6,"Romano/Laroche & Doane/Cassin, tie 4.5 - 4.5","BACK",0,0.5,1,0.5,0.5,0,1,0,1,1,0.5,0,0.5,0.5,1,0,1,0,"05/31/17","F","F","M","M"]
["05/31/1714 v 16","Week 6","4:08 PM","Team 14","Team 16",5,"14A","Paul Fontaine",4,4,6,5,4,5,3,4,6,8,"14B","Ralph Romano III",4,4,4,5,4,3,3,4,7,19,"16A","Kevin O'Loughlin",8,6,7,8,6,7,6,6,7,17,"16B","Mike Romano",8,5,7,5,3,6,5,5,7,"Fontaine/Romano III & O'Loughlin/Romano, tie 4.5 - 4.5","BACK",1,0,1,0,0,1,1,0.5,0,0,1,0,1,1,0,0,0.5,1,"05/31/17","M","M","M","M"]
["05/31/175 v 8","Week 6","4:16 PM","Team 05","Team 08",12,"5A","Dennis Normandin",7,6,6,5,5,4,5,4,5,"","DNP"," Partner Did Not Play","","","","","","","","","",5,"8A","Steve Lawrence",6,6,5,5,3,4,4,4,6,20,"8B","Mike Benson",8,5,8,8,5,6,4,4,7,"Lawrence/Benson d. Normandin/Normandin, 5.0 - 4.0","BACK",0.5,0,0.5,1,0,1,0,0,1,0.5,1,0.5,0,1,0,1,1,0,"05/31/17","M","M","M","M"]
["05/31/1713 v 17","Week 6","4:24 PM","Team 13","Team 17",8,"13A","Tim Hurley",7,5,7,7,4,7,5,4,5,17,"13B","Walter Drake",4,6,5,7,4,7,4,4,8,15,"17A","Carol Ekstrom",8,8,8,6,5,5,5,5,5,8,"17B","Mike Dauphinais",5,7,3,6,6,4,4,5,5,"Hurley/Drake d. Ekstrom/Dauphinais, 5.0 - 4.0","BACK",1,1,0,0.5,1,0,0.5,1,0,0,0,1,0.5,0,1,0.5,0,1,"05/31/17","M","M","F","M"]
["05/31/1712 v 18","Week 6","4:32 PM","Team 12","Team 18",14,"12A","Sal Ciufetti",6,6,5,7,5,5,5,5,5,7,"12B","Kevin Nivala",7,5,5,6,3,4,4,4,4,12,"18A","Norm Gamache",5,5,7,10,4,8,6,4,6,5,"Sub19","Doug Cormier",8,5,5,5,4,6,4,5,6,"Ciufetti/Nivala d. Gamache/Bouvier, 5.0 - 4.0","BACK",0,0,1,0.5,1,1,0.5,0,1,1,1,0,0.5,0,0,0.5,1,0,"05/31/17","M","M","M","M"]
["05/31/173 v 10","Week 6","4:40 PM","Team 03","Team 10",20,"3A","Pete Romano",6,6,5,6,4,8,6,8,8,9,"3B","Don Frigoletto",5,3,4,8,4,6,5,3,6,4,"10A","Ron Ekstrom",4,4,4,4,4,4,4,3,5,12,"10B","Beth Romano",7,8,8,5,5,8,6,6,7,"Romano/Frigoletto & Ekstrom/Romano, tie 4.5 - 4.5","BACK",0.5,1,1,0.5,0.5,0,0,0.5,0.5,0.5,0,0,0.5,0.5,1,1,0.5,0.5,"05/31/17","M","M","M","F"]
["05/31/176 v 7","Week 6","4:48 PM","Team 06","Team 07",8,"6A","Vance Butterfield",6,5,6,5,4,3,3,6,6,8,"6B","Bob Schleyer",7,6,4,6,5,3,3,5,4,10,"7A","John Fairbanks",6,5,8,6,6,4,3,5,5,15,"7B","Debbie Fairbanks",5,8,5,10,5,7,6,6,5,"Butterfield/Schleyer d. Fairbanks/Fairbanks, 5.0 - 4.0","BACK",0,0.5,0.5,0.5,1,1,0.5,0.5,0.5,1,0.5,0.5,0.5,0,0,0.5,0.5,0.5,"05/31/17","M","M","M","F"]
["05/31/1711 v 19","Week 6","4:56 PM","Team 11","Team 19",9,"11A","Jim Haskins",9,4,6,7,4,4,4,4,7,13,"11B","Anthony Conte",7,6,7,10,6,4,6,4,5,13,"19A","John Pavone",8,4,8,8,6,6,3,4,7,20,"19B","Ernie Beliveau",9,7,8,10,6,6,5,6,7,"Haskins/Conte d. Pavone/Beliveau, 6.0 - 3.0","BACK",1,0.5,0.5,0.5,1,1,0,0.5,1,0,0.5,0.5,0.5,0,0,1,0.5,0,"05/31/17","M","M","M","M"]
["05/31/172 v 20","Week 6","5:04 PM","Team 02","Team 20",8,"2A","Jono Normandin",5,5,4,6,5,3,4,4,5,14,"2B","Nathan Wallace",7,8,4,8,4,6,3,8,7,13,"20A","Sheila Sundstrom",7,7,5,6,4,6,5,4,5,12,"20B","Ray Hoy",7,6,7,7,5,4,5,5,6,"Normandin/Wallace d. Sundstrom/Hoy, 6.0 - 3.0","BACK",1,1,1,0,0.5,1,1,0.5,0,0,0,0,1,0.5,0,0,0.5,1,"05/31/17","M","M","F","M"]
["05/31/171 v 15","Week 6","5:12 PM","Team 01","Team 15",20,"1A","John Normandin",9,7,6,8,6,6,4,8,6,16,"1B","Pete Normandin",6,6,6,6,4,7,5,6,6,8,"15A","Gary Leavenworth",10,4,6,6,5,4,4,6,4,11,"15B","Patty Leavenworth",7,6,5,6,6,6,5,5,4,"Normandin/Normandin d. Leavenworth/Leavenworth, 5.0 - 4.0","BACK",1,0,1,0.5,1,0,0.5,0.5,0.5,0,1,0,0.5,0,1,0.5,0.5,0.5,"05/31/17","M","M","M","F"]
["06/07/1717 v 19","Week 7","4:00 PM","Team 17","Team 19",15,"17A","Carol Ekstrom",7,7,6,5,7,5,8,3,8,9,"17B","Mike Dauphinais",6,5,5,5,5,4,7,3,5,0,"Course"," Course","","","","","","","","","",0,"Course"," Course","","","","","","","","","","Ekstrom/Dauphinais d. Pavone/Beliveau, 4.5 - 0.0","FRONT",0.5,0.5,1,1,0.5,0,0,0.5,0.5,"","","","","","","","","","06/07/17","F","M","M","M"]
["06/07/1714 v 9","Week 7","4:08 PM","Team 14","Team 09",6,"14A","Paul Fontaine",5,4,7,6,5,3,5,3,4,7,"14B","Ralph Romano III",7,5,7,3,5,3,8,3,4,14,"9A","Mike Doane",10,6,6,5,4,5,8,3,6,9,"9B","John Cassin",6,6,5,5,4,4,5,3,6,"Fontaine/Romano III d. Doane/Cassin, 5.0 - 4.0","FRONT",0.5,1,0,1,0,1,0,0.5,1,0.5,0,1,0,1,0,1,0.5,0,"06/07/17","M","M","M","M"]
["06/07/1716 v 20","Week 7","4:16 PM","Team 16","Team 20",13,"Sub27","Ann Goodwin",10,4,8,5,6,4,8,5,6,15,"16B","Mike Romano",7,5,9,8,6,4,7,4,8,"","DNP"," Partner Did Not Play","","","","","","","","","",12,"20B","Ray Hoy",8,6,6,4,5,5,6,5,6,"O'Loughlin/Romano d. Sundstrom/Hoy, 5.0 - 4.0","FRONT",1,1,0,0,0,1,0.5,1,0.5,0,0,1,1,1,0,0.5,0,0.5,"06/07/17","F","M","M","M"]
["06/07/1713 v 8","Week 7","4:24 PM","Team 13","Team 08",9,"13A","Tim Hurley",6,4,7,5,4,5,6,3,5,16,"13B","Walter Drake",10,8,9,7,6,3,8,4,6,6,"8A","Steve Lawrence",6,6,6,4,4,5,4,2,5,19,"8B","Mike Benson",10,5,8,6,5,6,8,4,5,"Lawrence/Benson d. Hurley/Drake, 6.5 - 2.5","FRONT",1,0,0.5,0,0,1,0,0,0,0,1,0.5,1,1,0,1,1,1,"06/07/17","M","M","M","M"]
["06/07/1711 v 6","Week 7","4:32 PM","Team 11","Team 06",9,"11A","Jim Haskins",9,4,9,8,6,4,7,4,4,13,"11B","Anthony Conte",8,5,6,6,5,6,8,6,5,8,"6A","Vance Butterfield",7,5,5,5,4,3,5,4,6,8,"6B","Bob Schleyer",7,6,6,5,5,4,7,4,7,"Butterfield/Schleyer d. Haskins/Conte, 5.0 - 4.0","FRONT",0.5,1,0.5,0.5,0,0,0,0.5,1,0.5,0,0.5,0.5,1,1,1,0.5,0,"06/07/17","M","M","M","M"]
["06/07/172 v 5","Week 7","4:40 PM","Team 02","Team 05",8,"2A","Jono Normandin",7,6,6,6,4,4,6,3,4,16,"2B","Nathan Wallace",10,6,6,5,6,3,7,3,4,11,"5A","Dennis Normandin",6,6,7,5,6,3,8,4,5,"","DNP"," Partner Did Not Play","","","","","","","","","","Normandin/Wallace d. Normandin/Normandin, 7.5 - 1.5","FRONT",0,1,1,1,1,0.5,1,1,1,1,0,0,0,0,0.5,0,0,0,"06/07/17","M","M","M","M"]
["06/07/171 v 18","Week 7","4:48 PM","Team 01","Team 18",21,"1A","John Normandin",8,8,10,8,5,4,8,4,8,16,"1B","Pete Normandin",8,8,8,7,8,5,8,6,6,13,"18A","Norm Gamache",6,5,10,6,6,3,6,4,4,22,"18B","Michelle Bouvier",10,8,10,8,7,6,8,6,6,"Gamache/Bouvier d. Normandin/Normandin, 6.0 - 3.0","FRONT",0,0,1,0,1,0,0.5,0.5,0,1,1,0,1,0,1,0.5,0.5,1,"06/07/17","M","M","M","F"]
["06/07/173 v 4","Week 7","4:56 PM","Team 03","Team 04",20,"3A","Pete Romano",7,6,10,6,7,5,8,5,6,8,"3B","Don Frigoletto",5,4,7,4,4,3,7,4,5,16,"4A","Peg Romano",10,7,9,5,6,6,8,5,7,16,"4B","Lynn Laroche",8,7,10,8,7,4,4,6,8,"Romano/Frigoletto d. Romano/Laroche, 7.5 - 1.5","FRONT",1,1,1,0.5,1,1,0,1,1,0,0,0,0.5,0,0,1,0,0,"06/07/17","M","M","F","F"]
["06/07/1715 v 10","Week 7","5:04 PM","Team 15","Team 10",9,"15A","Gary Leavenworth",7,5,6,5,4,3,8,6,5,12,"15B","Patty Leavenworth",8,7,8,7,7,4,7,6,4,4,"10A","Ron Ekstrom",6,5,6,5,5,4,6,3,6,14,"10B","Beth Romano",7,7,8,4,6,4,7,6,6,"Leavenworth/Leavenworth d. Ekstrom/Romano, 5.5 - 3.5","FRONT",0,1,1,0,1,1,0.5,0,1,1,0,0,1,0,0,0.5,1,0,"06/07/17","M","F","M","F"]
["06/07/1712 v 7","Week 7","5:12 PM","Team 12","Team 07","","DNP"," Partner Did Not Play","","","","","","","","","",7,"12B","Kevin Nivala",7,5,4,4,6,4,7,2,7,10,"7A","John Fairbanks",9,4,6,8,5,3,6,3,6,"","DNP"," Partner Did Not Play","","","","","","","","","","Fairbanks/Fairbanks d. Ciufetti/Nivala, 5.0 - 4.0","FRONT",1,0,1,1,0,0,0,1,0,0,1,0,0,1,1,1,0,1,"06/07/17","M","M","M","M"]
["06/14/178 v 9","Week 8","4:00 PM","Team 08","Team 09",6,"8A","Steve Lawrence",6,5,6,6,4,4,5,4,6,17,"8B","Mike Benson",8,5,6,8,4,5,6,4,8,13,"9A","Mike Doane",5,5,8,7,4,5,2,5,6,8,"9B","John Cassin",6,4,7,9,3,5,3,6,7,"Doane/Cassin d. Lawrence/Benson, 5.5 - 3.5","BACK",0,0.5,1,0.5,0,0.5,0,1,0,1,0.5,0,0.5,1,0.5,1,0,1,"06/14/17","M","M","M","M"]
["06/14/175 v 19","Week 8","4:08 PM","Team 05","Team 19",11,"5A","Dennis Normandin",7,7,8,6,4,5,4,4,6,"","DNP"," Partner Did Not Play","","","","","","","","","",12,"19A","John Pavone",10,5,7,8,5,5,4,5,7,20,"19B","Ernie Beliveau",9,5,7,9,5,6,4,3,7,"Pavone/Beliveau d. Normandin/Normandin, 5.0 - 4.0","BACK",1,0,0,1,1,0.5,0.5,0,0,0,1,1,0,0,0.5,0.5,1,1,"06/14/17","M","M","M","M"]
["06/14/174 v 18","Week 8","4:16 PM","Team 04","Team 18",17,"4A","Peg Romano",6,7,4,7,4,5,2,5,5,17,"4B","Lynn Laroche",7,5,6,6,5,5,4,6,6,13,"18A","Norm Gamache",7,6,5,6,3,6,4,6,8,14,"Sub27","Ann Goodwin",8,6,5,8,5,6,6,6,7,"Romano/Laroche d. Gamache/Bouvier, 8.0 - 1.0","BACK",1,1,1,1,0,1,1,1,1,0,0,0,0,1,0,0,0,0,"06/14/17","F","F","M","F"]
["06/14/171 v 13","Week 8","4:24 PM","Team 01","Team 13",20,"1A","John Normandin",8,8,7,4,6,6,6,7,8,17,"1B","Pete Normandin",8,6,6,7,6,8,5,8,7,8,"13A","Tim Hurley",6,5,6,4,4,6,2,4,6,17,"13B","Walter Drake",7,6,8,9,6,7,6,5,7,"Normandin/Normandin & Hurley/Drake, tie 4.5 - 4.5","BACK",0.5,0.5,1,1,0,1,0,0,0.5,0.5,0.5,0,0,1,0,1,1,0.5,"06/14/17","M","M","M","M"]
["06/14/176 v 20","Week 8","4:32 PM","Team 06","Team 20",8,"6A","Vance Butterfield",4,6,6,5,4,4,3,5,4,9,"6B","Bob Schleyer",6,4,5,6,5,6,2,4,6,13,"20A","Sheila Sundstrom",7,6,4,6,4,5,4,5,5,11,"20B","Ray Hoy",6,6,3,7,5,8,5,4,6,"Butterfield/Schleyer d. Sundstrom/Hoy, 6.0 - 3.0","BACK",1,1,0,0.5,0.5,1,1,0.5,0.5,0,0,1,0.5,0.5,0,0,0.5,0.5,"06/14/17","M","M","F","M"]
["06/14/1712 v 14","Week 8","4:40 PM","Team 12","Team 14",13,"12A","Sal Ciufetti",6,5,7,8,4,6,4,6,7,7,"12B","Kevin Nivala",5,5,5,6,3,6,4,5,6,6,"14A","Paul Fontaine",4,4,5,6,5,3,4,4,5,7,"14B","Ralph Romano III",6,6,5,7,4,5,3,3,5,"Fontaine/Romano III d. Ciufetti/Nivala, 6.5 - 2.5","BACK",0,0.5,0.5,0.5,1,0,0,0,0,1,0.5,0.5,0.5,0,1,1,1,1,"06/14/17","M","M","M","M"]
["06/14/172 v 16","Week 8","4:48 PM","Team 02","Team 16",8,"2A","Jono Normandin",5,6,6,5,3,4,3,3,5,14,"2B","Nathan Wallace",6,4,6,7,4,8,4,6,7,20,"16A","Kevin O'Loughlin",7,8,7,8,4,7,3,7,7,16,"16B","Mike Romano",7,6,5,8,4,5,3,5,7,"Normandin/Wallace d. O'Loughlin/Romano, 6.0 - 3.0","BACK",0.5,1,0,1,1,0.5,0.5,1,0.5,0.5,0,1,0,0,0.5,0.5,0,0.5,"06/14/17","M","M","M","M"]
["06/14/173 v 17","Week 8","4:56 PM","Team 03","Team 17",20,"3A","Pete Romano",7,8,7,8,5,8,5,5,6,8,"3B","Don Frigoletto",5,6,4,9,4,5,5,4,5,0,"Course"," Course","","","","","","","","","",0,"Course"," Course","","","","","","","","","","Romano/Frigoletto d. Ekstrom/Dauphinais, 4.5 - 0.0","BACK",1,0,1,0,0,0.5,0,1,1,"","","","","","","","","","06/14/17","M","M","M","M"]
["06/14/177 v 10","Week 8","5:04 PM","Team 07","Team 10",10,"7A","John Fairbanks",6,4,6,7,3,6,5,7,5,16,"7B","Debbie Fairbanks",8,6,4,6,5,7,6,5,5,8,"Sub26","Dave Flood",8,7,5,9,6,5,4,5,5,14,"10B","Beth Romano",5,7,5,5,5,5,6,4,5,"Ekstrom/Romano d. Fairbanks/Fairbanks, 5.0 - 4.0","BACK",0,1,1,0,1,0,0,0.5,0.5,1,0,0,1,0,1,1,0.5,0.5,"06/14/17","M","F","M","F"]
["06/14/1711 v 15","Week 8","5:12 PM","Team 11","Team 15",11,"11A","Jim Haskins",6,5,5,5,4,5,6,5,4,13,"11B","Anthony Conte",7,8,6,8,4,8,6,8,8,9,"15A","Gary Leavenworth",6,4,4,6,3,4,5,4,6,13,"15B","Patty Leavenworth",8,7,7,7,5,6,3,5,5,"Leavenworth/Leavenworth d. Haskins/Conte, 6.5 - 2.5","BACK",0.5,0,0,1,0,0,0,0,1,0.5,1,1,0,1,1,1,1,0,"06/14/17","M","M","M","F"]
["06/21/1718 v 9","Week 9","4:00 PM","Team 18","Team 09",12,"18A","Norm Gamache",5,5,6,6,4,4,5,4,4,7,"Sub18","Dave Cormier",4,5,5,6,4,3,7,4,5,0,"Course"," Course","","","","","","","","","",0,"Course"," Course","","","","","","","","","","Gamache/Bouvier d. Doane/Cassin, 7.0 - 0.0","FRONT",1,1,1,0.5,1,0.5,1,0,1,"","","","","","","","","","06/21/17","M","M","M","M"]
["06/21/1716 v 7","Week 9","4:08 PM","Team 16","Team 07",20,"16A","Kevin O'Loughlin",8,8,9,8,5,6,8,5,7,15,"16B","Mike Romano",7,4,9,8,6,6,6,5,4,11,"7A","John Fairbanks",6,7,6,6,4,5,8,5,4,15,"7B","Debbie Fairbanks",8,7,9,6,4,5,8,4,6,"Fairbanks/Fairbanks d. O'Loughlin/Romano, 5.5 - 3.5","FRONT",0.5,1,0,0,0.5,0,1,0,0.5,0.5,0,1,1,0.5,1,0,1,0.5,"06/21/17","M","M","M","F"]
["06/21/1713 v 4","Week 9","4:16 PM","Team 13","Team 04",7,"13A","Tim Hurley",9,6,7,5,3,2,8,3,5,17,"13B","Walter Drake",7,7,7,5,6,5,8,5,8,14,"4A","Peg Romano",8,7,10,6,5,4,5,5,6,16,"4B","Lynn Laroche",8,6,9,8,5,4,7,4,6,"Hurley/Drake d. Romano/Laroche, 6.5 - 2.5","FRONT",1,0,1,1,1,1,0,1,0.5,0,1,0,0,0,0,1,0,0.5,"06/21/17","M","M","F","F"]
["06/21/171 v 20","Week 9","4:24 PM","Team 01","Team 20",20,"1A","John Normandin",8,8,10,8,3,6,8,4,8,18,"1B","Pete Normandin",8,8,6,8,7,6,8,3,8,12,"20A","Sheila Sundstrom",7,6,8,7,4,5,8,4,6,11,"20B","Ray Hoy",9,7,6,7,5,4,5,3,5,"Sundstrom/Hoy d. Normandin/Normandin, 5.5 - 3.5","FRONT",0.5,0,1,0.5,1,0,0,0.5,0,0.5,1,0,0.5,0,1,1,0.5,1,"06/21/17","M","M","F","M"]
["06/21/1714 v 5","Week 9","4:32 PM","Team 14","Team 05",5,"14A","Paul Fontaine",7,4,6,5,5,3,5,3,5,7,"14B","Ralph Romano III",6,7,5,6,5,4,5,4,3,12,"5A","Dennis Normandin",7,6,6,5,4,3,7,5,4,4,"5B","Mark Normandin",7,5,6,5,4,3,6,3,4,"Fontaine/Romano III d. Normandin/Normandin, 5.5 - 3.5","FRONT",1,1,1,0,0,0.5,1,0.5,0.5,0,0,0,1,1,0.5,0,0.5,0.5,"06/21/17","M","M","M","M"]
["06/21/1711 v 2","Week 9","4:40 PM","Team 11","Team 02",10,"11A","Jim Haskins",8,6,5,8,5,6,7,6,7,15,"11B","Anthony Conte",9,6,8,8,4,5,8,5,4,6,"2A","Jono Normandin",6,3,5,4,4,3,7,4,5,14,"2B","Nathan Wallace",8,5,8,6,5,4,8,5,4,"Normandin/Wallace d. Haskins/Conte, 6.0 - 3.0","FRONT",0,0,1,0,1,0,0.5,0,0.5,1,1,0,1,0,1,0.5,1,0.5,"06/21/17","M","M","M","M"]
["06/21/1719 v 10","Week 9","4:48 PM","Team 19","Team 10",13,"19A","John Pavone",7,7,9,5,8,5,8,3,5,19,"19B","Ernie Beliveau",9,6,10,6,5,5,8,4,6,4,"10A","Ron Ekstrom",6,3,6,6,4,3,5,3,4,13,"10B","Beth Romano",7,8,8,6,5,3,6,3,7,"Ekstrom/Romano d. Pavone/Beliveau, 5.5 - 3.5","FRONT",0.5,0,0,1,1,0,0,0.5,0.5,0.5,1,1,0,0,1,1,0.5,0.5,"06/21/17","M","M","M","F"]
["06/21/1715 v 6","Week 9","4:56 PM","Team 15","Team 06",8,"15A","Gary Leavenworth",7,4,6,5,5,4,5,3,4,13,"15B","Patty Leavenworth",7,7,8,6,5,4,8,6,6,7,"6A","Vance Butterfield",7,6,6,5,6,4,6,4,3,4,"Sub5","Tom Farias",7,6,7,5,5,3,6,5,3,"Leavenworth/Leavenworth d. Butterfield/Schleyer, 5.5 - 3.5","FRONT",0.5,1,0.5,0.5,1,0,1,1,0,0.5,0,0.5,0.5,0,1,0,0,1,"06/21/17","M","F","M","M"]
["06/21/1717 v 8","Week 9","5:04 PM","Team 17","Team 08",16,"17A","Carol Ekstrom",9,5,8,7,7,4,7,6,6,8,"17B","Mike Dauphinais",9,5,7,5,4,4,6,4,5,6,"8A","Steve Lawrence",10,6,5,4,5,4,4,3,4,17,"8B","Mike Benson",10,8,10,6,8,4,8,4,5,"Lawrence/Benson d. Ekstrom/Dauphinais, 5.5 - 3.5","FRONT",1,1,0,0,1,0.5,0,0,0,0,0,1,1,0,0.5,1,1,1,"06/21/17","F","M","M","M"]
["06/21/1712 v 3","Week 9","5:12 PM","Team 12","Team 03",12,"12A","Sal Ciufetti",4,5,8,8,5,4,7,3,4,7,"12B","Kevin Nivala",6,4,7,5,6,5,5,5,5,19,"3A","Pete Romano",9,7,8,5,6,5,8,5,6,8,"3B","Don Frigoletto",8,5,6,5,3,3,8,5,6,"Ciufetti/Nivala d. Romano/Frigoletto, 5.0 - 4.0","FRONT",1,1,0,0,0,0,1,1,1,0,0,1,1,1,1,0,0,0,"06/21/17","M","M","M","M"]
["06/28/176 v 16","Week 10","4:00 PM","Team 06","Team 16",7,"6A","Vance Butterfield",5,5,4,5,3,4,3,5,5,9,"6B","Bob Schleyer",6,4,7,6,4,4,4,4,6,21,"16A","Kevin O'Loughlin",7,6,7,10,6,8,6,8,8,15,"16B","Mike Romano",8,6,7,7,3,4,4,5,6,"Butterfield/Schleyer d. O'Loughlin/Romano, 5.0 - 4.0","BACK",0.5,0.5,1,1,0.5,0,1,0.5,0,0.5,0.5,0,0,0.5,1,0,0.5,1,"06/28/17","M","M","M","M"]
["06/28/173 v 13","Week 10","4:08 PM","Team 03","Team 13",18,"3A","Pete Romano",6,6,6,7,5,5,5,6,6,9,"Sub1","P.J. Romano",7,6,8,8,6,5,5,4,5,8,"13A","Tim Hurley",5,6,8,7,3,6,5,6,6,17,"13B","Walter Drake",8,8,6,5,6,8,5,5,6,"Romano/Frigoletto d. Hurley/Drake, 5.0 - 4.0","BACK",1,1,0.5,0,0,1,0.5,0.5,0.5,0,0,0.5,1,1,0,0.5,0.5,0.5,"06/28/17","M","M","M","M"]
["06/28/1710 v 20","Week 10","4:16 PM","Team 10","Team 20",4,"10A","Ron Ekstrom",5,6,4,5,4,3,4,5,5,14,"10B","Beth Romano",6,6,8,9,4,4,6,4,5,12,"20A","Sheila Sundstrom",8,6,7,5,5,4,6,4,5,11,"20B","Ray Hoy",8,3,6,7,4,5,4,3,5,"Sundstrom/Hoy d. Ekstrom/Romano, 5.0 - 4.0","BACK",1,0,1,0,0.5,0.5,0.5,0,0.5,0,1,0,1,0.5,0.5,0.5,1,0.5,"06/28/17","M","F","F","M"]
["06/28/174 v 14","Week 10","4:24 PM","Team 04","Team 14",14,"4A","Peg Romano",6,6,8,7,4,6,5,5,6,16,"4B","Lynn Laroche",5,7,7,6,6,6,5,4,5,5,"14A","Paul Fontaine",4,5,4,5,5,4,4,5,6,7,"14B","Ralph Romano III",7,4,7,6,3,5,3,5,8,"Romano/Laroche & Fontaine/Romano III, tie 4.5 - 4.5","BACK",1,0.5,0,1,0,0,0,1,1,0,0.5,1,0,1,1,1,0,0,"06/28/17","F","F","M","M"]
["06/28/179 v 19","Week 10","4:32 PM","Team 09","Team 19",12,"9A","Mike Doane",7,7,7,8,6,6,6,4,6,9,"9B","John Cassin",4,6,5,7,3,6,4,3,6,14,"19A","John Pavone",8,7,7,9,4,6,3,5,8,19,"19B","Ernie Beliveau",8,8,6,9,4,6,6,7,8,"Doane/Cassin d. Pavone/Beliveau, 5.5 - 3.5","BACK",1,0.5,0.5,0.5,1,0,0,1,1,0,0.5,0.5,0.5,0,1,1,0,0,"06/28/17","M","M","M","M"]
["06/28/175 v 15","Week 10","4:40 PM","Team 05","Team 15",11,"5A","Dennis Normandin",6,6,7,7,3,5,4,6,5,4,"5B","Mark Normandin",6,6,4,6,4,5,3,6,6,8,"15A","Gary Leavenworth",7,4,5,5,4,5,4,5,6,14,"15B","Patty Leavenworth",8,6,5,5,4,6,6,2,3,"Normandin/Normandin & Leavenworth/Leavenworth, tie 4.5 - 4.5","BACK",1,0,0.5,0,1,1,1,0,0,0,1,0.5,1,0,0,0,1,1,"06/28/17","M","M","M","F"]
["06/28/178 v 18","Week 10","4:48 PM","Team 08","Team 18",7,"8A","Steve Lawrence",5,5,6,6,3,4,4,2,4,17,"8B","Mike Benson",7,7,6,6,5,7,4,8,8,12,"18A","Norm Gamache",4,6,6,6,4,4,4,6,5,24,"18B","Michelle Bouvier",7,7,8,8,5,8,5,8,7,"Lawrence/Benson d. Gamache/Bouvier, 5.5 - 3.5","BACK",0,0.5,0.5,1,1,0.5,0.5,1,0.5,1,0.5,0.5,0,0,0.5,0.5,0,0.5,"06/28/17","M","M","M","F"]
["06/28/172 v 12","Week 10","4:56 PM","Team 02","Team 12",6,"2A","Jono Normandin",6,4,5,6,4,6,3,6,4,13,"2B","Nathan Wallace",7,8,4,6,4,6,4,7,5,12,"12A","Sal Ciufetti",9,6,7,7,6,4,6,5,5,7,"12B","Kevin Nivala",5,5,4,6,5,5,3,6,6,"Normandin/Wallace d. Ciufetti/Nivala, 5.0 - 4.0","BACK",0,1,1,1,1,0,0.5,0,0.5,1,0,0,0,0,1,0.5,1,0.5,"06/28/17","M","M","M","M"]
["06/28/177 v 17","Week 10","5:04 PM","Team 07","Team 17",10,"7A","John Fairbanks",6,5,6,5,3,3,4,5,5,15,"7B","Debbie Fairbanks",8,5,5,8,4,7,5,5,5,16,"17A","Carol Ekstrom",6,8,7,5,5,5,5,5,6,9,"17B","Mike Dauphinais",5,5,5,5,3,4,3,7,5,"Fairbanks/Fairbanks & Ekstrom/Dauphinais, tie 4.5 - 4.5","BACK",0,1,1,0,0.5,1,0,0,1,1,0,0,1,0.5,0,1,1,0,"06/28/17","M","F","F","M"]
["06/28/171 v 11","Week 10","5:12 PM","Team 01","Team 11",20,"1A","John Normandin",9,8,7,6,6,6,6,3,6,18,"1B","Pete Normandin",5,5,7,6,6,5,5,6,8,11,"11A","Jim Haskins",6,4,5,7,6,5,6,3,5,16,"11B","Anthony Conte",6,4,5,7,4,4,4,6,5,"Haskins/Conte d. Normandin/Normandin, 5.0 - 4.0","BACK",1,0,0,1,0,0.5,0,1,0.5,0,1,1,0,1,0.5,1,0,0.5,"06/28/17","M","M","M","M"]
["07/05/1714 v 3","Week 1","4:00 PM","Team 14","Team 03",4,"14A","Paul Fontaine",4,5,5,5,4,4,5,2,4,6,"14B","Ralph Romano III",6,6,6,4,4,3,5,4,6,17,"3A","Pete Romano",7,7,8,8,5,5,7,6,6,8,"3B","Don Frigoletto",10,5,10,6,5,5,8,4,6,"Fontaine/Romano III d. Romano/Frigoletto, 7.0 - 2.0","FRONT",1,0,1,1,0,1,1,1,1,0,1,0,0,1,0,0,0,0,"07/05/17","M","M","M","M"]
["07/05/171 v 10","Week 1","4:08 PM","Team 01","Team 10",20,"1A","John Normandin",9,8,9,7,7,5,8,4,7,18,"1B","Pete Normandin",10,8,7,7,4,5,8,4,5,4,"10A","Ron Ekstrom",6,4,5,4,4,3,5,3,4,14,"10B","Beth Romano",7,6,7,4,5,3,6,4,5,"Ekstrom/Romano d. Normandin/Normandin, 6.5 - 2.5","FRONT",0,0,0.5,0,1,0,0,0,1,1,1,0.5,1,0,1,1,1,0,"07/05/17","M","M","M","F"]
["07/05/1712 v 11","Week 1","4:16 PM","Team 12","Team 11",13,"12A","Sal Ciufetti",6,7,8,7,5,4,8,6,4,7,"12B","Kevin Nivala",8,7,6,5,4,5,5,6,6,12,"11A","Jim Haskins",6,4,7,6,5,3,8,4,6,15,"11B","Anthony Conte",6,7,10,6,6,5,7,5,7,"Haskins/Conte d. Ciufetti/Nivala, 5.0 - 4.0","FRONT",0.5,0,0.5,0.5,1,0,0.5,0,1,0.5,1,0.5,0.5,0,1,0.5,1,0,"07/05/17","M","M","M","M"]
["07/05/1719 v 8","Week 1","4:24 PM","Team 19","Team 08",15,"19A","John Pavone",8,6,6,6,5,5,8,5,6,19,"19B","Ernie Beliveau",8,7,7,6,6,4,7,6,7,6,"8A","Steve Lawrence",5,8,6,6,6,4,5,4,3,17,"8B","Mike Benson",7,7,9,8,4,5,8,6,6,"Lawrence/Benson d. Pavone/Beliveau, 5.5 - 3.5","FRONT",0,0.5,1,1,0,0.5,0.5,0,0,1,0.5,0,0,1,0.5,0.5,1,1,"07/05/17","M","M","M","M"]
["07/05/1718 v 7","Week 1","4:32 PM","Team 18","Team 07",0,"Course"," Course","","","","","","","","","",0,"Course"," Course","","","","","","","","","",10,"7A","John Fairbanks",7,5,6,5,5,5,8,3,6,15,"7B","Debbie Fairbanks",9,7,6,6,4,6,7,5,6,"Fairbanks/Fairbanks d. Gamache/Bouvier, 5.0 - 0.0","FRONT","","","","","","","","","",0.5,0.5,1,0.5,1,0,0.5,0.5,0.5,"07/05/17","M","M","M","F"]
["07/05/1715 v 4","Week 1","4:40 PM","Team 15","Team 04",8,"15A","Gary Leavenworth",8,6,6,4,4,4,6,4,6,13,"15B","Patty Leavenworth",7,6,6,4,4,4,8,6,5,14,"4A","Peg Romano",10,6,8,5,5,4,7,6,5,14,"4B","Lynn Laroche",10,5,7,6,6,5,8,3,5,"Leavenworth/Leavenworth d. Romano/Laroche, 5.0 - 4.0","FRONT",1,0,1,1,0.5,0.5,0.5,0,0.5,0,1,0,0,0.5,0.5,0.5,1,0.5,"07/05/17","M","F","F","F"]
["07/05/1713 v 2","Week 1","4:48 PM","Team 13","Team 02",9,"13A","Tim Hurley",7,4,7,4,3,4,8,4,5,17,"13B","Walter Drake",8,8,7,6,6,6,7,5,4,5,"2A","Jono Normandin",6,5,5,5,5,5,4,4,5,13,"2B","Nathan Wallace",5,7,8,6,4,5,7,3,3,"Normandin/Wallace d. Hurley/Drake, 5.0 - 4.0","FRONT",0,1,0.5,1,0.5,1,0,0,0,1,0,0.5,0,0.5,0,1,1,1,"07/05/17","M","M","M","M"]
["07/05/1717 v 6","Week 1","4:56 PM","Team 17","Team 06",16,"17A","Carol Ekstrom",8,5,8,6,6,5,8,3,8,8,"17B","Mike Dauphinais",7,5,6,3,4,3,6,3,5,6,"6A","Vance Butterfield",7,4,7,5,5,4,6,3,6,9,"6B","Bob Schleyer",7,5,7,5,4,5,5,3,4,"Ekstrom/Dauphinais d. Butterfield/Schleyer, 5.0 - 4.0","FRONT",0.5,0.5,1,1,0.5,1,0,0.5,0,0.5,0.5,0,0,0.5,0,1,0.5,1,"07/05/17","F","M","M","M"]
["07/05/1720 v 9","Week 1","5:04 PM","Team 20","Team 09",12,"20A","Sheila Sundstrom",7,5,6,8,6,3,8,3,6,"","DNP"," Partner Did Not Play","","","","","","","","","",13,"9A","Mike Doane",8,6,10,5,5,4,7,6,8,"","DNP"," Partner Did Not Play","","","","","","","","","","Sundstrom/Hoy d. Doane/Cassin, 6.0 - 3.0","FRONT",1,1,1,0,0,1,0,1,1,0,0,0,1,1,0,1,0,0,"07/05/17","F","M","M","M"]
["07/05/1716 v 5","Week 1","5:12 PM","Team 16","Team 05",21,"16A","Kevin O'Loughlin",7,8,7,7,6,5,8,5,5,13,"16B","Mike Romano",8,7,10,4,6,4,8,5,5,10,"5A","Dennis Normandin",8,5,6,6,6,5,8,4,5,5,"5B","Mark Normandin",7,5,7,6,4,4,5,5,4,"O'Loughlin/Romano & Normandin/Normandin, tie 4.5 - 4.5","FRONT",1,0,0.5,1,0.5,0.5,0,0,1,0,1,0.5,0,0.5,0.5,1,1,0,"07/05/17","M","M","M","M"]
["07/12/175 v 13","Week 2","4:00 PM","Team 05","Team 13",11,"5A","Dennis Normandin",6,5,5,7,3,4,4,4,6,6,"5B","Mark Normandin",5,5,5,6,4,5,3,4,4,9,"13A","Tim Hurley",4,5,5,5,4,5,5,4,6,18,"13B","Walter Drake",7,7,8,6,5,8,6,5,5,"Normandin/Normandin d. Hurley/Drake, 5.5 - 3.5","BACK",0,1,1,0,1,1,1,0.5,0,1,0,0,1,0,0,0,0.5,1,"07/12/17","M","M","M","M"]
["07/12/177 v 15","Week 2","4:08 PM","Team 07","Team 15",10,"7A","John Fairbanks",6,4,5,6,3,4,3,4,6,15,"7B","Debbie Fairbanks",6,7,7,5,5,5,4,5,7,8,"15A","Gary Leavenworth",6,6,6,4,5,5,4,5,5,13,"15B","Patty Leavenworth",5,5,4,7,5,7,6,4,6,"Fairbanks/Fairbanks d. Leavenworth/Leavenworth, 5.0 - 4.0","BACK",0,0.5,0,0.5,1,1,1,0.5,0.5,1,0.5,1,0.5,0,0,0,0.5,0.5,"07/12/17","M","F","M","F"]
["07/12/173 v 11","Week 2","4:16 PM","Team 03","Team 11",17,"3A","Pete Romano",7,8,6,10,6,5,6,6,7,9,"Sub25","Dave Flood",7,7,4,3,5,4,3,4,6,0,"Sub30","Alessandro Conte",8,7,6,5,3,5,3,4,6,16,"11B","Anthony Conte",8,7,3,7,4,6,4,4,6,"Haskins/Conte d. Romano/Frigoletto, 5.0 - 4.0","BACK",1,0,0,1,0,1,0.5,0,0.5,0,1,1,0,1,0,0.5,1,0.5,"07/12/17","M","M","M","M"]
["07/12/1710 v 18","Week 2","4:24 PM","Team 10","Team 18",3,"10A","Ron Ekstrom",5,5,4,4,4,5,3,5,4,12,"10B","Beth Romano",7,7,7,5,4,4,3,7,6,10,"18A","Norm Gamache",6,6,7,5,5,6,5,4,5,24,"18B","Michelle Bouvier",5,8,8,7,6,6,6,6,7,"Ekstrom/Romano d. Gamache/Bouvier, 5.5 - 3.5","BACK",0,0.5,1,0.5,1,1,1,0,0.5,1,0.5,0,0.5,0,0,0,1,0.5,"07/12/17","M","F","M","F"]
["07/12/178 v 16","Week 2","4:32 PM","Team 08","Team 16",6,"8A","Steve Lawrence",5,5,7,6,4,7,5,3,5,18,"8B","Mike Benson",10,8,7,9,6,5,4,8,8,20,"16A","Kevin O'Loughlin",9,8,5,7,4,7,5,5,8,14,"16B","Mike Romano",6,4,4,5,6,8,5,3,5,"O'Loughlin/Romano d. Lawrence/Benson, 6.0 - 3.0","BACK",0.5,0,0,0,0.5,1,1,0,0,0.5,1,1,1,0.5,0,0,1,1,"07/12/17","M","M","M","M"]
["07/12/171 v 2","Week 2","4:40 PM","Team 01","Team 02",20,"1A","John Normandin",8,5,7,5,6,8,5,5,5,19,"1B","Pete Normandin",10,4,7,6,5,6,4,5,8,6,"2A","Jono Normandin",5,6,5,5,4,3,4,5,3,12,"2B","Nathan Wallace",6,7,4,9,5,4,5,4,5,"Normandin/Wallace d. Normandin/Normandin, 5.0 - 4.0","BACK",0,1,0,1,0,0,0.5,1,0.5,1,0,1,0,1,1,0.5,0,0.5,"07/12/17","M","M","M","M"]
["07/12/176 v 14","Week 2","4:48 PM","Team 06","Team 14",6,"6A","Vance Butterfield",6,4,3,6,4,4,4,6,5,8,"6B","Bob Schleyer",7,5,5,6,5,5,4,5,5,4,"14A","Paul Fontaine",4,5,4,4,3,4,3,3,4,7,"14B","Ralph Romano III",5,5,4,7,3,3,4,5,4,"Fontaine/Romano III d. Butterfield/Schleyer, 7.0 - 2.0","BACK",0,1,1,0,0,0,0,0,0,1,0,0,1,1,1,1,1,1,"07/12/17","M","M","M","M"]
["07/12/1720 v 19","Week 2","4:56 PM","Team 20","Team 19",12,"20A","Sheila Sundstrom",7,6,5,5,5,7,5,5,7,11,"20B","Ray Hoy",5,4,3,7,4,4,3,4,6,16,"19A","John Pavone",6,8,8,7,5,6,4,6,7,19,"19B","Ernie Beliveau",9,6,7,6,5,7,6,7,7,"Sundstrom/Hoy d. Pavone/Beliveau, 7.0 - 2.0","BACK",0.5,1,1,0.5,1,1,1,1,0,0.5,0,0,0.5,0,0,0,0,1,"07/12/17","F","M","M","M"]
["07/12/179 v 17","Week 2","5:04 PM","Team 09","Team 17",14,"9A","Mike Doane",8,5,5,5,4,5,6,4,7,8,"9B","John Cassin",5,6,5,5,4,4,4,4,6,16,"17A","Carol Ekstrom",6,6,7,7,5,5,5,6,4,7,"17B","Mike Dauphinais",6,6,6,5,5,6,4,3,4,"Doane/Cassin d. Ekstrom/Dauphinais, 5.0 - 4.0","BACK",0,0.5,1,1,1,0.5,0.5,0.5,0,1,0.5,0,0,0,0.5,0.5,0.5,1,"07/12/17","M","M","F","M"]
["07/12/174 v 12","Week 2","5:12 PM","Team 04","Team 12",15,"4A","Peg Romano",6,8,5,6,6,5,4,8,5,15,"Sub26","Ann Goodwin",5,7,7,5,6,7,5,7,6,13,"12A","Sal Ciufetti",6,6,5,5,5,4,5,6,5,9,"12B","Kevin Nivala",6,7,4,6,4,5,5,7,5,"Romano/Laroche & Ciufetti/Nivala, tie 4.5 - 4.5","BACK",1,0.5,0.5,0.5,0,0.5,1,0,0.5,0,0.5,0.5,0.5,1,0.5,0,1,0.5,"07/12/17","F","F","M","M"]
["07/19/179 v 7","Week 3","4:00 PM","Team 09","Team 07",14,"9A","Mike Doane",9,5,6,6,5,4,8,4,7,7,"9B","John Cassin",5,7,8,4,6,4,7,3,5,8,"7A","John Fairbanks",9,5,5,6,4,3,6,4,7,14,"7B","Debbie Fairbanks",6,5,9,5,6,3,8,3,5,"Fairbanks/Fairbanks d. Doane/Cassin, 6.0 - 3.0","FRONT",0.5,0.5,0.5,0.5,0.5,0,0,0.5,0,0.5,0.5,0.5,0.5,0.5,1,1,0.5,1,"07/19/17","M","M","M","F"]
["07/19/171 v 8","Week 3","4:08 PM","Team 01","Team 08",19,"1A","John Normandin",7,7,7,4,7,5,8,3,8,17,"1B","Pete Normandin",8,7,8,6,6,6,8,6,5,7,"8A","Steve Lawrence",5,6,6,4,4,3,5,4,5,19,"8B","Mike Benson",6,7,7,8,5,5,7,4,5,"Lawrence/Benson d. Normandin/Normandin, 5.5 - 3.5","FRONT",0,0.5,0.5,1,0,0,0,1,0.5,1,0.5,0.5,0,1,1,1,0,0.5,"07/19/17","M","M","M","M"]
["07/19/1710 v 6","Week 3","4:16 PM","Team 10","Team 06",9,"Sub25","Dave Flood",6,7,5,6,4,3,5,3,6,11,"10B","Beth Romano",10,7,7,7,5,3,8,4,6,6,"6A","Vance Butterfield",6,5,7,3,4,4,5,3,3,8,"6B","Bob Schleyer",6,5,6,5,5,4,6,5,5,"Ekstrom/Romano d. Butterfield/Schleyer, 5.0 - 4.0","FRONT",1,0,1,0,0.5,1,1,0.5,0,0,1,0,1,0.5,0,0,0.5,1,"07/19/17","M","F","M","M"]
["07/19/1715 v 12","Week 3","4:24 PM","Team 15","Team 12",7,"15A","Gary Leavenworth",6,5,7,4,4,4,4,5,5,12,"15B","Patty Leavenworth",8,4,7,5,4,4,6,5,5,12,"Sub24","Kyle Butterfield",8,7,7,5,5,6,6,4,6,9,"12B","Kevin Nivala",7,6,6,6,4,4,6,4,3,"Leavenworth/Leavenworth & Ciufetti/Nivala, tie 4.5 - 4.5","FRONT",1,1,0,0.5,0.5,0.5,1,0,0,0,0,1,0.5,0.5,0.5,0,1,1,"07/19/17","M","F","M","M"]
["07/19/1718 v 3","Week 3","4:32 PM","Team 18","Team 03",9,"18A","Norm Gamache",7,8,6,6,6,4,5,5,6,23,"18B","Michelle Bouvier",10,8,10,8,8,6,8,6,8,18,"3A","Pete Romano",7,8,10,7,6,4,7,5,5,10,"3B","Don Frigoletto",7,5,8,6,6,4,7,5,8,"Romano/Frigoletto d. Gamache/Bouvier, 6.0 - 3.0","FRONT",0,0,1,0.5,0,0.5,0.5,0.5,0,1,1,0,0.5,1,0.5,0.5,0.5,1,"07/19/17","M","F","M","M"]
["07/19/1716 v 11","Week 3","4:40 PM","Team 16","Team 11",5,"Sub29","Dave DiGiovanni",7,5,7,3,4,5,5,4,6,12,"16B","Mike Romano",6,6,7,5,6,4,6,4,8,12,"11A","Jim Haskins",6,5,7,5,5,4,5,4,4,15,"11B","Anthony Conte",8,7,6,3,6,5,8,3,5,"Haskins/Conte d. O'Loughlin/Romano, 7.5 - 1.5","FRONT",0.5,0,0,0,0.5,0.5,0,0,0,0.5,1,1,1,0.5,0.5,1,1,1,"07/19/17","M","M","M","M"]
["07/19/1720 v 5","Week 3","4:48 PM","Team 20","Team 05","","DNP"," Partner Did Not Play","","","","","","","","","",9,"20B","Ray Hoy",7,6,6,4,6,4,7,3,7,10,"5A","Dennis Normandin",7,4,7,5,4,4,7,5,4,6,"5B","Mark Normandin",6,5,5,4,4,4,7,5,4,"Normandin/Normandin d. Sundstrom/Hoy, 5.5 - 3.5","FRONT",0.5,0,0.5,0.5,0,0.5,0.5,1,0,0.5,1,0.5,0.5,1,0.5,0.5,0,1,"07/19/17","M","M","M","M"]
["07/19/1714 v 13","Week 3","4:56 PM","Team 14","Team 13",3,"14A","Paul Fontaine",6,4,5,5,5,3,5,4,4,7,"14B","Ralph Romano III",5,6,7,5,5,3,7,4,4,8,"13A","Tim Hurley",9,4,5,5,4,4,8,4,4,18,"13B","Walter Drake",8,6,7,6,6,3,6,4,8,"Hurley/Drake d. Fontaine/Romano III, 6.5 - 2.5","FRONT",1,0,0,0,0,0.5,0,0.5,0.5,0,1,1,1,1,0.5,1,0.5,0.5,"07/19/17","M","M","M","M"]
["07/19/1717 v 2","Week 3","5:04 PM","Team 17","Team 02",15,"17A","Carol Ekstrom",6,8,8,5,5,4,6,5,7,7,"17B","Mike Dauphinais",7,7,5,4,5,4,6,4,5,5,"2A","Jono Normandin",5,5,5,5,5,3,7,4,5,12,"2B","Nathan Wallace",8,4,6,5,5,4,7,5,5,"Ekstrom/Dauphinais & Normandin/Wallace, tie 4.5 - 4.5","FRONT",1,0,1,0.5,0.5,0,1,0.5,0,0,1,0,0.5,0.5,1,0,0.5,1,"07/19/17","F","M","M","M"]
["07/19/1719 v 4","Week 3","5:12 PM","Team 19","Team 04",16,"19A","John Pavone",7,6,7,6,6,4,5,4,3,18,"19B","Ernie Beliveau",7,6,7,5,6,5,8,4,6,13,"4A","Peg Romano",6,8,8,5,6,3,8,5,6,15,"4B","Lynn Laroche",6,8,8,7,6,5,8,5,7,"Pavone/Beliveau d. Romano/Laroche, 7.0 - 2.0","FRONT",0.5,1,1,1,0.5,0,1,1,1,0.5,0,0,0,0.5,1,0,0,0,"07/19/17","M","M","F","F"]
["07/26/177 v 11","Week 4","4:00 PM","Team 07","Team 11",8,"7A","John Fairbanks",5,5,5,5,5,6,3,4,7,14,"7B","Debbie Fairbanks",9,7,5,7,5,5,6,7,5,10,"11A","Jim Haskins",7,6,4,5,3,4,4,6,6,13,"11B","Anthony Conte",7,4,8,9,5,5,4,5,6,"Fairbanks/Fairbanks d. Haskins/Conte, 5.0 - 4.0","BACK",1,0,0.5,0,0,0.5,1,1,1,0,1,0.5,1,1,0.5,0,0,0,"07/26/17","M","F","M","M"]
["07/26/1718 v 17","Week 4","4:08 PM","Team 18","Team 17",10,"18A","Norm Gamache",5,5,3,5,2,5,4,6,6,"","DNP"," Partner Did Not Play","","","","","","","","","",15,"17A","Carol Ekstrom",6,7,6,5,4,5,4,7,5,7,"17B","Mike Dauphinais",5,5,4,5,4,5,5,6,7,"Gamache/Bouvier d. Ekstrom/Dauphinais, 5.0 - 4.0","BACK",1,0.5,1,0.5,1,0,0.5,0.5,0,0,0.5,0,0.5,0,1,0.5,0.5,1,"07/26/17","M","M","F","M"]
["07/26/1720 v 15","Week 4","4:16 PM","Team 20","Team 15",12,"20A","Sheila Sundstrom",7,6,7,6,4,6,5,6,6,9,"20B","Ray Hoy",5,5,4,7,3,6,3,5,8,7,"15A","Gary Leavenworth",6,4,4,5,4,6,3,4,5,11,"15B","Patty Leavenworth",4,8,4,6,5,5,4,2,4,"Leavenworth/Leavenworth d. Sundstrom/Hoy, 7.0 - 2.0","BACK",0,0,0,0.5,1,0,0.5,0,0,1,1,1,0.5,0,1,0.5,1,1,"07/26/17","F","M","M","F"]
["07/26/175 v 3","Week 4","4:24 PM","Team 05","Team 03",10,"5A","Dennis Normandin",6,7,5,6,4,4,5,6,6,"","DNP"," Partner Did Not Play","","","","","","","","","",18,"3A","Pete Romano",6,8,7,7,4,5,5,5,6,6,"Sub17","Dave Cormier",6,5,3,7,4,3,4,5,5,"Romano/Frigoletto d. Normandin/Normandin, 8.0 - 1.0","BACK",0,0,0,0.5,0.5,0,0,0,0,1,1,1,0.5,0.5,1,1,1,1,"07/26/17","M","M","M","M"]
["07/26/1710 v 14","Week 4","4:32 PM","Team 10","Team 14",4,"10A","Ron Ekstrom",6,3,3,4,4,5,3,3,4,13,"10B","Beth Romano",4,4,4,5,3,5,6,5,6,3,"14A","Paul Fontaine",5,5,5,6,3,5,4,5,3,7,"14B","Ralph Romano III",8,5,5,5,4,4,3,4,8,"Ekstrom/Romano d. Fontaine/Romano III, 7.0 - 2.0","BACK",1,1,1,1,0.5,0.5,0.5,1,0.5,0,0,0,0,0.5,0.5,0.5,0,0.5,"07/26/17","M","F","M","M"]
["07/26/178 v 12","Week 4","4:40 PM","Team 08","Team 12",6,"8A","Steve Lawrence",5,5,3,5,4,5,4,4,5,19,"8B","Mike Benson",8,7,6,8,6,6,4,7,5,0,"Course"," Course","","","","","","","","","",0,"Course"," Course","","","","","","","","","","Lawrence/Benson d. Ciufetti/Nivala, 5.5 - 0.0","BACK",1,0.5,1,1,0,0.5,0,0.5,1,"","","","","","","","","","07/26/17","M","M","M","M"]
["07/26/171 v 4","Week 4","4:48 PM","Team 01","Team 04",18,"1A","John Normandin",8,4,7,7,5,8,6,4,8,17,"1B","Pete Normandin",5,5,7,5,4,6,6,5,6,15,"4A","Peg Romano",7,4,5,5,5,6,6,6,5,15,"4B","Lynn Laroche",8,8,7,6,5,8,5,6,7,"Normandin/Normandin d. Romano/Laroche, 5.5 - 3.5","BACK",1,0.5,0,1,1,0.5,0,1,0.5,0,0.5,1,0,0,0.5,1,0,0.5,"07/26/17","M","M","F","F"]
["07/26/1719 v 16","Week 4","4:56 PM","Team 19","Team 16",15,"19A","John Pavone",8,6,7,7,4,5,4,7,5,18,"19B","Ernie Beliveau",6,8,6,9,6,8,3,4,6,20,"16A","Kevin O'Loughlin",8,7,8,6,6,7,6,7,7,13,"16B","Mike Romano",6,6,7,7,4,6,3,6,7,"Pavone/Beliveau d. O'Loughlin/Romano, 6.5 - 2.5","BACK",1,0.5,1,0,0.5,1,0.5,1,1,0,0.5,0,1,0.5,0,0.5,0,0,"07/26/17","M","M","M","M"]
["07/26/179 v 13","Week 4","5:04 PM","Team 09","Team 13",14,"9A","Mike Doane",8,6,8,6,4,8,6,5,5,8,"9B","John Cassin",5,5,4,6,4,5,4,6,6,"","DNP"," Partner Did Not Play","","","","","","","","","",16,"13B","Walter Drake",7,5,5,5,4,8,4,7,6,"Doane/Cassin d. Hurley/Drake, 5.0 - 4.0","BACK",1,0,0.5,0,0.5,1,0.5,1,0.5,0,1,0.5,1,0.5,0,0.5,0,0.5,"07/26/17","M","M","M","M"]
["07/26/176 v 2","Week 4","5:12 PM","Team 06","Team 02",6,"6A","Vance Butterfield",5,3,4,7,5,6,5,5,4,8,"6B","Bob Schleyer",6,5,4,6,4,5,4,5,5,5,"2A","Jono Normandin",5,5,5,5,3,3,4,6,5,11,"2B","Nathan Wallace",6,5,6,6,4,4,3,5,5,"Butterfield/Schleyer & Normandin/Wallace, tie 4.5 - 4.5","BACK",0.5,1,1,0.5,0,0,0,0.5,1,0.5,0,0,0.5,1,1,1,0.5,0,"07/26/17","M","M","M","M"]
["08/09/1717 v 14","Week 6","4:00 PM","Team 17","Team 14",13,"17A","Carol Ekstrom",7,8,4,6,5,5,2,7,7,7,"17B","Mike Dauphinais",6,6,5,7,4,3,6,4,5,3,"14A","Paul Fontaine",5,4,5,6,3,6,4,3,6,7,"14B","Ralph Romano III",6,5,5,7,4,4,3,4,4,"Ekstrom/Dauphinais & Fontaine/Romano III, tie 4.5 - 4.5","BACK",0.5,0,1,1,0,1,1,0,0,0.5,1,0,0,1,0,0,1,1,"08/09/17","F","M","M","M"]
["08/09/1720 v 11","Week 6","4:08 PM","Team 20","Team 11",13,"20A","Sheila Sundstrom",5,7,6,8,5,5,6,8,7,8,"20B","Ray Hoy",7,5,4,6,5,4,3,5,6,10,"11A","Jim Haskins",7,5,8,7,4,7,4,7,5,12,"11B","Anthony Conte",9,4,4,8,4,7,5,6,8,"Sundstrom/Hoy & Haskins/Conte, tie 4.5 - 4.5","BACK",1,0,0,0.5,0,1,1,1,0,0,1,1,0.5,1,0,0,0,1,"08/09/17","F","M","M","M"]
["08/09/1718 v 13","Week 6","4:16 PM","Team 18","Team 13",8,"18A","Norm Gamache",6,6,4,9,6,6,6,6,6,24,"18B","Michelle Bouvier",8,8,7,7,5,6,5,8,7,9,"13A","Tim Hurley",6,5,6,7,4,6,3,4,6,15,"13B","Walter Drake",9,8,8,6,4,7,6,4,5,"Hurley/Drake d. Gamache/Bouvier, 6.0 - 3.0","BACK",0.5,0,1,0.5,0,1,0,0,0,0.5,1,0,0.5,1,0,1,1,1,"08/09/17","M","F","M","M"]
["08/09/178 v 4","Week 6","4:24 PM","Team 08","Team 04",6,"8A","Steve Lawrence",7,5,6,5,3,6,4,5,5,18,"8B","Mike Benson",7,8,4,7,6,8,5,8,8,14,"4A","Peg Romano",7,4,7,5,3,6,6,5,6,16,"4B","Lynn Laroche",6,7,7,6,4,8,4,6,6,"Romano/Laroche d. Lawrence/Benson, 6.5 - 2.5","BACK",0,0,1,0,0.5,0,0.5,0,0.5,1,1,0,1,0.5,1,0.5,1,0.5,"08/09/17","M","M","F","F"]
["08/09/1710 v 2","Week 6","4:32 PM","Team 10","Team 02",2,"10A","Ron Ekstrom",4,4,4,7,4,6,3,4,4,11,"10B","Beth Romano",6,6,5,5,4,5,4,7,5,5,"2A","Jono Normandin",6,4,4,5,5,6,4,5,5,10,"2B","Nathan Wallace",7,5,6,7,5,5,4,6,7,"Ekstrom/Romano d. Normandin/Wallace, 6.5 - 2.5","BACK",1,0.5,0.5,0.5,1,0.5,1,1,0.5,0,0.5,0.5,0.5,0,0.5,0,0,0.5,"08/09/17","M","F","M","M"]
["08/09/1716 v 15","Week 6","4:40 PM","Team 16","Team 15",20,"16A","Kevin O'Loughlin",6,4,7,7,5,8,6,7,7,12,"16B","Mike Romano",6,6,8,8,2,5,4,7,5,7,"15A","Gary Leavenworth",7,5,6,6,3,3,3,6,5,9,"15B","Patty Leavenworth",6,7,6,7,3,6,5,4,4,"O'Loughlin/Romano d. Leavenworth/Leavenworth, 5.5 - 3.5","BACK",1,1,1,1,1,0,0,0,0.5,0,0,0,0,0,1,1,1,0.5,"08/09/17","M","M","M","F"]
["08/09/171 v 6","Week 6","4:48 PM","Team 01","Team 06",17,"1A","John Normandin",9,8,5,8,4,8,3,8,8,15,"1B","Pete Normandin",7,7,6,8,5,5,5,7,7,5,"6A","Vance Butterfield",6,5,4,8,5,4,3,3,4,8,"6B","Bob Schleyer",7,6,5,6,4,5,4,5,5,"Butterfield/Schleyer d. Normandin/Normandin, 5.5 - 3.5","BACK",1,0,1,0,0.5,0.5,0.5,0,0,0,1,0,1,0.5,0.5,0.5,1,1,"08/09/17","M","M","M","M"]
["08/09/179 v 3","Week 6","4:56 PM","Team 09","Team 03",15,"9A","Mike Doane",6,6,4,8,5,4,6,6,8,8,"9B","John Cassin",5,4,5,7,5,5,3,5,5,17,"3A","Pete Romano",7,6,8,9,6,8,5,5,6,12,"3B","Don Frigoletto",4,6,5,6,6,5,6,5,5,"Doane/Cassin d. Romano/Frigoletto, 5.0 - 4.0","BACK",0,1,1,0,1,1,1,0,0,1,0,0,1,0,0,0,1,1,"08/09/17","M","M","M","M"]
["08/09/1719 v 12","Week 6","5:04 PM","Team 19","Team 12",2,"Sub30","Alessandro Conte",6,5,7,7,4,6,4,4,5,18,"19B","Ernie Beliveau",8,7,7,8,3,6,6,8,8,0,"Course"," Course","","","","","","","","","",0,"Course"," Course","","","","","","","","","","Pavone/Beliveau d. Ciufetti/Nivala, 2.0 - 0.0","BACK",0,0,0,0,0.5,0.5,0,0.5,0.5,"","","","","","","","","","08/09/17","M","M","M","M"]
["08/09/177 v 5","Week 6","5:12 PM","Team 07","Team 05",8,"7A","John Fairbanks",6,5,6,6,4,5,6,5,5,14,"7B","Debbie Fairbanks",8,8,7,8,3,6,6,5,6,10,"5A","Dennis Normandin",6,6,6,8,4,4,5,6,6,7,"5B","Mark Normandin",6,7,4,6,3,4,3,4,5,"Normandin/Normandin d. Fairbanks/Fairbanks, 5.5 - 3.5","BACK",0,1,0,0.5,0.5,0,0,0.5,1,1,0,1,0.5,0.5,1,1,0.5,0,"08/09/17","M","F","M","M"]
["08/16/1717 v 16","Week 7","4:00 PM","Team 17","Team 16",13,"17A","Carol Ekstrom",7,8,8,4,7,4,8,6,7,7,"17B","Mike Dauphinais",6,6,6,6,5,5,7,4,5,19,"16A","Kevin O'Loughlin",6,7,6,8,8,6,7,4,7,12,"16B","Mike Romano",10,5,9,6,4,4,7,4,8,"O'Loughlin/Romano d. Ekstrom/Dauphinais, 6.0 - 3.0","FRONT",0,0,0,1,0,0.5,0,0.5,1,1,1,1,0,1,0.5,1,0.5,0,"08/16/17","F","M","M","M"]
["08/16/1710 v 12","Week 7","4:08 PM","Team 10","Team 12",2,"10A","Ron Ekstrom",4,4,3,4,4,4,3,3,5,10,"10B","Beth Romano",8,7,8,6,4,3,6,4,7,0,"Course"," Course","","","","","","","","","",0,"Course"," Course","","","","","","","","","","Ekstrom/Romano d. Ciufetti/Nivala, 6.0 - 0.0","FRONT",1,0.5,1,0.5,1,0.5,1,0.5,0,"","","","","","","","","","08/16/17","M","F","M","M"]
["08/16/171 v 5","Week 7","4:16 PM","Team 01","Team 05",18,"1A","John Normandin",10,5,10,8,7,6,8,6,5,16,"1B","Pete Normandin",7,6,9,8,7,5,7,4,5,"","DNP"," Partner Did Not Play","","","","","","","","","",6,"5B","Mark Normandin",7,6,5,4,5,3,5,3,4,"Normandin/Normandin d. Normandin/Normandin, 6.0 - 3.0","FRONT",1,1,0,0,0,0,0.5,0,0.5,0,0,1,1,1,1,0.5,1,0.5,"08/16/17","M","M","M","M"]
["08/16/1719 v 14","Week 7","4:24 PM","Team 19","Team 14",14,"19A","John Pavone",10,7,7,6,5,5,7,5,6,17,"19B","Ernie Beliveau",10,6,9,8,4,5,8,5,7,3,"14A","Paul Fontaine",6,5,5,5,3,2,5,5,4,6,"14B","Ralph Romano III",9,5,6,4,5,4,5,4,5,"Fontaine/Romano III d. Pavone/Beliveau, 6.5 - 2.5","FRONT",0,1,0.5,0,1,0,0,0,0,1,0,0.5,1,0,1,1,1,1,"08/16/17","M","M","M","M"]
["08/16/179 v 11","Week 7","4:32 PM","Team 09","Team 11",15,"9A","Mike Doane",10,8,8,4,5,3,5,5,6,7,"9B","John Cassin",8,5,7,6,6,4,5,3,5,10,"11A","Jim Haskins",6,4,6,6,4,4,5,5,7,14,"11B","Anthony Conte",7,5,9,7,3,4,5,6,5,"Haskins/Conte d. Doane/Cassin, 5.0 - 4.0","FRONT",0,0,0,1,0,1,1,1,0,1,1,1,0,1,0,0,0,1,"08/16/17","M","M","M","M"]
["08/16/1720 v 13","Week 7","4:40 PM","Team 20","Team 13",13,"20A","Sheila Sundstrom",8,5,8,5,5,5,7,4,4,7,"20B","Ray Hoy",7,6,8,6,5,5,7,5,3,9,"13A","Tim Hurley",6,5,5,7,5,4,5,3,8,15,"13B","Walter Drake",6,6,7,5,6,5,7,4,8,"Hurley/Drake d. Sundstrom/Hoy, 5.5 - 3.5","FRONT",0,1,0,0.5,1,0,0,0,1,1,0,1,0.5,0,1,1,1,0,"08/16/17","F","M","M","M"]
["08/16/1718 v 15","Week 7","4:48 PM","Team 18","Team 15",10,"18A","Norm Gamache",8,5,7,7,4,3,6,6,6,23,"18B","Michelle Bouvier",10,6,9,8,7,6,8,5,8,7,"15A","Gary Leavenworth",9,4,6,5,4,4,5,5,4,9,"15B","Patty Leavenworth",8,5,10,4,6,4,5,6,4,"Leavenworth/Leavenworth d. Gamache/Bouvier, 5.0 - 4.0","FRONT",1,0.5,0.5,0,0.5,1,0,0.5,0,0,0.5,0.5,1,0.5,0,1,0.5,1,"08/16/17","M","F","M","F"]
["08/16/176 v 4","Week 7","4:56 PM","Team 06","Team 04",6,"6A","Vance Butterfield",6,6,6,6,4,3,5,4,4,8,"6B","Bob Schleyer",5,5,7,5,5,4,7,5,5,13,"4A","Peg Romano",9,5,7,5,7,4,8,5,7,16,"4B","Lynn Laroche",8,8,8,7,6,5,8,5,7,"Butterfield/Schleyer d. Romano/Laroche, 6.5 - 2.5","FRONT",1,0,0.5,0,1,1,1,1,1,0,1,0.5,1,0,0,0,0,0,"08/16/17","M","M","F","F"]
["08/16/177 v 3","Week 7","5:04 PM","Team 07","Team 03",8,"7A","John Fairbanks",7,5,8,5,4,3,5,4,5,14,"7B","Debbie Fairbanks",8,6,6,7,6,3,6,5,8,18,"3A","Pete Romano",7,7,8,6,6,5,7,3,6,13,"3B","Don Frigoletto",6,7,9,8,5,4,6,4,5,"Fairbanks/Fairbanks d. Romano/Frigoletto, 5.5 - 3.5","FRONT",0,1,1,0.5,1,1,0.5,0,0.5,1,0,0,0.5,0,0,0.5,1,0.5,"08/16/17","M","F","M","M"]
["08/16/178 v 2","Week 7","5:12 PM","Team 08","Team 02",7,"8A","Steve Lawrence",5,5,5,5,4,3,6,3,4,19,"8B","Mike Benson",6,6,9,7,6,5,7,5,5,5,"2A","Jono Normandin",6,6,6,6,5,4,6,4,6,10,"2B","Nathan Wallace",6,7,6,6,5,5,7,6,6,"Lawrence/Benson d. Normandin/Wallace, 8.5 - 0.5","FRONT",1,1,1,0.5,1,1,1,1,1,0,0,0,0.5,0,0,0,0,0,"08/16/17","M","M","M","M"]
["08/23/1719 v 18","Week 8","4:00 PM","Team 19","Team 18",15,"19A","John Pavone",8,6,8,8,5,7,5,4,7,18,"19B","Ernie Beliveau",9,6,5,8,5,8,6,6,7,11,"18A","Norm Gamache",6,6,8,8,4,4,5,4,5,7,"Sub18","Doug Cormier",6,4,6,6,4,5,5,5,6,"Gamache/Bouvier d. Pavone/Beliveau, 6.0 - 3.0","BACK",0,0,1,0.5,0,0,0.5,1,0,1,1,0,0.5,1,1,0.5,0,1,"08/23/17","M","M","M","M"]
["08/23/175 v 11","Week 8","4:08 PM","Team 05","Team 11",10,"5A","Dennis Normandin",7,7,5,6,4,4,6,5,6,6,"5B","Mark Normandin",6,6,4,6,4,5,4,5,6,10,"11A","Jim Haskins",9,4,5,5,3,5,6,4,5,13,"11B","Anthony Conte",8,6,6,7,4,5,5,4,6,"Haskins/Conte d. Normandin/Normandin, 6.0 - 3.0","BACK",1,0,0.5,0,0,0.5,1,0,0,0,1,0.5,1,1,0.5,0,1,1,"08/23/17","M","M","M","M"]
["08/23/178 v 14","Week 8","4:16 PM","Team 08","Team 14",6,"8A","Steve Lawrence",6,5,4,7,4,5,3,5,5,18,"8B","Mike Benson",7,8,8,8,5,8,4,6,7,3,"14A","Paul Fontaine",5,4,4,5,3,3,4,4,3,7,"14B","Ralph Romano III",6,3,4,9,4,6,3,7,4,"Fontaine/Romano III d. Lawrence/Benson, 7.5 - 1.5","BACK",0.5,0,0,0,0,0,0.5,0.5,0,0.5,1,1,1,1,1,0.5,0.5,1,"08/23/17","M","M","M","M"]
["08/23/179 v 15","Week 8","4:24 PM","Team 09","Team 15",14,"9A","Mike Doane",10,6,8,9,4,5,5,7,8,8,"9B","John Cassin",6,5,6,8,4,6,5,5,8,7,"15A","Gary Leavenworth",6,4,4,3,4,5,2,5,6,9,"15B","Patty Leavenworth",4,5,4,6,4,6,3,4,6,"Leavenworth/Leavenworth d. Doane/Cassin, 7.5 - 1.5","BACK",0,0,0,0,0.5,1,0,0,0,1,1,1,1,0.5,0,1,1,1,"08/23/17","M","M","M","F"]
["08/23/1710 v 16","Week 8","4:32 PM","Team 10","Team 16",1,"10A","Ron Ekstrom",6,7,5,4,4,4,3,4,4,11,"10B","Beth Romano",5,5,6,5,4,7,5,4,5,"","DNP"," Partner Did Not Play","","","","","","","","","",12,"16B","Mike Romano",7,7,8,8,4,6,4,5,3,"Ekstrom/Romano d. O'Loughlin/Romano, 7.5 - 1.5","BACK",1,1,1,1,0.5,1,1,1,0,0,0,0,0,0.5,0,0,0,1,"08/23/17","M","F","M","M"]
["08/23/174 v 2","Week 8","4:40 PM","Team 04","Team 02",13,"4A","Peg Romano",8,7,5,4,4,7,6,7,5,4,"Sub30","Alessandro Conte",5,6,5,7,5,6,5,6,5,6,"2A","Jono Normandin",5,5,5,6,4,6,4,4,4,11,"2B","Nathan Wallace",4,7,6,8,5,5,4,6,4,"Normandin/Wallace d. Romano/Laroche, 6.0 - 3.0","BACK",0,0.5,1,1,0.5,0,0,0,0,1,0.5,0,0,0.5,1,1,1,1,"08/23/17","F","M","M","M"]
["08/23/177 v 13","Week 8","4:48 PM","Team 07","Team 13",8,"7A","John Fairbanks",6,5,7,6,3,4,3,5,5,14,"7B","Debbie Fairbanks",6,7,7,6,4,6,5,5,4,8,"13A","Tim Hurley",7,5,4,7,4,7,3,5,6,15,"13B","Walter Drake",8,8,7,8,4,6,6,7,6,"Fairbanks/Fairbanks d. Hurley/Drake, 6.5 - 2.5","BACK",1,0.5,0,1,1,1,0.5,0.5,1,0,0.5,1,0,0,0,0.5,0.5,0,"08/23/17","M","F","M","M"]
["08/23/171 v 3","Week 8","4:56 PM","Team 01","Team 03",18,"1A","John Normandin",7,7,7,4,6,6,6,3,7,16,"1B","Pete Normandin",8,8,8,10,4,6,6,6,8,17,"3A","Pete Romano",7,8,8,8,4,6,6,7,7,5,"Sub17","Dave Cormier",8,5,6,8,2,6,5,4,5,"Normandin/Normandin d. Romano/Frigoletto, 5.5 - 3.5","BACK",0.5,0.5,1,1,0,1,0,1,0.5,0.5,0.5,0,0,1,0,1,0,0.5,"08/23/17","M","M","M","M"]
["08/23/1720 v 17","Week 8","5:04 PM","Team 20","Team 17",14,"20A","Sheila Sundstrom",5,6,6,6,5,5,5,5,5,8,"20B","Ray Hoy",6,7,6,7,5,6,3,6,6,13,"17A","Carol Ekstrom",7,4,5,9,6,8,5,5,6,9,"17B","Mike Dauphinais",7,5,7,6,5,5,5,4,6,"Sundstrom/Hoy d. Ekstrom/Dauphinais, 5.5 - 3.5","BACK",1,0,0,1,0.5,1,1,0,1,0,1,1,0,0.5,0,0,1,0,"08/23/17","F","M","F","M"]
["08/23/176 v 12","Week 8","5:12 PM","Team 06","Team 12",5,"6A","Vance Butterfield",6,6,4,5,4,4,4,7,5,8,"6B","Bob Schleyer",5,5,4,7,4,5,4,6,3,0,"Course"," Course","","","","","","","","","",0,"Course"," Course","","","","","","","","","","Butterfield/Schleyer d. Ciufetti/Nivala, 5.0 - 0.0","BACK",1,0.5,1,1,0,0.5,0,0,1,"","","","","","","","","","08/23/17","M","M","M","M"]

{"sheet":"SUB LIST","index":22,"n_rows":41,"n_cols":10,"rows_kept":41,"cut":false,"hidden":false,"merged":[[9,3,9,9]]}
[]
[]
[]
[]
[]
[]
[]
[]
[]
[null,null,null,"Sub List"]
[null,null,null,"Player No.","RGL No.","Name","Telephone","Current Hcp.","Last Score","Last Played"]
[null,null,null,"Sub1",{"$f":"IF(ISERROR(VLOOKUP(D12,'LEAGUE MEMBERSHIP'!B:K,8,FALSE)),\"\",VLOOKUP(D12,'LEAGUE MEMBERSHIP'!B:K,8,FALSE))","v":"RGL-062"},{"$f":"IF(ISERROR(VLOOKUP($E12,'LEAGUE MEMBERSHIP'!A:K,6,FALSE)),\"\",VLOOKUP($E12,'LEAGUE MEMBERSHIP'!A:K,6,FALSE))","v":"P.J. Romano"},{"$f":"IF(ISERROR(VLOOKUP($E12,'LEAGUE MEMBERSHIP'!A:K,10,FALSE)),\"\",IF(VLOOKUP($E12,'LEAGUE MEMBERSHIP'!A:K,10,FALSE)=\"\",\"\",VLOOKUP($E12,'LEAGUE MEMBERSHIP'!A:K,10,FALSE)))","v":9788271453},{"$f":"IF(ISERROR(VLOOKUP($E12&\"F\",'INDIVIDUAL SCORES DATA'!$A$16:$Q$3400,16,FALSE)),\"\",VLOOKUP($E12&\"F\",'INDIVIDUAL SCORES DATA'!$A$16:$Q$3400,16,FALSE))","v":12},{"$f":"IF(ISERROR(VLOOKUP($E12&\"F\",'INDIVIDUAL SCORES DATA'!$A$16:$Q$5600,15,FALSE)),\"\",VLOOKUP($E12&\"F\",'INDIVIDUAL SCORES DATA'!$A$16:$Q$3400,15,FALSE))","v":54},{"$f":"IF(ISERROR(VLOOKUP($E12&\"F\",'INDIVIDUAL SCORES DATA'!$A$16:$Q$3400,17,FALSE)),\"\",VLOOKUP($E12&\"F\",'INDIVIDUAL SCORES DATA'!$A$16:$Q$5600,17,FALSE))","v":"06/28/17"}]
[null,null,null,"Sub2",{"$f":"IF(ISERROR(VLOOKUP(D13,'LEAGUE MEMBERSHIP'!B:K,8,FALSE)),\"\",VLOOKUP(D13,'LEAGUE MEMBERSHIP'!B:K,8,FALSE))","v":"RGL-056"},{"$f":"IF(ISERROR(VLOOKUP($E13,'LEAGUE MEMBERSHIP'!A:K,6,FALSE)),\"\",VLOOKUP($E13,'LEAGUE MEMBERSHIP'!A:K,6,FALSE))","v":"PJ Fontaine"},{"$f":"IF(ISERROR(VLOOKUP($E13,'LEAGUE MEMBERSHIP'!A:K,10,FALSE)),\"\",IF(VLOOKUP($E13,'LEAGUE MEMBERSHIP'!A:K,10,FALSE)=\"\",\"\",VLOOKUP($E13,'LEAGUE MEMBERSHIP'!A:K,10,FALSE)))","v":9788553266},{"$f":"IF(ISERROR(VLOOKUP($E13&\"F\",'INDIVIDUAL SCORES DATA'!$A$16:$Q$3400,16,FALSE)),\"\",VLOOKUP($E13&\"F\",'INDIVIDUAL SCORES DATA'!$A$16:$Q$3400,16,FALSE))","v":1},{"$f":"IF(ISERROR(VLOOKUP($E13&\"F\",'INDIVIDUAL SCORES DATA'!$A$16:$Q$5600,15,FALSE)),\"\",VLOOKUP($E13&\"F\",'INDIVIDUAL SCORES DATA'!$A$16:$Q$3400,15,FALSE))","v":34},{"$f":"IF(ISERROR(VLOOKUP($E13&\"F\",'INDIVIDUAL SCORES DATA'!$A$16:$Q$3400,17,FALSE)),\"\",VLOOKUP($E13&\"F\",'INDIVIDUAL SCORES DATA'!$A$16:$Q$5600,17,FALSE))","v":"06/15/16"}]
[null,null,null,"Sub3",{"$f":"IF(ISERROR(VLOOKUP(D14,'LEAGUE MEMBERSHIP'!B:K,8,FALSE)),\"\",VLOOKUP(D14,'LEAGUE MEMBERSHIP'!B:K,8,FALSE))","v":"RGL-065"},{"$f":"IF(ISERROR(VLOOKUP($E14,'LEAGUE MEMBERSHIP'!A:K,6,FALSE)),\"\",VLOOKUP($E14,'LEAGUE MEMBERSHIP'!A:K,6,FALSE))","v":"Jim Hedlund"},{"$f":"IF(ISERROR(VLOOKUP($E14,'LEAGUE MEMBERSHIP'!A:K,10,FALSE)),\"\",IF(VLOOKUP($E14,'LEAGUE MEMBERSHIP'!A:K,10,FALSE)=\"\",\"\",VLOOKUP($E14,'LEAGUE MEMBERSHIP'!A:K,10,FALSE)))","v":9786685183},{"$f":"IF(ISERROR(VLOOKUP($E14&\"F\",'INDIVIDUAL SCORES DATA'!$A$16:$Q$3400,16,FALSE)),\"\",VLOOKUP($E14&\"F\",'INDIVIDUAL SCORES DATA'!$A$16:$Q$3400,16,FALSE))","v":16},{"$f":"IF(ISERROR(VLOOKUP($E14&\"F\",'INDIVIDUAL SCORES DATA'!$A$16:$Q$5600,15,FALSE)),\"\",VLOOKUP($E14&\"F\",'INDIVIDUAL SCORES DATA'!$A$16:$Q$3400,15,FALSE))","v":59},{"$f":"IF(ISERROR(VLOOKUP($E14&\"F\",'INDIVIDUAL SCORES DATA'!$A$16:$Q$3400,17,FALSE)),\"\",VLOOKUP($E14&\"F\",'INDIVIDUAL SCORES DATA'!$A$16:$Q$5600,17,FALSE))","v":"05/03/17"}]
[null,null,null,"Sub4",{"$f":"IF(ISERROR(VLOOKUP(D15,'LEAGUE MEMBERSHIP'!B:K,8,FALSE)),\"\",VLOOKUP(D15,'LEAGUE MEMBERSHIP'!B:K,8,FALSE))","v":"RGL-041"},{"$f":"IF(ISERROR(VLOOKUP($E15,'LEAGUE MEMBERSHIP'!A:K,6,FALSE)),\"\",VLOOKUP($E15,'LEAGUE MEMBERSHIP'!A:K,6,FALSE))","v":"Don Shank"},{"$f":"IF(ISERROR(VLOOKUP($E15,'LEAGUE MEMBERSHIP'!A:K,10,FALSE)),\"\",IF(VLOOKUP($E15,'LEAGUE MEMBERSHIP'!A:K,10,FALSE)=\"\",\"\",VLOOKUP($E15,'LEAGUE MEMBERSHIP'!A:K,10,FALSE)))","v":""},{"$f":"IF(ISERROR(VLOOKUP($E15&\"F\",'INDIVIDUAL SCORES DATA'!$A$16:$Q$3400,16,FALSE)),\"\",VLOOKUP($E15&\"F\",'INDIVIDUAL SCORES DATA'!$A$16:$Q$3400,16,FALSE))","v":4},{"$f":"IF(ISERROR(VLOOKUP($E15&\"F\",'INDIVIDUAL SCORES DATA'!$A$16:$Q$5600,15,FALSE)),\"\",VLOOKUP($E15&\"F\",'INDIVIDUAL SCORES DATA'!$A$16:$Q$3400,15,FALSE))","v":44},{"$f":"IF(ISERROR(VLOOKUP($E15&\"F\",'INDIVIDUAL SCORES DATA'!$A$16:$Q$3400,17,FALSE)),\"\",VLOOKUP($E15&\"F\",'INDIVIDUAL SCORES DATA'!$A$16:$Q$5600,17,FALSE))","v":"05/24/17"}]
[null,null,null,"Sub5",{"$f":"IF(ISERROR(VLOOKUP(D16,'LEAGUE MEMBERSHIP'!B:K,8,FALSE)),\"\",VLOOKUP(D16,'LEAGUE MEMBERSHIP'!B:K,8,FALSE))","v":"RGL-011"},{"$f":"IF(ISERROR(VLOOKUP($E16,'LEAGUE MEMBERSHIP'!A:K,6,FALSE)),\"\",VLOOKUP($E16,'LEAGUE MEMBERSHIP'!A:K,6,FALSE))","v":"Tom Farias"},{"$f":"IF(ISERROR(VLOOKUP($E16,'LEAGUE MEMBERSHIP'!A:K,10,FALSE)),\"\",IF(VLOOKUP($E16,'LEAGUE MEMBERSHIP'!A:K,10,FALSE)=\"\",\"\",VLOOKUP($E16,'LEAGUE MEMBERSHIP'!A:K,10,FALSE)))","v":""},{"$f":"IF(ISERROR(VLOOKUP($E16&\"F\",'INDIVIDUAL SCORES DATA'!$A$16:$Q$3400,16,FALSE)),\"\",VLOOKUP($E16&\"F\",'INDIVIDUAL SCORES DATA'!$A$16:$Q$3400,16,FALSE))","v":6},{"$f":"IF(ISERROR(VLOOKUP($E16&\"F\",'INDIVIDUAL SCORES DATA'!$A$16:$Q$5600,15,FALSE)),\"\",VLOOKUP($E16&\"F\",'INDIVIDUAL SCORES DATA'!$A$16:$Q$3400,15,FALSE))","v":47},{"$f":"IF(ISERROR(VLOOKUP($E16&\"F\",'INDIVIDUAL SCORES DATA'!$A$16:$Q$3400,17,FALSE)),\"\",VLOOKUP($E16&\"F\",'INDIVIDUAL SCORES DATA'!$A$16:$Q$5600,17,FALSE))","v":"06/21/17"}]
[null,null,null,"Sub6",{"$f":"IF(ISERROR(VLOOKUP(D17,'LEAGUE MEMBERSHIP'!B:K,8,FALSE)),\"\",VLOOKUP(D17,'LEAGUE MEMBERSHIP'!B:K,8,FALSE))","v":"RGL-030"},{"$f":"IF(ISERROR(VLOOKUP($E17,'LEAGUE MEMBERSHIP'!A:K,6,FALSE)),\"\",VLOOKUP($E17,'LEAGUE MEMBERSHIP'!A:K,6,FALSE))","v":"Joe Pearson"},{"$f":"IF(ISERROR(VLOOKUP($E17,'LEAGUE MEMBERSHIP'!A:K,10,FALSE)),\"\",IF(VLOOKUP($E17,'LEAGUE MEMBERSHIP'!A:K,10,FALSE)=\"\",\"\",VLOOKUP($E17,'LEAGUE MEMBERSHIP'!A:K,10,FALSE)))","v":9783406277},{"$f":"IF(ISERROR(VLOOKUP($E17&\"F\",'INDIVIDUAL SCORES DATA'!$A$16:$Q$3400,16,FALSE)),\"\",VLOOKUP($E17&\"F\",'INDIVIDUAL SCORES DATA'!$A$16:$Q$3400,16,FALSE))","v":12},{"$f":"IF(ISERROR(VLOOKUP($E17&\"F\",'INDIVIDUAL SCORES DATA'!$A$16:$Q$5600,15,FALSE)),\"\",VLOOKUP($E17&\"F\",'INDIVIDUAL SCORES DATA'!$A$16:$Q$3400,15,FALSE))","v":52},{"$f":"IF(ISERROR(VLOOKUP($E17&\"F\",'INDIVIDUAL SCORES DATA'!$A$16:$Q$3400,17,FALSE)),\"\",VLOOKUP($E17&\"F\",'INDIVIDUAL SCORES DATA'!$A$16:$Q$5600,17,FALSE))","v":"08/17/16"}]
[null,null,null,"Sub7",{"$f":"IF(ISERROR(VLOOKUP(D18,'LEAGUE MEMBERSHIP'!B:K,8,FALSE)),\"\",VLOOKUP(D18,'LEAGUE MEMBERSHIP'!B:K,8,FALSE))","v":"RGL-039"},{"$f":"IF(ISERROR(VLOOKUP($E18,'LEAGUE MEMBERSHIP'!A:K,6,FALSE)),\"\",VLOOKUP($E18,'LEAGUE MEMBERSHIP'!A:K,6,FALSE))","v":"Dennis St. Jean"},{"$f":"IF(ISERROR(VLOOKUP($E18,'LEAGUE MEMBERSHIP'!A:K,10,FALSE)),\"\",IF(VLOOKUP($E18,'LEAGUE MEMBERSHIP'!A:K,10,FALSE)=\"\",\"\",VLOOKUP($E18,'LEAGUE MEMBERSHIP'!A:K,10,FALSE)))","v":9788742835},{"$f":"IF(ISERROR(VLOOKUP($E18&\"F\",'INDIVIDUAL SCORES DATA'!$A$16:$Q$3400,16,FALSE)),\"\",VLOOKUP($E18&\"F\",'INDIVIDUAL SCORES DATA'!$A$16:$Q$3400,16,FALSE))","v":7},{"$f":"IF(ISERROR(VLOOKUP($E18&\"F\",'INDIVIDUAL SCORES DATA'!$A$16:$Q$5600,15,FALSE)),\"\",VLOOKUP($E18&\"F\",'INDIVIDUAL SCORES DATA'!$A$16:$Q$3400,15,FALSE))","v":48},{"$f":"IF(ISERROR(VLOOKUP($E18&\"F\",'INDIVIDUAL SCORES DATA'!$A$16:$Q$3400,17,FALSE)),\"\",VLOOKUP($E18&\"F\",'INDIVIDUAL SCORES DATA'!$A$16:$Q$5600,17,FALSE))","v":"05/25/16"}]
[null,null,null,"Sub8",{"$f":"IF(ISERROR(VLOOKUP(D19,'LEAGUE MEMBERSHIP'!B:K,8,FALSE)),\"\",VLOOKUP(D19,'LEAGUE MEMBERSHIP'!B:K,8,FALSE))","v":"RGL-049"},{"$f":"IF(ISERROR(VLOOKUP($E19,'LEAGUE MEMBERSHIP'!A:K,6,FALSE)),\"\",VLOOKUP($E19,'LEAGUE MEMBERSHIP'!A:K,6,FALSE))","v":"Joe Fratticelli"},{"$f":"IF(ISERROR(VLOOKUP($E19,'LEAGUE MEMBERSHIP'!A:K,10,FALSE)),\"\",IF(VLOOKUP($E19,'LEAGUE MEMBERSHIP'!A:K,10,FALSE)=\"\",\"\",VLOOKUP($E19,'LEAGUE MEMBERSHIP'!A:K,10,FALSE)))","v":""},{"$f":"IF(ISERROR(VLOOKUP($E19&\"F\",'INDIVIDUAL SCORES DATA'!$A$16:$Q$3400,16,FALSE)),\"\",VLOOKUP($E19&\"F\",'INDIVIDUAL SCORES DATA'!$A$16:$Q$3400,16,FALSE))","v":15},{"$f":"IF(ISERROR(VLOOKUP($E19&\"F\",'INDIVIDUAL SCORES DATA'!$A$16:$Q$5600,15,FALSE)),\"\",VLOOKUP($E19&\"F\",'INDIVIDUAL SCORES DATA'!$A$16:$Q$3400,15,FALSE))","v":46},{"$f":"IF(ISERROR(VLOOKUP($E19&\"F\",'INDIVIDUAL SCORES DATA'!$A$16:$Q$3400,17,FALSE)),\"\",VLOOKUP($E19&\"F\",'INDIVIDUAL SCORES DATA'!$A$16:$Q$5600,17,FALSE))","v":"2013-05-01"}]
[null,null,null,"Sub9",{"$f":"IF(ISERROR(VLOOKUP(D20,'LEAGUE MEMBERSHIP'!B:K,8,FALSE)),\"\",VLOOKUP(D20,'LEAGUE MEMBERSHIP'!B:K,8,FALSE))","v":"RGL-052"},{"$f":"IF(ISERROR(VLOOKUP($E20,'LEAGUE MEMBERSHIP'!A:K,6,FALSE)),\"\",VLOOKUP($E20,'LEAGUE MEMBERSHIP'!A:K,6,FALSE))","v":"Pete Collette"},{"$f":"IF(ISERROR(VLOOKUP($E20,'LEAGUE MEMBERSHIP'!A:K,10,FALSE)),\"\",IF(VLOOKUP($E20,'LEAGUE MEMBERSHIP'!A:K,10,FALSE)=\"\",\"\",VLOOKUP($E20,'LEAGUE MEMBERSHIP'!A:K,10,FALSE)))","v":""},{"$f":"IF(ISERROR(VLOOKUP($E20&\"F\",'INDIVIDUAL SCORES DATA'!$A$16:$Q$3400,16,FALSE)),\"\",VLOOKUP($E20&\"F\",'INDIVIDUAL SCORES DATA'!$A$16:$Q$3400,16,FALSE))","v":6},{"$f":"IF(ISERROR(VLOOKUP($E20&\"F\",'INDIVIDUAL SCORES DATA'!$A$16:$Q$5600,15,FALSE)),\"\",VLOOKUP($E20&\"F\",'INDIVIDUAL SCORES DATA'!$A$16:$Q$3400,15,FALSE))","v":51},{"$f":"IF(ISERROR(VLOOKUP($E20&\"F\",'INDIVIDUAL SCORES DATA'!$A$16:$Q$3400,17,FALSE)),\"\",VLOOKUP($E20&\"F\",'INDIVIDUAL SCORES DATA'!$A$16:$Q$5600,17,FALSE))","v":"2013-06-12"}]
[null,null,null,"Sub10",{"$f":"IF(ISERROR(VLOOKUP(D21,'LEAGUE MEMBERSHIP'!B:K,8,FALSE)),\"\",VLOOKUP(D21,'LEAGUE MEMBERSHIP'!B:K,8,FALSE))","v":"RGL-018"},{"$f":"IF(ISERROR(VLOOKUP($E21,'LEAGUE MEMBERSHIP'!A:K,6,FALSE)),\"\",VLOOKUP($E21,'LEAGUE MEMBERSHIP'!A:K,6,FALSE))","v":"Ray Henderson"},{"$f":"IF(ISERROR(VLOOKUP($E21,'LEAGUE MEMBERSHIP'!A:K,10,FALSE)),\"\",IF(VLOOKUP($E21,'LEAGUE MEMBERSHIP'!A:K,10,FALSE)=\"\",\"\",VLOOKUP($E21,'LEAGUE MEMBERSHIP'!A:K,10,FALSE)))","v":9786325543},{"$f":"IF(ISERROR(VLOOKUP($E21&\"F\",'INDIVIDUAL SCORES DATA'!$A$16:$Q$3400,16,FALSE)),\"\",VLOOKUP($E21&\"F\",'INDIVIDUAL SCORES DATA'!$A$16:$Q$3400,16,FALSE))","v":5},{"$f":"IF(ISERROR(VLOOKUP($E21&\"F\",'INDIVIDUAL SCORES DATA'!$A$16:$Q$5600,15,FALSE)),\"\",VLOOKUP($E21&\"F\",'INDIVIDUAL SCORES DATA'!$A$16:$Q$3400,15,FALSE))","v":43},{"$f":"IF(ISERROR(VLOOKUP($E21&\"F\",'INDIVIDUAL SCORES DATA'!$A$16:$Q$3400,17,FALSE)),\"\",VLOOKUP($E21&\"F\",'INDIVIDUAL SCORES DATA'!$A$16:$Q$5600,17,FALSE))","v":"08/31/16"}]
[null,null,null,"Sub11",{"$f":"IF(ISERROR(VLOOKUP(D22,'LEAGUE MEMBERSHIP'!B:K,8,FALSE)),\"\",VLOOKUP(D22,'LEAGUE MEMBERSHIP'!B:K,8,FALSE))","v":"RGL-035"},{"$f":"IF(ISERROR(VLOOKUP($E22,'LEAGUE MEMBERSHIP'!A:K,6,FALSE)),\"\",VLOOKUP($E22,'LEAGUE MEMBERSHIP'!A:K,6,FALSE))","v":"Pete K Normandin"},{"$f":"IF(ISERROR(VLOOKUP($E22,'LEAGUE MEMBERSHIP'!A:K,10,FALSE)),\"\",IF(VLOOKUP($E22,'LEAGUE MEMBERSHIP'!A:K,10,FALSE)=\"\",\"\",VLOOKUP($E22,'LEAGUE MEMBERSHIP'!A:K,10,FALSE)))","v":9788742642},{"$f":"IF(ISERROR(VLOOKUP($E22&\"F\",'INDIVIDUAL SCORES DATA'!$A$16:$Q$3400,16,FALSE)),\"\",VLOOKUP($E22&\"F\",'INDIVIDUAL SCORES DATA'!$A$16:$Q$3400,16,FALSE))","v":0},{"$f":"IF(ISERROR(VLOOKUP($E22&\"F\",'INDIVIDUAL SCORES DATA'!$A$16:$Q$5600,15,FALSE)),\"\",VLOOKUP($E22&\"F\",'INDIVIDUAL SCORES DATA'!$A$16:$Q$3400,15,FALSE))","v":48},{"$f":"IF(ISERROR(VLOOKUP($E22&\"F\",'INDIVIDUAL SCORES DATA'!$A$16:$Q$3400,17,FALSE)),\"\",VLOOKUP($E22&\"F\",'INDIVIDUAL SCORES DATA'!$A$16:$Q$5600,17,FALSE))","v":"Calc."}]
[null,null,null,"Sub12",{"$f":"IF(ISERROR(VLOOKUP(D23,'LEAGUE MEMBERSHIP'!B:K,8,FALSE)),\"\",VLOOKUP(D23,'LEAGUE MEMBERSHIP'!B:K,8,FALSE))","v":"RGL-064"},{"$f":"IF(ISERROR(VLOOKUP($E23,'LEAGUE MEMBERSHIP'!A:K,6,FALSE)),\"\",VLOOKUP($E23,'LEAGUE MEMBERSHIP'!A:K,6,FALSE))","v":"Ron Brassard"},{"$f":"IF(ISERROR(VLOOKUP($E23,'LEAGUE MEMBERSHIP'!A:K,10,FALSE)),\"\",IF(VLOOKUP($E23,'LEAGUE MEMBERSHIP'!A:K,10,FALSE)=\"\",\"\",VLOOKUP($E23,'LEAGUE MEMBERSHIP'!A:K,10,FALSE)))","v":""},{"$f":"IF(ISERROR(VLOOKUP($E23&\"F\",'INDIVIDUAL SCORES DATA'!$A$16:$Q$3400,16,FALSE)),\"\",VLOOKUP($E23&\"F\",'INDIVIDUAL SCORES DATA'!$A$16:$Q$3400,16,FALSE))","v":7},{"$f":"IF(ISERROR(VLOOKUP($E23&\"F\",'INDIVIDUAL SCORES DATA'!$A$16:$Q$5600,15,FALSE)),\"\",VLOOKUP($E23&\"F\",'INDIVIDUAL SCORES DATA'!$A$16:$Q$3400,15,FALSE))","v":49},{"$f":"IF(ISERROR(VLOOKUP($E23&\"F\",'INDIVIDUAL SCORES DATA'!$A$16:$Q$3400,17,FALSE)),\"\",VLOOKUP($E23&\"F\",'INDIVIDUAL SCORES DATA'!$A$16:$Q$5600,17,FALSE))","v":"2015-08-26"}]
[null,null,null,"Sub13",{"$f":"IF(ISERROR(VLOOKUP(D24,'LEAGUE MEMBERSHIP'!B:K,8,FALSE)),\"\",VLOOKUP(D24,'LEAGUE MEMBERSHIP'!B:K,8,FALSE))","v":"RGL-001"},{"$f":"IF(ISERROR(VLOOKUP($E24,'LEAGUE MEMBERSHIP'!A:K,6,FALSE)),\"\",VLOOKUP($E24,'LEAGUE MEMBERSHIP'!A:K,6,FALSE))","v":"Genie Ray Richard"},{"$f":"IF(ISERROR(VLOOKUP($E24,'LEAGUE MEMBERSHIP'!A:K,10,FALSE)),\"\",IF(VLOOKUP($E24,'LEAGUE MEMBERSHIP'!A:K,10,FALSE)=\"\",\"\",VLOOKUP($E24,'LEAGUE MEMBERSHIP'!A:K,10,FALSE)))","v":""},{"$f":"IF(ISERROR(VLOOKUP($E24&\"F\",'INDIVIDUAL SCORES DATA'!$A$16:$Q$3400,16,FALSE)),\"\",VLOOKUP($E24&\"F\",'INDIVIDUAL SCORES DATA'!$A$16:$Q$3400,16,FALSE))","v":4},{"$f":"IF(ISERROR(VLOOKUP($E24&\"F\",'INDIVIDUAL SCORES DATA'!$A$16:$Q$5600,15,FALSE)),\"\",VLOOKUP($E24&\"F\",'INDIVIDUAL SCORES DATA'!$A$16:$Q$3400,15,FALSE))","v":58},{"$f":"IF(ISERROR(VLOOKUP($E24&\"F\",'INDIVIDUAL SCORES DATA'!$A$16:$Q$3400,17,FALSE)),\"\",VLOOKUP($E24&\"F\",'INDIVIDUAL SCORES DATA'!$A$16:$Q$5600,17,FALSE))","v":"2015-07-08"}]
[null,null,null,"Sub14",{"$f":"IF(ISERROR(VLOOKUP(D25,'LEAGUE MEMBERSHIP'!B:K,8,FALSE)),\"\",VLOOKUP(D25,'LEAGUE MEMBERSHIP'!B:K,8,FALSE))","v":"RGL-048"},{"$f":"IF(ISERROR(VLOOKUP($E25,'LEAGUE MEMBERSHIP'!A:K,6,FALSE)),\"\",VLOOKUP($E25,'LEAGUE MEMBERSHIP'!A:K,6,FALSE))","v":"John MacDonald"},{"$f":"IF(ISERROR(VLOOKUP($E25,'LEAGUE MEMBERSHIP'!A:K,10,FALSE)),\"\",IF(VLOOKUP($E25,'LEAGUE MEMBERSHIP'!A:K,10,FALSE)=\"\",\"\",VLOOKUP($E25,'LEAGUE MEMBERSHIP'!A:K,10,FALSE)))","v":7812544212},{"$f":"IF(ISERROR(VLOOKUP($E25&\"F\",'INDIVIDUAL SCORES DATA'!$A$16:$Q$3400,16,FALSE)),\"\",VLOOKUP($E25&\"F\",'INDIVIDUAL SCORES DATA'!$A$16:$Q$3400,16,FALSE))","v":10},{"$f":"IF(ISERROR(VLOOKUP($E25&\"F\",'INDIVIDUAL SCORES DATA'!$A$16:$Q$5600,15,FALSE)),\"\",VLOOKUP($E25&\"F\",'INDIVIDUAL SCORES DATA'!$A$16:$Q$3400,15,FALSE))","v":48},{"$f":"IF(ISERROR(VLOOKUP($E25&\"F\",'INDIVIDUAL SCORES DATA'!$A$16:$Q$3400,17,FALSE)),\"\",VLOOKUP($E25&\"F\",'INDIVIDUAL SCORES DATA'!$A$16:$Q$5600,17,FALSE))","v":"Calc"}]
[null,null,null,"Sub15",{"$f":"IF(ISERROR(VLOOKUP(D26,'LEAGUE MEMBERSHIP'!B:K,8,FALSE)),\"\",VLOOKUP(D26,'LEAGUE MEMBERSHIP'!B:K,8,FALSE))","v":"RGL-002"},{"$f":"IF(ISERROR(VLOOKUP($E26,'LEAGUE MEMBERSHIP'!A:K,6,FALSE)),\"\",VLOOKUP($E26,'LEAGUE MEMBERSHIP'!A:K,6,FALSE))","v":"Darryl Gagne"},{"$f":"IF(ISERROR(VLOOKUP($E26,'LEAGUE MEMBERSHIP'!A:K,10,FALSE)),\"\",IF(VLOOKUP($E26,'LEAGUE MEMBERSHIP'!A:K,10,FALSE)=\"\",\"\",VLOOKUP($E26,'LEAGUE MEMBERSHIP'!A:K,10,FALSE)))","v":9784919071},{"$f":"IF(ISERROR(VLOOKUP($E26&\"F\",'INDIVIDUAL SCORES DATA'!$A$16:$Q$3400,16,FALSE)),\"\",VLOOKUP($E26&\"F\",'INDIVIDUAL SCORES DATA'!$A$16:$Q$3400,16,FALSE))","v":8},{"$f":"IF(ISERROR(VLOOKUP($E26&\"F\",'INDIVIDUAL SCORES DATA'!$A$16:$Q$5600,15,FALSE)),\"\",VLOOKUP($E26&\"F\",'INDIVIDUAL SCORES DATA'!$A$16:$Q$3400,15,FALSE))","v":49},{"$f":"IF(ISERROR(VLOOKUP($E26&\"F\",'INDIVIDUAL SCORES DATA'!$A$16:$Q$3400,17,FALSE)),\"\",VLOOKUP($E26&\"F\",'INDIVIDUAL SCORES DATA'!$A$16:$Q$5600,17,FALSE))","v":"05/25/16"}]
[null,null,null,"Sub16",{"$f":"IF(ISERROR(VLOOKUP(D27,'LEAGUE MEMBERSHIP'!B:K,8,FALSE)),\"\",VLOOKUP(D27,'LEAGUE MEMBERSHIP'!B:K,8,FALSE))","v":"RGL-066"},{"$f":"IF(ISERROR(VLOOKUP($E27,'LEAGUE MEMBERSHIP'!A:K,6,FALSE)),\"\",VLOOKUP($E27,'LEAGUE MEMBERSHIP'!A:K,6,FALSE))","v":"Becky Bartkus"},{"$f":"IF(ISERROR(VLOOKUP($E27,'LEAGUE MEMBERSHIP'!A:K,10,FALSE)),\"\",IF(VLOOKUP($E27,'LEAGUE MEMBERSHIP'!A:K,10,FALSE)=\"\",\"\",VLOOKUP($E27,'LEAGUE MEMBERSHIP'!A:K,10,FALSE)))","v":9783407865},{"$f":"IF(ISERROR(VLOOKUP($E27&\"F\",'INDIVIDUAL SCORES DATA'!$A$16:$Q$3400,16,FALSE)),\"\",VLOOKUP($E27&\"F\",'INDIVIDUAL SCORES DATA'!$A$16:$Q$3400,16,FALSE))","v":9},{"$f":"IF(ISERROR(VLOOKUP($E27&\"F\",'INDIVIDUAL SCORES DATA'!$A$16:$Q$5600,15,FALSE)),\"\",VLOOKUP($E27&\"F\",'INDIVIDUAL SCORES DATA'!$A$16:$Q$3400,15,FALSE))","v":52},{"$f":"IF(ISERROR(VLOOKUP($E27&\"F\",'INDIVIDUAL SCORES DATA'!$A$16:$Q$3400,17,FALSE)),\"\",VLOOKUP($E27&\"F\",'INDIVIDUAL SCORES DATA'!$A$16:$Q$5600,17,FALSE))","v":"06/08/16"}]
[null,null,null,"Sub17",{"$f":"IF(ISERROR(VLOOKUP(D28,'LEAGUE MEMBERSHIP'!B:K,8,FALSE)),\"\",VLOOKUP(D28,'LEAGUE MEMBERSHIP'!B:K,8,FALSE))","v":"RGL-008"},{"$f":"IF(ISERROR(VLOOKUP($E28,'LEAGUE MEMBERSHIP'!A:K,6,FALSE)),\"\",VLOOKUP($E28,'LEAGUE MEMBERSHIP'!A:K,6,FALSE))","v":"Dave Cormier"},{"$f":"IF(ISERROR(VLOOKUP($E28,'LEAGUE MEMBERSHIP'!A:K,10,FALSE)),\"\",IF(VLOOKUP($E28,'LEAGUE MEMBERSHIP'!A:K,10,FALSE)=\"\",\"\",VLOOKUP($E28,'LEAGUE MEMBERSHIP'!A:K,10,FALSE)))","v":""},{"$f":"IF(ISERROR(VLOOKUP($E28&\"F\",'INDIVIDUAL SCORES DATA'!$A$16:$Q$3400,16,FALSE)),\"\",VLOOKUP($E28&\"F\",'INDIVIDUAL SCORES DATA'!$A$16:$Q$3400,16,FALSE))","v":7},{"$f":"IF(ISERROR(VLOOKUP($E28&\"F\",'INDIVIDUAL SCORES DATA'!$A$16:$Q$5600,15,FALSE)),\"\",VLOOKUP($E28&\"F\",'INDIVIDUAL SCORES DATA'!$A$16:$Q$3400,15,FALSE))","v":49},{"$f":"IF(ISERROR(VLOOKUP($E28&\"F\",'INDIVIDUAL SCORES DATA'!$A$16:$Q$3400,17,FALSE)),\"\",VLOOKUP($E28&\"F\",'INDIVIDUAL SCORES DATA'!$A$16:$Q$5600,17,FALSE))","v":"08/23/17"}]
[null,null,null,"Sub18",{"$f":"IF(ISERROR(VLOOKUP(D29,'LEAGUE MEMBERSHIP'!B:K,8,FALSE)),\"\",VLOOKUP(D29,'LEAGUE MEMBERSHIP'!B:K,8,FALSE))","v":"RGL-031"},{"$f":"IF(ISERROR(VLOOKUP($E29,'LEAGUE MEMBERSHIP'!A:K,6,FALSE)),\"\",VLOOKUP($E29,'LEAGUE MEMBERSHIP'!A:K,6,FALSE))","v":"Doug Cormier"},{"$f":"IF(ISERROR(VLOOKUP($E29,'LEAGUE MEMBERSHIP'!A:K,10,FALSE)),\"\",IF(VLOOKUP($E29,'LEAGUE MEMBERSHIP'!A:K,10,FALSE)=\"\",\"\",VLOOKUP($E29,'LEAGUE MEMBERSHIP'!A:K,10,FALSE)))","v":""},{"$f":"IF(ISERROR(VLOOKUP($E29&\"F\",'INDIVIDUAL SCORES DATA'!$A$16:$Q$3400,16,FALSE)),\"\",VLOOKUP($E29&\"F\",'INDIVIDUAL SCORES DATA'!$A$16:$Q$3400,16,FALSE))","v":8},{"$f":"IF(ISERROR(VLOOKUP($E29&\"F\",'INDIVIDUAL SCORES DATA'!$A$16:$Q$5600,15,FALSE)),\"\",VLOOKUP($E29&\"F\",'INDIVIDUAL SCORES DATA'!$A$16:$Q$3400,15,FALSE))","v":47},{"$f":"IF(ISERROR(VLOOKUP($E29&\"F\",'INDIVIDUAL SCORES DATA'!$A$16:$Q$3400,17,FALSE)),\"\",VLOOKUP($E29&\"F\",'INDIVIDUAL SCORES DATA'!$A$16:$Q$5600,17,FALSE))","v":"08/23/17"}]
[null,null,null,"Sub19",{"$f":"IF(ISERROR(VLOOKUP(D30,'LEAGUE MEMBERSHIP'!B:K,8,FALSE)),\"\",VLOOKUP(D30,'LEAGUE MEMBERSHIP'!B:K,8,FALSE))","v":"RGL-017"},{"$f":"IF(ISERROR(VLOOKUP($E30,'LEAGUE MEMBERSHIP'!A:K,6,FALSE)),\"\",VLOOKUP($E30,'LEAGUE MEMBERSHIP'!A:K,6,FALSE))","v":"Ed Robbins"},{"$f":"IF(ISERROR(VLOOKUP($E30,'LEAGUE MEMBERSHIP'!A:K,10,FALSE)),\"\",IF(VLOOKUP($E30,'LEAGUE MEMBERSHIP'!A:K,10,FALSE)=\"\",\"\",VLOOKUP($E30,'LEAGUE MEMBERSHIP'!A:K,10,FALSE)))","v":""},{"$f":"IF(ISERROR(VLOOKUP($E30&\"F\",'INDIVIDUAL SCORES DATA'!$A$16:$Q$3400,16,FALSE)),\"\",VLOOKUP($E30&\"F\",'INDIVIDUAL SCORES DATA'!$A$16:$Q$3400,16,FALSE))","v":1},{"$f":"IF(ISERROR(VLOOKUP($E30&\"F\",'INDIVIDUAL SCORES DATA'!$A$16:$Q$5600,15,FALSE)),\"\",VLOOKUP($E30&\"F\",'INDIVIDUAL SCORES DATA'!$A$16:$Q$3400,15,FALSE))","v":43},{"$f":"IF(ISERROR(VLOOKUP($E30&\"F\",'INDIVIDUAL SCORES DATA'!$A$16:$Q$3400,17,FALSE)),\"\",VLOOKUP($E30&\"F\",'INDIVIDUAL SCORES DATA'!$A$16:$Q$5600,17,FALSE))","v":"06/15/16"}]
[null,null,null,"Sub20",{"$f":"IF(ISERROR(VLOOKUP(D31,'LEAGUE MEMBERSHIP'!B:K,8,FALSE)),\"\",VLOOKUP(D31,'LEAGUE MEMBERSHIP'!B:K,8,FALSE))","v":"RGL-068"},{"$f":"IF(ISERROR(VLOOKUP($E31,'LEAGUE MEMBERSHIP'!A:K,6,FALSE)),\"\",VLOOKUP($E31,'LEAGUE MEMBERSHIP'!A:K,6,FALSE))","v":"Mark Louney"},{"$f":"IF(ISERROR(VLOOKUP($E31,'LEAGUE MEMBERSHIP'!A:K,10,FALSE)),\"\",IF(VLOOKUP($E31,'LEAGUE MEMBERSHIP'!A:K,10,FALSE)=\"\",\"\",VLOOKUP($E31,'LEAGUE MEMBERSHIP'!A:K,10,FALSE)))","v":9783423503},{"$f":"IF(ISERROR(VLOOKUP($E31&\"F\",'INDIVIDUAL SCORES DATA'!$A$16:$Q$3400,16,FALSE)),\"\",VLOOKUP($E31&\"F\",'INDIVIDUAL SCORES DATA'!$A$16:$Q$3400,16,FALSE))","v":10},{"$f":"IF(ISERROR(VLOOKUP($E31&\"F\",'INDIVIDUAL SCORES DATA'!$A$16:$Q$5600,15,FALSE)),\"\",VLOOKUP($E31&\"F\",'INDIVIDUAL SCORES DATA'!$A$16:$Q$3400,15,FALSE))","v":45},{"$f":"IF(ISERROR(VLOOKUP($E31&\"F\",'INDIVIDUAL SCORES DATA'!$A$16:$Q$3400,17,FALSE)),\"\",VLOOKUP($E31&\"F\",'INDIVIDUAL SCORES DATA'!$A$16:$Q$5600,17,FALSE))","v":"08/31/16"}]
[null,null,null,"Sub21",{"$f":"IF(ISERROR(VLOOKUP(D32,'LEAGUE MEMBERSHIP'!B:K,8,FALSE)),\"\",VLOOKUP(D32,'LEAGUE MEMBERSHIP'!B:K,8,FALSE))","v":"RGL-058"},{"$f":"IF(ISERROR(VLOOKUP($E32,'LEAGUE MEMBERSHIP'!A:K,6,FALSE)),\"\",VLOOKUP($E32,'LEAGUE MEMBERSHIP'!A:K,6,FALSE))","v":"Paul Stedman"},{"$f":"IF(ISERROR(VLOOKUP($E32,'LEAGUE MEMBERSHIP'!A:K,10,FALSE)),\"\",IF(VLOOKUP($E32,'LEAGUE MEMBERSHIP'!A:K,10,FALSE)=\"\",\"\",VLOOKUP($E32,'LEAGUE MEMBERSHIP'!A:K,10,FALSE)))","v":""},{"$f":"IF(ISERROR(VLOOKUP($E32&\"F\",'INDIVIDUAL SCORES DATA'!$A$16:$Q$3400,16,FALSE)),\"\",VLOOKUP($E32&\"F\",'INDIVIDUAL SCORES DATA'!$A$16:$Q$3400,16,FALSE))","v":4},{"$f":"IF(ISERROR(VLOOKUP($E32&\"F\",'INDIVIDUAL SCORES DATA'!$A$16:$Q$5600,15,FALSE)),\"\",VLOOKUP($E32&\"F\",'INDIVIDUAL SCORES DATA'!$A$16:$Q$3400,15,FALSE))","v":51},{"$f":"IF(ISERROR(VLOOKUP($E32&\"F\",'INDIVIDUAL SCORES DATA'!$A$16:$Q$3400,17,FALSE)),\"\",VLOOKUP($E32&\"F\",'INDIVIDUAL SCORES DATA'!$A$16:$Q$5600,17,FALSE))","v":"Calc."}]
[null,null,null,"Sub22",{"$f":"IF(ISERROR(VLOOKUP(D33,'LEAGUE MEMBERSHIP'!B:K,8,FALSE)),\"\",VLOOKUP(D33,'LEAGUE MEMBERSHIP'!B:K,8,FALSE))","v":"RGL-012"},{"$f":"IF(ISERROR(VLOOKUP($E33,'LEAGUE MEMBERSHIP'!A:K,6,FALSE)),\"\",VLOOKUP($E33,'LEAGUE MEMBERSHIP'!A:K,6,FALSE))","v":"Jan Hedlund"},{"$f":"IF(ISERROR(VLOOKUP($E33,'LEAGUE MEMBERSHIP'!A:K,10,FALSE)),\"\",IF(VLOOKUP($E33,'LEAGUE MEMBERSHIP'!A:K,10,FALSE)=\"\",\"\",VLOOKUP($E33,'LEAGUE MEMBERSHIP'!A:K,10,FALSE)))","v":""},{"$f":"IF(ISERROR(VLOOKUP($E33&\"F\",'INDIVIDUAL SCORES DATA'!$A$16:$Q$3400,16,FALSE)),\"\",VLOOKUP($E33&\"F\",'INDIVIDUAL SCORES DATA'!$A$16:$Q$3400,16,FALSE))","v":15},{"$f":"IF(ISERROR(VLOOKUP($E33&\"F\",'INDIVIDUAL SCORES DATA'!$A$16:$Q$5600,15,FALSE)),\"\",VLOOKUP($E33&\"F\",'INDIVIDUAL SCORES DATA'!$A$16:$Q$3400,15,FALSE))","v":58},{"$f":"IF(ISERROR(VLOOKUP($E33&\"F\",'INDIVIDUAL SCORES DATA'!$A$16:$Q$3400,17,FALSE)),\"\",VLOOKUP($E33&\"F\",'INDIVIDUAL SCORES DATA'!$A$16:$Q$5600,17,FALSE))","v":"07/06/16"}]
[null,null,null,"Sub23",{"$f":"IF(ISERROR(VLOOKUP(D34,'LEAGUE MEMBERSHIP'!B:K,8,FALSE)),\"\",VLOOKUP(D34,'LEAGUE MEMBERSHIP'!B:K,8,FALSE))","v":"RGL-067"},{"$f":"IF(ISERROR(VLOOKUP($E34,'LEAGUE MEMBERSHIP'!A:K,6,FALSE)),\"\",VLOOKUP($E34,'LEAGUE MEMBERSHIP'!A:K,6,FALSE))","v":"Brenda Louney"},{"$f":"IF(ISERROR(VLOOKUP($E34,'LEAGUE MEMBERSHIP'!A:K,10,FALSE)),\"\",IF(VLOOKUP($E34,'LEAGUE MEMBERSHIP'!A:K,10,FALSE)=\"\",\"\",VLOOKUP($E34,'LEAGUE MEMBERSHIP'!A:K,10,FALSE)))","v":""},{"$f":"IF(ISERROR(VLOOKUP($E34&\"F\",'INDIVIDUAL SCORES DATA'!$A$16:$Q$3400,16,FALSE)),\"\",VLOOKUP($E34&\"F\",'INDIVIDUAL SCORES DATA'!$A$16:$Q$3400,16,FALSE))","v":13},{"$f":"IF(ISERROR(VLOOKUP($E34&\"F\",'INDIVIDUAL SCORES DATA'!$A$16:$Q$5600,15,FALSE)),\"\",VLOOKUP($E34&\"F\",'INDIVIDUAL SCORES DATA'!$A$16:$Q$3400,15,FALSE))","v":55},{"$f":"IF(ISERROR(VLOOKUP($E34&\"F\",'INDIVIDUAL SCORES DATA'!$A$16:$Q$3400,17,FALSE)),\"\",VLOOKUP($E34&\"F\",'INDIVIDUAL SCORES DATA'!$A$16:$Q$5600,17,FALSE))","v":"07/27/16"}]
[null,null,null,"Sub24",{"$f":"IF(ISERROR(VLOOKUP(D35,'LEAGUE MEMBERSHIP'!B:K,8,FALSE)),\"\",VLOOKUP(D35,'LEAGUE MEMBERSHIP'!B:K,8,FALSE))","v":"RGL-059"},{"$f":"IF(ISERROR(VLOOKUP($E35,'LEAGUE MEMBERSHIP'!A:K,6,FALSE)),\"\",VLOOKUP($E35,'LEAGUE MEMBERSHIP'!A:K,6,FALSE))","v":"Kyle Butterfield"},{"$f":"IF(ISERROR(VLOOKUP($E35,'LEAGUE MEMBERSHIP'!A:K,10,FALSE)),\"\",IF(VLOOKUP($E35,'LEAGUE MEMBERSHIP'!A:K,10,FALSE)=\"\",\"\",VLOOKUP($E35,'LEAGUE MEMBERSHIP'!A:K,10,FALSE)))","v":7743647442},{"$f":"IF(ISERROR(VLOOKUP($E35&\"F\",'INDIVIDUAL SCORES DATA'!$A$16:$Q$3400,16,FALSE)),\"\",VLOOKUP($E35&\"F\",'INDIVIDUAL SCORES DATA'!$A$16:$Q$3400,16,FALSE))","v":13},{"$f":"IF(ISERROR(VLOOKUP($E35&\"F\",'INDIVIDUAL SCORES DATA'!$A$16:$Q$5600,15,FALSE)),\"\",VLOOKUP($E35&\"F\",'INDIVIDUAL SCORES DATA'!$A$16:$Q$3400,15,FALSE))","v":54},{"$f":"IF(ISERROR(VLOOKUP($E35&\"F\",'INDIVIDUAL SCORES DATA'!$A$16:$Q$3400,17,FALSE)),\"\",VLOOKUP($E35&\"F\",'INDIVIDUAL SCORES DATA'!$A$16:$Q$5600,17,FALSE))","v":"07/19/17"}]
[null,null,null,"Sub25",{"$f":"IF(ISERROR(VLOOKUP(D36,'LEAGUE MEMBERSHIP'!B:K,8,FALSE)),\"\",VLOOKUP(D36,'LEAGUE MEMBERSHIP'!B:K,8,FALSE))","v":"RGL-047"},{"$f":"IF(ISERROR(VLOOKUP($E36,'LEAGUE MEMBERSHIP'!A:K,6,FALSE)),\"\",VLOOKUP($E36,'LEAGUE MEMBERSHIP'!A:K,6,FALSE))","v":"Dave Flood"},{"$f":"IF(ISERROR(VLOOKUP($E36,'LEAGUE MEMBERSHIP'!A:K,10,FALSE)),\"\",IF(VLOOKUP($E36,'LEAGUE MEMBERSHIP'!A:K,10,FALSE)=\"\",\"\",VLOOKUP($E36,'LEAGUE MEMBERSHIP'!A:K,10,FALSE)))","v":9785491525},{"$f":"IF(ISERROR(VLOOKUP($E36&\"F\",'INDIVIDUAL SCORES DATA'!$A$16:$Q$3400,16,FALSE)),\"\",VLOOKUP($E36&\"F\",'INDIVIDUAL SCORES DATA'!$A$16:$Q$3400,16,FALSE))","v":8},{"$f":"IF(ISERROR(VLOOKUP($E36&\"F\",'INDIVIDUAL SCORES DATA'!$A$16:$Q$5600,15,FALSE)),\"\",VLOOKUP($E36&\"F\",'INDIVIDUAL SCORES DATA'!$A$16:$Q$3400,15,FALSE))","v":45},{"$f":"IF(ISERROR(VLOOKUP($E36&\"F\",'INDIVIDUAL SCORES DATA'!$A$16:$Q$3400,17,FALSE)),\"\",VLOOKUP($E36&\"F\",'INDIVIDUAL SCORES DATA'!$A$16:$Q$5600,17,FALSE))","v":"07/19/17"}]
[null,null,null,"Sub26",{"$f":"IF(ISERROR(VLOOKUP(D37,'LEAGUE MEMBERSHIP'!B:K,8,FALSE)),\"\",VLOOKUP(D37,'LEAGUE MEMBERSHIP'!B:K,8,FALSE))","v":"RGL-070"},{"$f":"IF(ISERROR(VLOOKUP($E37,'LEAGUE MEMBERSHIP'!A:K,6,FALSE)),\"\",VLOOKUP($E37,'LEAGUE MEMBERSHIP'!A:K,6,FALSE))","v":"Ann Goodwin"},{"$f":"IF(ISERROR(VLOOKUP($E37,'LEAGUE MEMBERSHIP'!A:K,10,FALSE)),\"\",IF(VLOOKUP($E37,'LEAGUE MEMBERSHIP'!A:K,10,FALSE)=\"\",\"\",VLOOKUP($E37,'LEAGUE MEMBERSHIP'!A:K,10,FALSE)))","v":9788740880},{"$f":"IF(ISERROR(VLOOKUP($E37&\"F\",'INDIVIDUAL SCORES DATA'!$A$16:$Q$3400,16,FALSE)),\"\",VLOOKUP($E37&\"F\",'INDIVIDUAL SCORES DATA'!$A$16:$Q$3400,16,FALSE))","v":15},{"$f":"IF(ISERROR(VLOOKUP($E37&\"F\",'INDIVIDUAL SCORES DATA'!$A$16:$Q$5600,15,FALSE)),\"\",VLOOKUP($E37&\"F\",'INDIVIDUAL SCORES DATA'!$A$16:$Q$3400,15,FALSE))","v":55},{"$f":"IF(ISERROR(VLOOKUP($E37&\"F\",'INDIVIDUAL SCORES DATA'!$A$16:$Q$3400,17,FALSE)),\"\",VLOOKUP($E37&\"F\",'INDIVIDUAL SCORES DATA'!$A$16:$Q$5600,17,FALSE))","v":"07/12/17"}]
[null,null,null,"Sub27",{"$f":"IF(ISERROR(VLOOKUP(D38,'LEAGUE MEMBERSHIP'!B:K,8,FALSE)),\"\",VLOOKUP(D38,'LEAGUE MEMBERSHIP'!B:K,8,FALSE))","v":"RGL-025"},{"$f":"IF(ISERROR(VLOOKUP($E38,'LEAGUE MEMBERSHIP'!A:K,6,FALSE)),\"\",VLOOKUP($E38,'LEAGUE MEMBERSHIP'!A:K,6,FALSE))","v":"Gary Bittner"},{"$f":"IF(ISERROR(VLOOKUP($E38,'LEAGUE MEMBERSHIP'!A:K,10,FALSE)),\"\",IF(VLOOKUP($E38,'LEAGUE MEMBERSHIP'!A:K,10,FALSE)=\"\",\"\",VLOOKUP($E38,'LEAGUE MEMBERSHIP'!A:K,10,FALSE)))","v":9788742642},{"$f":"IF(ISERROR(VLOOKUP($E38&\"F\",'INDIVIDUAL SCORES DATA'!$A$16:$Q$3400,16,FALSE)),\"\",VLOOKUP($E38&\"F\",'INDIVIDUAL SCORES DATA'!$A$16:$Q$3400,16,FALSE))","v":12},{"$f":"IF(ISERROR(VLOOKUP($E38&\"F\",'INDIVIDUAL SCORES DATA'!$A$16:$Q$5600,15,FALSE)),\"\",VLOOKUP($E38&\"F\",'INDIVIDUAL SCORES DATA'!$A$16:$Q$3400,15,FALSE))","v":50},{"$f":"IF(ISERROR(VLOOKUP($E38&\"F\",'INDIVIDUAL SCORES DATA'!$A$16:$Q$3400,17,FALSE)),\"\",VLOOKUP($E38&\"F\",'INDIVIDUAL SCORES DATA'!$A$16:$Q$5600,17,FALSE))","v":"05/10/17"}]
[null,null,null,"Sub28",{"$f":"IF(ISERROR(VLOOKUP(D39,'LEAGUE MEMBERSHIP'!B:K,8,FALSE)),\"\",VLOOKUP(D39,'LEAGUE MEMBERSHIP'!B:K,8,FALSE))","v":"RGL-044"},{"$f":"IF(ISERROR(VLOOKUP($E39,'LEAGUE MEMBERSHIP'!A:K,6,FALSE)),\"\",VLOOKUP($E39,'LEAGUE MEMBERSHIP'!A:K,6,FALSE))","v":"Scott Leavenworth"},{"$f":"IF(ISERROR(VLOOKUP($E39,'LEAGUE MEMBERSHIP'!A:K,10,FALSE)),\"\",IF(VLOOKUP($E39,'LEAGUE MEMBERSHIP'!A:K,10,FALSE)=\"\",\"\",VLOOKUP($E39,'LEAGUE MEMBERSHIP'!A:K,10,FALSE)))","v":""},{"$f":"IF(ISERROR(VLOOKUP($E39&\"F\",'INDIVIDUAL SCORES DATA'!$A$16:$Q$3400,16,FALSE)),\"\",VLOOKUP($E39&\"F\",'INDIVIDUAL SCORES DATA'!$A$16:$Q$3400,16,FALSE))","v":18},{"$f":"IF(ISERROR(VLOOKUP($E39&\"F\",'INDIVIDUAL SCORES DATA'!$A$16:$Q$5600,15,FALSE)),\"\",VLOOKUP($E39&\"F\",'INDIVIDUAL SCORES DATA'!$A$16:$Q$3400,15,FALSE))","v":59},{"$f":"IF(ISERROR(VLOOKUP($E39&\"F\",'INDIVIDUAL SCORES DATA'!$A$16:$Q$3400,17,FALSE)),\"\",VLOOKUP($E39&\"F\",'INDIVIDUAL SCORES DATA'!$A$16:$Q$5600,17,FALSE))","v":"05/24/17"}]
[null,null,null,"Sub29",{"$f":"IF(ISERROR(VLOOKUP(D40,'LEAGUE MEMBERSHIP'!B:K,8,FALSE)),\"\",VLOOKUP(D40,'LEAGUE MEMBERSHIP'!B:K,8,FALSE))","v":"RGL-004"},{"$f":"IF(ISERROR(VLOOKUP($E40,'LEAGUE MEMBERSHIP'!A:K,6,FALSE)),\"\",VLOOKUP($E40,'LEAGUE MEMBERSHIP'!A:K,6,FALSE))","v":"Dave DiGiovanni"},{"$f":"IF(ISERROR(VLOOKUP($E40,'LEAGUE MEMBERSHIP'!A:K,10,FALSE)),\"\",IF(VLOOKUP($E40,'LEAGUE MEMBERSHIP'!A:K,10,FALSE)=\"\",\"\",VLOOKUP($E40,'LEAGUE MEMBERSHIP'!A:K,10,FALSE)))","v":""},{"$f":"IF(ISERROR(VLOOKUP($E40&\"F\",'INDIVIDUAL SCORES DATA'!$A$16:$Q$3400,16,FALSE)),\"\",VLOOKUP($E40&\"F\",'INDIVIDUAL SCORES DATA'!$A$16:$Q$3400,16,FALSE))","v":5},{"$f":"IF(ISERROR(VLOOKUP($E40&\"F\",'INDIVIDUAL SCORES DATA'!$A$16:$Q$5600,15,FALSE)),\"\",VLOOKUP($E40&\"F\",'INDIVIDUAL SCORES DATA'!$A$16:$Q$3400,15,FALSE))","v":46},{"$f":"IF(ISERROR(VLOOKUP($E40&\"F\",'INDIVIDUAL SCORES DATA'!$A$16:$Q$3400,17,FALSE)),\"\",VLOOKUP($E40&\"F\",'INDIVIDUAL SCORES DATA'!$A$16:$Q$5600,17,FALSE))","v":"07/19/17"}]
[null,null,null,"Sub30",{"$f":"IF(ISERROR(VLOOKUP(D41,'LEAGUE MEMBERSHIP'!B:K,8,FALSE)),\"\",VLOOKUP(D41,'LEAGUE MEMBERSHIP'!B:K,8,FALSE))","v":"RGL-042"},{"$f":"IF(ISERROR(VLOOKUP($E41,'LEAGUE MEMBERSHIP'!A:K,6,FALSE)),\"\",VLOOKUP($E41,'LEAGUE MEMBERSHIP'!A:K,6,FALSE))","v":"Alessandro Conte"},{"$f":"IF(ISERROR(VLOOKUP($E41,'LEAGUE MEMBERSHIP'!A:K,10,FALSE)),\"\",IF(VLOOKUP($E41,'LEAGUE MEMBERSHIP'!A:K,10,FALSE)=\"\",\"\",VLOOKUP($E41,'LEAGUE MEMBERSHIP'!A:K,10,FALSE)))","v":""},{"$f":"IF(ISERROR(VLOOKUP($E41&\"F\",'INDIVIDUAL SCORES DATA'!$A$16:$Q$3400,16,FALSE)),\"\",VLOOKUP($E41&\"F\",'INDIVIDUAL SCORES DATA'!$A$16:$Q$3400,16,FALSE))","v":6},{"$f":"IF(ISERROR(VLOOKUP($E41&\"F\",'INDIVIDUAL SCORES DATA'!$A$16:$Q$5600,15,FALSE)),\"\",VLOOKUP($E41&\"F\",'INDIVIDUAL SCORES DATA'!$A$16:$Q$3400,15,FALSE))","v":50},{"$f":"IF(ISERROR(VLOOKUP($E41&\"F\",'INDIVIDUAL SCORES DATA'!$A$16:$Q$3400,17,FALSE)),\"\",VLOOKUP($E41&\"F\",'INDIVIDUAL SCORES DATA'!$A$16:$Q$5600,17,FALSE))","v":"08/23/17"}]

{"sheet":"LOW SCORES TABLE","index":23,"n_rows":90,"n_cols":13,"rows_kept":90,"cut":false,"hidden":false,"merged":[]}
["No. Count"]
[1,1,null,null,1,1,null,null,null,1,1]
["Men","Score","Rank",null,"Women","Score","Rank",null,null,"Men",null,null,"Women"]
[null,null,{"$f":"IFERROR(RANK(B4,B$4:B$90,1),\"\")","v":""},null,null,null,{"$f":"IFERROR(RANK(F4,F$4:F$90,1),\"\")","v":""},null,null,{"$f":"IF(A4<>\"\",A4&\" - \"&B4,\"\")","v":""},null,null,{"$f":"IF(E4<>\"\",E4&\" - \"&F4,\"\")","v":""}]
[null,null,"",null,null,null,"",null,null,{"$f":"IF(A5<>\"\",A5&\" - \"&B5,\"\")","v":""},null,null,{"$f":"IF(E5<>\"\",E5&\" - \"&F5,\"\")","v":""}]
[null,null,"",null,null,null,"",null,null,"",null,null,""]
[null,null,"",null,null,null,"",null,null,"",null,null,""]
[null,null,{"$f":"IFERROR(RANK(B8,B$4:B$90,1),\"\")","v":""},null,null,null,"",null,null,"",null,null,""]
[null,null,"",null,null,null,"",null,null,"",null,null,""]
[null,null,"",null,null,null,"",null,null,"",null,null,""]
[null,null,"",null,null,null,"",null,null,"",null,null,""]
[null,null,"",null,null,null,"",null,null,"",null,null,""]
[null,null,"",null,null,null,"",null,null,"",null,null,""]
[null,null,"",null,null,null,"",null,null,"",null,null,""]
[null,null,"",null,null,null,"",null,null,"",null,null,""]
[null,null,"",null,null,null,"",null,null,"",null,null,""]
[null,null,"",null,null,null,"",null,null,"",null,null,""]
[null,null,"",null,null,null,"",null,null,"",null,null,""]
[null,null,"",null,null,null,"",null,null,"",null,null,""]
[null,null,"",null,null,null,"",null,null,"",null,null,""]
[null,null,"",null,null,null,"",null,null,"",null,null,""]
[null,null,"",null,null,null,"",null,null,"",null,null,""]
[null,null,"",null,null,null,"",null,null,"",null,null,""]
[null,null,"",null,null,null,"",null,null,"",null,null,""]
[null,null,"",null,null,null,"",null,null,"",null,null,""]
[null,null,"",null,null,null,"",null,null,"",null,null,""]
[null,null,"",null,null,null,"",null,null,"",null,null,""]
[null,null,"",null,null,null,"",null,null,"",null,null,""]
[null,null,"",null,null,null,"",null,null,"",null,null,""]
[null,null,"",null,null,null,"",null,null,"",null,null,""]
[null,null,"",null,null,null,"",null,null,"",null,null,""]
[null,null,"",null,null,null,"",null,null,"",null,null,""]
[null,null,"",null,null,null,"",null,null,"",null,null,""]
[null,null,"",null,null,null,"",null,null,"",null,null,""]
[null,null,"",null,null,null,"",null,null,"",null,null,""]
[null,null,{"$f":"IFERROR(RANK(B36,B$4:B$90,1),\"\")","v":""},null,null,null,{"$f":"IFERROR(RANK(F36,F$4:F$90,1),\"\")","v":""},null,null,"",null,null,""]
[null,null,"",null,null,null,"",null,null,"",null,null,""]
[null,null,"",null,null,null,"",null,null,"",null,null,""]
[null,null,"",null,null,null,"",null,null,"",null,null,""]
[null,null,"",null,null,null,"",null,null,"",null,null,""]
[null,null,"",null,null,null,"",null,null,"",null,null,""]
[null,null,"",null,null,null,"",null,null,"",null,null,""]
[null,null,"",null,null,null,"",null,null,"",null,null,""]
[null,null,"",null,null,null,"",null,null,"",null,null,""]
[null,null,"",null,null,null,"",null,null,"",null,null,""]
[null,null,"",null,null,null,"",null,null,"",null,null,""]
[null,null,"",null,null,null,"",null,null,"",null,null,""]
[null,null,"",null,null,null,"",null,null,"",null,null,""]
[null,null,"",null,null,null,""]
[null,null,"",null,null,null,""]
[null,null,"",null,null,null,""]
[null,null,"",null,null,null,""]
[null,null,"",null,null,null,""]
[null,null,"",null,null,null,""]
[null,null,"",null,null,null,""]
[null,null,"",null,null,null,""]
[null,null,"",null,null,null,""]
[null,null,"",null,null,null,""]
[null,null,"",null,null,null,""]
[null,null,"",null,null,null,""]
[null,null,"",null,null,null,""]
[null,null,"",null,null,null,""]
[null,null,"",null,null,null,""]
[null,null,"",null,null,null,""]
[null,null,"",null,null,null,""]
[null,null,"",null,null,null,""]
[null,null,"",null,null,null,""]
[null,null,{"$f":"IFERROR(RANK(B68,B$4:B$90,1),\"\")","v":""},null,null,null,{"$f":"IFERROR(RANK(F68,F$4:F$90,1),\"\")","v":""}]
[null,null,"",null,null,null,""]
[null,null,"",null,null,null,""]
[null,null,"",null,null,null,""]
[null,null,"",null,null,null,""]
[null,null,"",null,null,null,""]
[null,null,"",null,null,null,""]
[null,null,"",null,null,null,""]
[null,null,"",null,null,null,""]
[null,null,"",null,null,null,""]
[null,null,"",null,null,null,""]
[null,null,"",null,null,null,""]
[null,null,"",null,null,null,""]
[null,null,"",null,null,null,""]
[null,null,"",null,null,null,""]
[null,null,"",null,null,null,""]
[null,null,"",null,null,null,""]
[null,null,"",null,null,null,""]
[null,null,"",null,null,null,""]
[null,null,"",null,null,null,""]
[null,null,"",null,null,null,""]
[null,null,"",null,null,null,""]
[null,null,"",null,null,null,""]

{"sheet":"Sheet1","index":24,"n_rows":39,"n_cols":20,"rows_kept":39,"cut":false,"hidden":false,"merged":[[11,7,11,9],[10,7,10,9],[1,0,1,5],[3,1,3,4],[4,1,4,4],[5,1,5,4],[6,1,6,4],[1,7,1,9],[2,7,2,9],[7,1,7,4],[8,1,8,4],[7,7,7,9],[6,7,6,9],[5,7,5,9],[4,7,4,9],[3,7,3,9],[9,7,9,9],[8,7,8,9],[9,1,9,4],[25,1,25,4],[24,1,24,4],[23,1,23,4],[22,1,22,4],[21,1,21,4],[20,1,20,4],[19,1,19,4],[18,1,18,4],[15,7,15,9],[17,7,17,9],[16,7,16,9],[17,1,17,4],[16,1,16,4],[15,1,15,4],[14,1,14,4],[13,1,13,4],[12,1,12,4],[11,1,11,4],[10,1,10,4],[13,7,13,9],[12,7,12,9],[1,11,1,19],[3,12,3,13],[3,17,3,18],[4,12,4,13],[4,17,4,18],[8,12,8,13],[8,17,8,18],[9,12,9,13],[9,17,9,18],[10,12,10,13],[10,17,10,18],[5,12,5,13],[5,17,5,18],[6,12,6,13],[6,17,6,18],[7,12,7,13],[7,17,7,18],[14,12,14,13],[14,17,14,18],[15,12,15,13],[15,17,15,18],[16,12,16,13],[16,17,16,18],[11,12,11,13],[11,17,11,18],[12,12,12,13],[12,17,12,18],[13,12,13,13],[13,17,13,18],[20,12,20,13],[20,17,20,18],[21,12,21,13],[21,17,21,18],[22,12,22,13],[22,17,22,18],[17,12,17,13],[17,17,17,18],[18,12,18,13],[18,17,18,18],[19,12,19,13],[19,17,19,18],[26,12,26,13],[26,17,26,18],[27,12,27,13],[27,17,27,18],[28,12,28,13],[28,17,28,18],[23,12,23,13],[23,17,23,18],[24,12,24,13],[24,17,24,18],[25,12,25,13],[25,17,25,18],[40,0,40,10],[38,12,38,13],[38,17,38,18],[35,12,35,13],[35,17,35,18],[36,12,36,13],[36,17,36,18],[37,12,37,13],[37,17,37,18],[32,12,32,13],[32,17,32,18],[33,12,33,13],[33,17,33,18],[34,12,34,13],[34,17,34,18],[29,12,29,13],[29,17,29,18],[30,12,30,13],[30,17,30,18],[31,12,31,13],[31,17,31,18]]}
[]
[{"$f":"MAIN!F8","v":"Standings After Week of 08/23/17"},null,null,null,null,null,null,{"$f":"MAIN!N8","v":"Match Results - Week of 08/23/17"},null,null,null,{"$f":"MAIN!T8","v":"Current Handicaps After Week of 08/23/17"}]
[]
[{"$f":"MAIN!F10","v":"Rank"},{"$f":"MAIN!G10","v":"Team"},null,null,null,{"$f":"MAIN!L10","v":"Points"},null,{"$f":"MAIN!N10","v":"Gamache/Bouvier d. Pavone/Beliveau, 6.0 - 3.0"},null,null,null,{"$f":"MAIN!T10","v":"1A"},{"$f":"MAIN!U10","v":"John Normandin"},null,{"$f":"MAIN!W10","v":18},null,{"$f":"MAIN!Y10","v":"1B"},{"$f":"MAIN!Z10","v":"Pete Normandin"},null,{"$f":"MAIN!AB10","v":17}]
[{"$f":"MAIN!F11","v":1},{"$f":"MAIN!G11","v":"Team 10"},null,null,null,{"$f":"MAIN!L11","v":44},null,{"$f":"MAIN!N11","v":"Haskins/Conte d. Normandin/Normandin, 6.0 - 3.0"},null,null,null,{"$f":"MAIN!T11","v":"2A"},{"$f":"MAIN!U11","v":"Jono Normandin"},null,{"$f":"MAIN!W11","v":7},null,{"$f":"MAIN!Y11","v":"2B"},{"$f":"MAIN!Z11","v":"Nathan Wallace"},null,{"$f":"MAIN!AB11","v":11}]
[{"$f":"MAIN!F12","v":"2T"},{"$f":"MAIN!G12","v":"Team 11"},null,null,null,{"$f":"MAIN!L12","v":37},null,{"$f":"MAIN!N12","v":"Fontaine/Romano III d. Lawrence/Benson, 7.5 - 1.5"},null,null,null,{"$f":"MAIN!T12","v":"3A"},{"$f":"MAIN!U12","v":"Pete Romano"},null,{"$f":"MAIN!W12","v":17},null,{"$f":"MAIN!Y12","v":"3B"},{"$f":"MAIN!Z12","v":"Don Frigoletto"},null,{"$f":"MAIN!AB12","v":14}]
[{"$f":"MAIN!F13","v":"2T"},{"$f":"MAIN!G13","v":"Team 14"},null,null,null,{"$f":"MAIN!L13","v":37},null,{"$f":"MAIN!N13","v":"Leavenworth/Leavenworth d. Doane/Cassin, 7.5 - 1.5"},null,null,null,{"$f":"MAIN!T13","v":"4A"},{"$f":"MAIN!U13","v":"Peg Romano"},null,{"$f":"MAIN!W13","v":13},null,{"$f":"MAIN!Y13","v":"4B"},{"$f":"MAIN!Z13","v":"Lynn Laroche"},null,{"$f":"MAIN!AB13","v":18}]
[{"$f":"MAIN!F14","v":"4T"},{"$f":"MAIN!G14","v":"Team 07"},null,null,null,{"$f":"MAIN!L14","v":36.5},null,{"$f":"MAIN!N14","v":"Ekstrom/Romano d. O'Loughlin/Romano, 7.5 - 1.5"},null,null,null,{"$f":"MAIN!T14","v":"5A"},{"$f":"MAIN!U14","v":"Dennis Normandin"},null,{"$f":"MAIN!W14","v":10},null,{"$f":"MAIN!Y14","v":"5B"},{"$f":"MAIN!Z14","v":"Mark Normandin"},null,{"$f":"MAIN!AB14","v":6}]
[{"$f":"MAIN!F15","v":"4T"},{"$f":"MAIN!G15","v":"Team 15"},null,null,null,{"$f":"MAIN!L15","v":36.5},null,{"$f":"MAIN!N15","v":"Normandin/Wallace d. Romano/Laroche, 6.0 - 3.0"},null,null,null,{"$f":"MAIN!T15","v":"6A"},{"$f":"MAIN!U15","v":"Vance Butterfield"},null,{"$f":"MAIN!W15","v":6},null,{"$f":"MAIN!Y15","v":"6B"},{"$f":"MAIN!Z15","v":"Bob Schleyer"},null,{"$f":"MAIN!AB15","v":8}]
[{"$f":"MAIN!F16","v":"6T"},{"$f":"MAIN!G16","v":"Team 08"},null,null,null,{"$f":"MAIN!L16","v":32},null,{"$f":"MAIN!N16","v":"Fairbanks/Fairbanks d. Hurley/Drake, 6.5 - 2.5"},null,null,null,{"$f":"MAIN!T16","v":"7A"},{"$f":"MAIN!U16","v":"John Fairbanks"},null,{"$f":"MAIN!W16","v":8},null,{"$f":"MAIN!Y16","v":"7B"},{"$f":"MAIN!Z16","v":"Debbie Fairbanks"},null,{"$f":"MAIN!AB16","v":14}]
[{"$f":"MAIN!F17","v":"6T"},{"$f":"MAIN!G17","v":"Team 13"},null,null,null,{"$f":"MAIN!L17","v":32},null,{"$f":"MAIN!N17","v":"Normandin/Normandin d. Romano/Frigoletto, 5.5 - 3.5"},null,null,null,{"$f":"MAIN!T17","v":"8A"},{"$f":"MAIN!U17","v":"Steve Lawrence"},null,{"$f":"MAIN!W17","v":5},null,{"$f":"MAIN!Y17","v":"8B"},{"$f":"MAIN!Z17","v":"Mike Benson"},null,{"$f":"MAIN!AB17","v":17}]
[{"$f":"MAIN!F18","v":"6T"},{"$f":"MAIN!G18","v":"Team 20"},null,null,null,{"$f":"MAIN!L18","v":32},null,{"$f":"MAIN!N18","v":"Sundstrom/Hoy d. Ekstrom/Dauphinais, 5.5 - 3.5"},null,null,null,{"$f":"MAIN!T18","v":"9A"},{"$f":"MAIN!U18","v":"Mike Doane"},null,{"$f":"MAIN!W18","v":16},null,{"$f":"MAIN!Y18","v":"9B"},{"$f":"MAIN!Z18","v":"John Cassin"},null,{"$f":"MAIN!AB18","v":10}]
[{"$f":"MAIN!F19","v":9},{"$f":"MAIN!G19","v":"Team 06"},null,null,null,{"$f":"MAIN!L19","v":31.5},null,{"$f":"MAIN!N19","v":"Butterfield/Schleyer d. Ciufetti/Nivala, 5.0 - 0.0"},null,null,null,{"$f":"MAIN!T19","v":"10A"},{"$f":"MAIN!U19","v":"Ron Ekstrom"},null,{"$f":"MAIN!W19","v":1},null,{"$f":"MAIN!Y19","v":"10B"},{"$f":"MAIN!Z19","v":"Beth Romano"},null,{"$f":"MAIN!AB19","v":10}]
[{"$f":"MAIN!F20","v":"10T"},{"$f":"MAIN!G20","v":"Team 03"},null,null,null,{"$f":"MAIN!L20","v":31},null,{"$f":"MAIN!N20","v":0},null,null,null,{"$f":"MAIN!T20","v":"11A"},{"$f":"MAIN!U20","v":"Jim Haskins"},null,{"$f":"MAIN!W20","v":9},null,{"$f":"MAIN!Y20","v":"11B"},{"$f":"MAIN!Z20","v":"Anthony Conte"},null,{"$f":"MAIN!AB20","v":13}]
[{"$f":"MAIN!F21","v":"10T"},{"$f":"MAIN!G21","v":"Team 05"},null,null,null,{"$f":"MAIN!L21","v":31},null,null,null,null,null,{"$f":"MAIN!T21","v":"12A"},{"$f":"MAIN!U21","v":"Sal Ciufetti"},null,{"$f":"MAIN!W21","v":12},null,{"$f":"MAIN!Y21","v":"12B"},{"$f":"MAIN!Z21","v":"Kevin Nivala"},null,{"$f":"MAIN!AB21","v":10}]
[{"$f":"MAIN!F22","v":12},{"$f":"MAIN!G22","v":"Team 17"},null,null,null,{"$f":"MAIN!L22","v":28.5},null,{"$f":"LEFT(MAIN!F32,FIND(\" - \",MAIN!F32))","v":"Closest to the Pin "},null,null,null,{"$f":"MAIN!T22","v":"13A"},{"$f":"MAIN!U22","v":"Tim Hurley"},null,{"$f":"MAIN!W22","v":8},null,{"$f":"MAIN!Y22","v":"13B"},{"$f":"MAIN!Z22","v":"Walter Drake"},null,{"$f":"MAIN!AB22","v":15}]
[{"$f":"MAIN!F23","v":13},{"$f":"MAIN!G23","v":"Team 02"},null,null,null,{"$f":"MAIN!L23","v":28},null,{"$f":"RIGHT(MAIN!F32,LEN(MAIN!F32)-FIND(\" - \",MAIN!F33)-2)","v":"to the Pin - Week of 08/23/17"},null,null,null,{"$f":"MAIN!T23","v":"14A"},{"$f":"MAIN!U23","v":"Paul Fontaine"},null,{"$f":"MAIN!W23","v":3},null,{"$f":"MAIN!Y23","v":"14B"},{"$f":"MAIN!Z23","v":"Ralph Romano III"},null,{"$f":"MAIN!AB23","v":8}]
[{"$f":"MAIN!F24","v":"14T"},{"$f":"MAIN!G24","v":"Team 01"},null,null,null,{"$f":"MAIN!L24","v":27.5},null,"Ralph Romano III   -   15' 2\"",null,null,null,{"$f":"MAIN!T24","v":"15A"},{"$f":"MAIN!U24","v":"Gary Leavenworth"},null,{"$f":"MAIN!W24","v":5},null,{"$f":"MAIN!Y24","v":"15B"},{"$f":"MAIN!Z24","v":"Patty Leavenworth"},null,{"$f":"MAIN!AB24","v":8}]
[{"$f":"MAIN!F25","v":"14T"},{"$f":"MAIN!G25","v":"Team 16"},null,null,null,{"$f":"MAIN!L25","v":27.5},null,null,null,null,null,{"$f":"MAIN!T25","v":"16A"},{"$f":"MAIN!U25","v":"Kevin O'Loughlin"},null,{"$f":"MAIN!W25","v":18},null,{"$f":"MAIN!Y25","v":"16B"},{"$f":"MAIN!Z25","v":"Mike Romano"},null,{"$f":"MAIN!AB25","v":13}]
[{"$f":"MAIN!F26","v":"16T"},{"$f":"MAIN!G26","v":"Team 09"},null,null,null,{"$f":"MAIN!L26","v":26.5},null,null,null,null,null,{"$f":"MAIN!T26","v":"17A"},{"$f":"MAIN!U26","v":"Carol Ekstrom"},null,{"$f":"MAIN!W26","v":14},null,{"$f":"MAIN!Y26","v":"17B"},{"$f":"MAIN!Z26","v":"Mike Dauphinais"},null,{"$f":"MAIN!AB26","v":9}]
[{"$f":"MAIN!F27","v":"16T"},{"$f":"MAIN!G27","v":"Team 19"},null,null,null,{"$f":"MAIN!L27","v":26.5},null,null,null,null,null,{"$f":"MAIN!T27","v":"18A"},{"$f":"MAIN!U27","v":"Norm Gamache"},null,{"$f":"MAIN!W27","v":11},null,{"$f":"MAIN!Y27","v":"18B"},{"$f":"MAIN!Z27","v":"Michelle Bouvier"},null,{"$f":"MAIN!AB27","v":23}]
[{"$f":"MAIN!F28","v":18},{"$f":"MAIN!G28","v":"Team 04"},null,null,null,{"$f":"MAIN!L28","v":26},null,null,null,null,null,{"$f":"MAIN!T28","v":"19A"},{"$f":"MAIN!U28","v":"John Pavone"},null,{"$f":"MAIN!W28","v":15},null,{"$f":"MAIN!Y28","v":"19B"},{"$f":"MAIN!Z28","v":"Ernie Beliveau"},null,{"$f":"MAIN!AB28","v":18}]
[{"$f":"MAIN!F29","v":19},{"$f":"MAIN!G29","v":"Team 18"},null,null,null,{"$f":"MAIN!L29","v":24.5},null,null,null,null,null,{"$f":"MAIN!T29","v":"20A"},{"$f":"MAIN!U29","v":"Sheila Sundstrom"},null,{"$f":"MAIN!W29","v":13},null,{"$f":"MAIN!Y29","v":"20B"},{"$f":"MAIN!Z29","v":"Ray Hoy"},null,{"$f":"MAIN!AB29","v":10}]
[{"$f":"MAIN!F30","v":20},{"$f":"MAIN!G30","v":"Team 12"},null,null,null,{"$f":"MAIN!L30","v":13}]
[{"$f":"MAIN!F31","v":0},{"$f":"MAIN!G31","v":0},null,null,null,{"$f":"MAIN!L31","v":0},null,null,null,null,null,{"$f":"MAIN!T32","v":"Sub1"},{"$f":"MAIN!U32","v":"P.J. Romano"},null,{"$f":"MAIN!W32","v":12},null,{"$f":"MAIN!Y32","v":"Sub16"},{"$f":"MAIN!Z32","v":"Becky Bartkus"},null,{"$f":"MAIN!AB32","v":9}]
[{"$f":"MAIN!#REF!","v":{"$error":"#REF!"}},{"$f":"MAIN!#REF!","v":{"$error":"#REF!"}},null,null,null,{"$f":"MAIN!L32","v":0},null,null,null,null,null,{"$f":"MAIN!T33","v":"Sub2"},{"$f":"MAIN!U33","v":"PJ Fontaine"},null,{"$f":"MAIN!W33","v":1},null,{"$f":"MAIN!Y33","v":"Sub17"},{"$f":"MAIN!Z33","v":"Dave Cormier"},null,{"$f":"MAIN!AB33","v":7}]
[null,null,null,null,null,null,null,null,null,null,null,{"$f":"MAIN!T34","v":"Sub3"},{"$f":"MAIN!U34","v":"Jim Hedlund"},null,{"$f":"MAIN!W34","v":16},null,{"$f":"MAIN!Y34","v":"Sub18"},{"$f":"MAIN!Z34","v":"Doug Cormier"},null,{"$f":"MAIN!AB34","v":8}]
[null,null,null,null,null,null,null,null,null,null,null,{"$f":"MAIN!T35","v":"Sub4"},{"$f":"MAIN!U35","v":"Don Shank"},null,{"$f":"MAIN!W35","v":4},null,{"$f":"MAIN!Y35","v":"Sub19"},{"$f":"MAIN!Z35","v":"Ed Robbins"},null,{"$f":"MAIN!AB35","v":1}]
[null,null,null,null,null,null,null,null,null,null,null,{"$f":"MAIN!T36","v":"Sub5"},{"$f":"MAIN!U36","v":"Tom Farias"},null,{"$f":"MAIN!W36","v":6},null,{"$f":"MAIN!Y36","v":"Sub20"},{"$f":"MAIN!Z36","v":"Mark Louney"},null,{"$f":"MAIN!AB36","v":10}]
[null,null,null,null,null,null,null,null,null,null,null,{"$f":"MAIN!T37","v":"Sub6"},{"$f":"MAIN!U37","v":"Joe Pearson"},null,{"$f":"MAIN!W37","v":12},null,{"$f":"MAIN!Y37","v":"Sub21"},{"$f":"MAIN!Z37","v":"Paul Stedman"},null,{"$f":"MAIN!AB37","v":4}]
[null,null,null,null,null,null,null,null,null,null,null,{"$f":"MAIN!T38","v":"Sub7"},{"$f":"MAIN!U38","v":"Dennis St. Jean"},null,{"$f":"MAIN!W38","v":7},null,{"$f":"MAIN!Y38","v":"Sub22"},{"$f":"MAIN!Z38","v":"Jan Hedlund"},null,{"$f":"MAIN!AB38","v":15}]
[null,null,null,null,null,null,null,null,null,null,null,{"$f":"MAIN!T39","v":"Sub8"},{"$f":"MAIN!U39","v":"Joe Fratticelli"},null,{"$f":"MAIN!W39","v":15},null,{"$f":"MAIN!Y39","v":"Sub23"},{"$f":"MAIN!Z39","v":"Brenda Louney"},null,{"$f":"MAIN!AB39","v":13}]
[null,null,null,null,null,null,null,null,null,null,null,{"$f":"MAIN!T40","v":"Sub9"},{"$f":"MAIN!U40","v":"Pete Collette"},null,{"$f":"MAIN!W40","v":6},null,{"$f":"MAIN!Y40","v":"Sub24"},{"$f":"MAIN!Z40","v":"Kyle Butterfield"},null,{"$f":"MAIN!AB40","v":13}]
[null,null,null,null,null,null,null,null,null,null,null,{"$f":"MAIN!T41","v":"Sub10"},{"$f":"MAIN!U41","v":"Ray Henderson"},null,{"$f":"MAIN!W41","v":5},null,{"$f":"MAIN!Y41","v":"Sub25"},{"$f":"MAIN!Z41","v":"Dave Flood"},null,{"$f":"MAIN!AB41","v":8}]
[null,null,null,null,null,null,null,null,null,null,null,{"$f":"MAIN!T42","v":"Sub11"},{"$f":"MAIN!U42","v":"Pete K Normandin"},null,{"$f":"MAIN!W42","v":0},null,{"$f":"MAIN!Y42","v":"Sub26"},{"$f":"MAIN!Z42","v":"Ann Goodwin"},null,{"$f":"MAIN!AB42","v":15}]
[null,null,null,null,null,null,null,null,null,null,null,{"$f":"MAIN!T43","v":"Sub12"},{"$f":"MAIN!U43","v":"Ron Brassard"},null,{"$f":"MAIN!W43","v":7},null,{"$f":"MAIN!Y43","v":"Sub27"},{"$f":"MAIN!Z43","v":"Gary Bittner"},null,{"$f":"MAIN!AB43","v":12}]
[null,null,null,null,null,null,null,null,null,null,null,{"$f":"MAIN!T44","v":"Sub13"},{"$f":"MAIN!U44","v":"Genie Ray Richard"},null,{"$f":"MAIN!W44","v":4},null,{"$f":"MAIN!Y44","v":"Sub28"},{"$f":"MAIN!Z44","v":"Scott Leavenworth"},null,{"$f":"MAIN!AB44","v":18}]
[null,null,null,null,null,null,null,null,null,null,null,{"$f":"MAIN!T45","v":"Sub14"},{"$f":"MAIN!U45","v":"John MacDonald"},null,{"$f":"MAIN!W45","v":10},null,{"$f":"MAIN!Y45","v":"Sub29"},{"$f":"MAIN!Z45","v":"Dave DiGiovanni"},null,{"$f":"MAIN!AB45","v":5}]
[null,null,null,null,null,null,null,null,null,null,null,{"$f":"MAIN!T46","v":"Sub15"},{"$f":"MAIN!U46","v":"Darryl Gagne"},null,{"$f":"MAIN!W46","v":8},null,{"$f":"MAIN!Y46","v":"Sub30"},{"$f":"MAIN!Z46","v":"Alessandro Conte"},null,{"$f":"MAIN!AB46","v":6}]

{"sheet":"Sheet2","index":25,"n_rows":0,"n_cols":0,"rows_kept":0,"cut":false,"hidden":false,"merged":[]}